BEGIN:VCALENDAR
VERSION:2.0
PRODID:-//jEvents 2.0 for Joomla//EN
CALSCALE:GREGORIAN
METHOD:PUBLISH
BEGIN:VTIMEZONE
TZID:Europe/London
BEGIN:STANDARD
DTSTART:20181028T010000
RDATE:20190331T020000
TZOFFSETFROM:+0100
TZOFFSETTO:+0000
TZNAME:Europe/London GMT
END:STANDARD
BEGIN:STANDARD
DTSTART:20191027T010000
RDATE:20200329T020000
TZOFFSETFROM:+0100
TZOFFSETTO:+0000
TZNAME:Europe/London GMT
END:STANDARD
BEGIN:STANDARD
DTSTART:20201025T010000
RDATE:20210328T020000
TZOFFSETFROM:+0100
TZOFFSETTO:+0000
TZNAME:Europe/London GMT
END:STANDARD
BEGIN:STANDARD
DTSTART:20211031T010000
RDATE:20220327T020000
TZOFFSETFROM:+0100
TZOFFSETTO:+0000
TZNAME:Europe/London GMT
END:STANDARD
BEGIN:STANDARD
DTSTART:20221030T010000
RDATE:20230326T020000
TZOFFSETFROM:+0100
TZOFFSETTO:+0000
TZNAME:Europe/London GMT
END:STANDARD
BEGIN:STANDARD
DTSTART:20231029T010000
RDATE:20240331T020000
TZOFFSETFROM:+0100
TZOFFSETTO:+0000
TZNAME:Europe/London GMT
END:STANDARD
BEGIN:STANDARD
DTSTART:20241027T010000
RDATE:20250330T020000
TZOFFSETFROM:+0100
TZOFFSETTO:+0000
TZNAME:Europe/London GMT
END:STANDARD
BEGIN:STANDARD
DTSTART:20251026T010000
RDATE:20260329T020000
TZOFFSETFROM:+0100
TZOFFSETTO:+0000
TZNAME:Europe/London GMT
END:STANDARD
BEGIN:STANDARD
DTSTART:20261025T010000
RDATE:20270328T020000
TZOFFSETFROM:+0100
TZOFFSETTO:+0000
TZNAME:Europe/London GMT
END:STANDARD
BEGIN:STANDARD
DTSTART:20271031T010000
RDATE:20280326T020000
TZOFFSETFROM:+0100
TZOFFSETTO:+0000
TZNAME:Europe/London GMT
END:STANDARD
BEGIN:STANDARD
DTSTART:20281029T010000
RDATE:20290325T020000
TZOFFSETFROM:+0100
TZOFFSETTO:+0000
TZNAME:Europe/London GMT
END:STANDARD
BEGIN:STANDARD
DTSTART:20291028T010000
RDATE:20300331T020000
TZOFFSETFROM:+0100
TZOFFSETTO:+0000
TZNAME:Europe/London GMT
END:STANDARD
BEGIN:STANDARD
DTSTART:20301027T010000
RDATE:20310330T020000
TZOFFSETFROM:+0100
TZOFFSETTO:+0000
TZNAME:Europe/London GMT
END:STANDARD
BEGIN:DAYLIGHT
DTSTART:20180531T000000
RDATE:20181028T010000
TZOFFSETFROM:+0000
TZOFFSETTO:+0100
TZNAME:Europe/London BST
END:DAYLIGHT
BEGIN:DAYLIGHT
DTSTART:20190331T020000
RDATE:20191027T010000
TZOFFSETFROM:+0000
TZOFFSETTO:+0100
TZNAME:Europe/London BST
END:DAYLIGHT
BEGIN:DAYLIGHT
DTSTART:20200329T020000
RDATE:20201025T010000
TZOFFSETFROM:+0000
TZOFFSETTO:+0100
TZNAME:Europe/London BST
END:DAYLIGHT
BEGIN:DAYLIGHT
DTSTART:20210328T020000
RDATE:20211031T010000
TZOFFSETFROM:+0000
TZOFFSETTO:+0100
TZNAME:Europe/London BST
END:DAYLIGHT
BEGIN:DAYLIGHT
DTSTART:20220327T020000
RDATE:20221030T010000
TZOFFSETFROM:+0000
TZOFFSETTO:+0100
TZNAME:Europe/London BST
END:DAYLIGHT
BEGIN:DAYLIGHT
DTSTART:20230326T020000
RDATE:20231029T010000
TZOFFSETFROM:+0000
TZOFFSETTO:+0100
TZNAME:Europe/London BST
END:DAYLIGHT
BEGIN:DAYLIGHT
DTSTART:20240331T020000
RDATE:20241027T010000
TZOFFSETFROM:+0000
TZOFFSETTO:+0100
TZNAME:Europe/London BST
END:DAYLIGHT
BEGIN:DAYLIGHT
DTSTART:20250330T020000
RDATE:20251026T010000
TZOFFSETFROM:+0000
TZOFFSETTO:+0100
TZNAME:Europe/London BST
END:DAYLIGHT
BEGIN:DAYLIGHT
DTSTART:20260329T020000
RDATE:20261025T010000
TZOFFSETFROM:+0000
TZOFFSETTO:+0100
TZNAME:Europe/London BST
END:DAYLIGHT
BEGIN:DAYLIGHT
DTSTART:20270328T020000
RDATE:20271031T010000
TZOFFSETFROM:+0000
TZOFFSETTO:+0100
TZNAME:Europe/London BST
END:DAYLIGHT
BEGIN:DAYLIGHT
DTSTART:20280326T020000
RDATE:20281029T010000
TZOFFSETFROM:+0000
TZOFFSETTO:+0100
TZNAME:Europe/London BST
END:DAYLIGHT
BEGIN:DAYLIGHT
DTSTART:20290325T020000
RDATE:20291028T010000
TZOFFSETFROM:+0000
TZOFFSETTO:+0100
TZNAME:Europe/London BST
END:DAYLIGHT
BEGIN:DAYLIGHT
DTSTART:20300331T020000
RDATE:20301027T010000
TZOFFSETFROM:+0000
TZOFFSETTO:+0100
TZNAME:Europe/London BST
END:DAYLIGHT
END:VTIMEZONE
BEGIN:VEVENT
UID:e41e2c2552ae5b2d8ccba684768cd5e5
CATEGORIES:North
CREATED:20181016T213244
SUMMARY:Outing to Hampshire
LOCATION:Hampshire
URL;VALUE=URI:https://www.scacr.org/news-events/calendar/462/outing-to-hampshire?tmpl=com
 ponent
DESCRIPTION:All welcome on the Northern District Outing, including people from other Di
 stricts!  Ringing will be rounds onwards - you should be able to ring in ro
 unds unassisted, without bumping the stay.\nThere is a great mix of towers,
  including Northington - Hampshire's newest 6!  Please arrange your own tra
 nsport (and car share where possible). Full details in the poster (media/co
 m_acymailing/upload/2019_06_outing_hampshire_poster.pdf) and below:  \n9.15
  – 9.55      St. John the Baptist, Purbrook: 6, 5-1-7 (SU672080) Car park t
 o rear of church\n10.20 – 11.05   St. Peter, Soberton: 8, 13-1-24 (SU609168
 )\n11.20 – 12        St. Barnabas, Swanmore: 6, 6-3-20 (SU576164) Ringing p
 rior to service\nLunch: Rising Sun, Swanmore (SU580159 or SO32 2PS) - No ne
 ed to pre-order food but please send names for those intending to have lunc
 h to Jeremy Alford (This email address is being protected from spambots. Yo
 u need JavaScript enabled to view it.
				document.getElementById('cloak4a1
 a4f28df6b3df65f7af821cdc426b6').innerHTML = '';
				var prefix = '&#109;a' 
 + 'i&#108;' + '&#116;o';
				var path = 'hr' + 'ef' + '=';
				var addy4a1a
 4f28df6b3df65f7af821cdc426b6 = 'th&#101;&#97;lf&#111;rds' + '&#64;';
				ad
 dy4a1a4f28df6b3df65f7af821cdc426b6 = addy4a1a4f28df6b3df65f7af821cdc426b6 +
  'dsl' + '&#46;' + 'p&#105;p&#101;x' + '&#46;' + 'c&#111;m';
				var addy_t
 ext4a1a4f28df6b3df65f7af821cdc426b6 = 'th&#101;&#97;lf&#111;rds' + '&#64;' 
 + 'dsl' + '&#46;' + 'p&#105;p&#101;x' + '&#46;' + 'c&#111;m';document.getEl
 ementById('cloak4a1a4f28df6b3df65f7af821cdc426b6').innerHTML += '<a ' + pat
 h + '\'' + prefix + ':' + addy4a1a4f28df6b3df65f7af821cdc426b6 + '\'>'+addy
 _text4a1a4f28df6b3df65f7af821cdc426b6+'';
		) by Tuesday 28th May as tables
  are being reserved.\n2.15 – 2.55      St. Nicholas, Bishop’s Sutton: 5, 7-
 3-0 (SU605320)\n3.10 – 3.50      St. John the Evangelist, Northington: 6, 6
 -0-14 (SU564373) Hampshire’s newest 6!\nTea: Kudos Coffee, 3 Church Street,
  Whitchurch (SU463480 or RG28 7AD)\n5.10 – 6.10       All Hallows, Whitchur
 ch: 10, 26-1-4 (SU459477) Room for 4 cars in lay-by in front of church; the
 re is a gateway opposite the church with room for 8 further cars towards th
 e Vicarage.  Toilet available.\nPlease give names for pub lunch to Jeremy (
 This email address is being protected from spambots. You need JavaScript en
 abled to view it.
				document.getElementById('cloak6941b5b1f5188ab2ca1e05c
 5d4a0a945').innerHTML = '';
				var prefix = '&#109;a' + 'i&#108;' + '&#116
 ;o';
				var path = 'hr' + 'ef' + '=';
				var addy6941b5b1f5188ab2ca1e05c5
 d4a0a945 = 'th&#101;&#97;lf&#111;rds' + '&#64;';
				addy6941b5b1f5188ab2ca
 1e05c5d4a0a945 = addy6941b5b1f5188ab2ca1e05c5d4a0a945 + 'dsl' + '&#46;' + '
 p&#105;p&#101;x' + '&#46;' + 'c&#111;m';
				var addy_text6941b5b1f5188ab2c
 a1e05c5d4a0a945 = 'th&#101;&#97;lf&#111;rds' + '&#64;' + 'dsl' + '&#46;' + 
 'p&#105;p&#101;x' + '&#46;' + 'c&#111;m';document.getElementById('cloak6941
 b5b1f5188ab2ca1e05c5d4a0a945').innerHTML += '<a ' + path + '\'' + prefix + 
 ':' + addy6941b5b1f5188ab2ca1e05c5d4a0a945 + '\'>'+addy_text6941b5b1f5188ab
 2ca1e05c5d4a0a945+'';
		) by Tuesday 28th May, as the pub needs to know num
 bers. Note that you need to arrange your own transport; please car share as
  much as possible as some villages have limited parking.\nMany thanks to Je
 remy for organising the outing!\n This event was imported from: https://www
 .scacr.org/news-events/calendar/462/outing-to-hampshire?tmpl=component (htt
 ps://www.scacr.org/news-events/calendar/462/outing-to-hampshire?tmpl=compon
 ent)
X-ALT-DESC;FMTTYPE=text/html:<p>All welcome on the Northern District Outing, including people from other
  Districts!&nbsp; Ringing will be rounds onwards - you should be able to ri
 ng in rounds unassisted, without bumping the stay.</p><p>There is a great m
 ix of towers, including Northington - Hampshire's newest 6!&nbsp; Please ar
 range your own transport (and car share where possible).&nbsp;<a href="http
 s://www.scacr.org/media/com_acymailing/upload/2019_06_outing_hampshire_post
 er.pdf">Full details in the poster</a>&nbsp;and below:&nbsp;&nbsp;</p><p>9.
 15 – 9.55&nbsp;&nbsp;&nbsp;&nbsp;&nbsp; St. John the Baptist, Purbrook: 6, 
 5-1-7 (SU672080) Car park to rear of church<br />10.20 – 11.05&nbsp; &nbsp;
 St. Peter, Soberton: 8, 13-1-24 (SU609168)<br />11.20 – 12&nbsp; &nbsp; &nb
 sp; &nbsp; St. Barnabas, Swanmore: 6, 6-3-20 (SU576164)&nbsp;Ringing prior 
 to service</p><p>Lunch:&nbsp;Rising Sun, Swanmore (SU580159 or SO32 2PS) -&
 nbsp;No need to pre-order food but please send names for those intending to
  have lunch to Jeremy Alford (<span id="cloak4a1a4f28df6b3df65f7af821cdc426
 b6">This email address is being protected from spambots. You need JavaScrip
 t enabled to view it.</span><script type='text/javascript'>
				document.ge
 tElementById('cloak4a1a4f28df6b3df65f7af821cdc426b6').innerHTML = '';
				v
 ar prefix = '&#109;a' + 'i&#108;' + '&#116;o';
				var path = 'hr' + 'ef' +
  '=';
				var addy4a1a4f28df6b3df65f7af821cdc426b6 = 'th&#101;&#97;lf&#111;
 rds' + '&#64;';
				addy4a1a4f28df6b3df65f7af821cdc426b6 = addy4a1a4f28df6b
 3df65f7af821cdc426b6 + 'dsl' + '&#46;' + 'p&#105;p&#101;x' + '&#46;' + 'c&#
 111;m';
				var addy_text4a1a4f28df6b3df65f7af821cdc426b6 = 'th&#101;&#97;l
 f&#111;rds' + '&#64;' + 'dsl' + '&#46;' + 'p&#105;p&#101;x' + '&#46;' + 'c&
 #111;m';document.getElementById('cloak4a1a4f28df6b3df65f7af821cdc426b6').in
 nerHTML += '<a ' + path + '\'' + prefix + ':' + addy4a1a4f28df6b3df65f7af82
 1cdc426b6 + '\'>'+addy_text4a1a4f28df6b3df65f7af821cdc426b6+'<\/a>';
		</sc
 ript>) by Tuesday 28<sup>th</sup> May as tables are being reserved.</p><p>2
 .15 – 2.55&nbsp;&nbsp;&nbsp;&nbsp;&nbsp; St. Nicholas, Bishop’s Sutton: 5, 
 7-3-0 (SU605320)<br />3.10 – 3.50&nbsp;&nbsp;&nbsp;&nbsp;&nbsp; St. John th
 e Evangelist, Northington: 6, 6-0-14 (SU564373)&nbsp;Hampshire’s newest 6!<
 /p><p>Tea:&nbsp;Kudos Coffee, 3 Church Street, Whitchurch (SU463480 or RG28
  7AD)</p><p>5.10 – 6.10&nbsp; &nbsp; &nbsp; &nbsp;All Hallows, Whitchurch: 
 10, 26-1-4 (SU459477)&nbsp;Room for 4 cars in lay-by in front of church; th
 ere is a gateway opposite the church with room for 8 further cars towards t
 he Vicarage. &nbsp;Toilet available.</p><p>Please give names for pub lunch 
 to Jeremy (<span id="cloak6941b5b1f5188ab2ca1e05c5d4a0a945">This email addr
 ess is being protected from spambots. You need JavaScript enabled to view i
 t.</span><script type='text/javascript'>
				document.getElementById('cloak
 6941b5b1f5188ab2ca1e05c5d4a0a945').innerHTML = '';
				var prefix = '&#109;
 a' + 'i&#108;' + '&#116;o';
				var path = 'hr' + 'ef' + '=';
				var addy6
 941b5b1f5188ab2ca1e05c5d4a0a945 = 'th&#101;&#97;lf&#111;rds' + '&#64;';
			
 	addy6941b5b1f5188ab2ca1e05c5d4a0a945 = addy6941b5b1f5188ab2ca1e05c5d4a0a94
 5 + 'dsl' + '&#46;' + 'p&#105;p&#101;x' + '&#46;' + 'c&#111;m';
				var add
 y_text6941b5b1f5188ab2ca1e05c5d4a0a945 = 'th&#101;&#97;lf&#111;rds' + '&#64
 ;' + 'dsl' + '&#46;' + 'p&#105;p&#101;x' + '&#46;' + 'c&#111;m';document.ge
 tElementById('cloak6941b5b1f5188ab2ca1e05c5d4a0a945').innerHTML += '<a ' + 
 path + '\'' + prefix + ':' + addy6941b5b1f5188ab2ca1e05c5d4a0a945 + '\'>'+a
 ddy_text6941b5b1f5188ab2ca1e05c5d4a0a945+'<\/a>';
		</script>) by Tuesday 2
 8th May, as the pub needs to know numbers. Note that you need to arrange yo
 ur own transport; please car share as much as possible as some villages hav
 e limited parking.</p><p>Many thanks to Jeremy for organising the outing!</
 p> <a href="https://www.scacr.org/news-events/calendar/462/outing-to-hampsh
 ire?tmpl=component">This event was imported from: https://www.scacr.org/new
 s-events/calendar/462/outing-to-hampshire?tmpl=component</a>CONTACT:This email address is being protected from spambots. You need JavaScript enabled to view it.
				document.getElementById('cloak92146ffef1750e6441e554ed6daf8a2c').innerHTML = '';
				var prefix = '&#109;a' + 'i&#108;' + '&#116;o';
				var path = 'hr' + 'ef' + '=';
				var addy92146ffef1750e6441e554ed6daf8a2c = 's&#101;c-n&#111;rth' + '&#64;';
				addy92146ffef1750e6441e554ed6daf8a2c = addy92146ffef1750e6441e554ed6daf8a2c + 'sc&#97;cr' + '&#46;' + '&#111;rg';
				var addy_text92146ffef1750e6441e554ed6daf8a2c = 's&#101;c-n&#111;rth' + '&#64;' + 'sc&#97;cr' + '&#46;' + '&#111;rg';document.getElementById('cloak92146ffef1750e6441e554ed6daf8a2c').innerHTML += '<a ' + path + '\'' + prefix + ':' + addy92146ffef1750e6441e554ed6daf8a2c + '\'>'+addy_text92146ffef1750e6441e554ed6daf8a2c+'';
		
DTSTAMP:20260426T041545
DTSTART;TZID=Europe/London;VALUE=DATE:20190601
DTEND;TZID=Europe/London;VALUE=DATE:20190602
SEQUENCE:0
TRANSP:OPAQUE
END:VEVENT
END:VCALENDAR