BEGIN:VCALENDAR
VERSION:2.0
PRODID:-//jEvents 2.0 for Joomla//EN
CALSCALE:GREGORIAN
METHOD:PUBLISH
BEGIN:VTIMEZONE
TZID:Europe/London
BEGIN:STANDARD
DTSTART:20251026T010000
RDATE:20260329T020000
TZOFFSETFROM:+0100
TZOFFSETTO:+0000
TZNAME:Europe/London GMT
END:STANDARD
BEGIN:STANDARD
DTSTART:20261025T010000
RDATE:20270328T020000
TZOFFSETFROM:+0100
TZOFFSETTO:+0000
TZNAME:Europe/London GMT
END:STANDARD
BEGIN:STANDARD
DTSTART:20271031T010000
RDATE:20280326T020000
TZOFFSETFROM:+0100
TZOFFSETTO:+0000
TZNAME:Europe/London GMT
END:STANDARD
BEGIN:STANDARD
DTSTART:20281029T010000
RDATE:20290325T020000
TZOFFSETFROM:+0100
TZOFFSETTO:+0000
TZNAME:Europe/London GMT
END:STANDARD
BEGIN:STANDARD
DTSTART:20291028T010000
RDATE:20300331T020000
TZOFFSETFROM:+0100
TZOFFSETTO:+0000
TZNAME:Europe/London GMT
END:STANDARD
BEGIN:STANDARD
DTSTART:20301027T010000
RDATE:20310330T020000
TZOFFSETFROM:+0100
TZOFFSETTO:+0000
TZNAME:Europe/London GMT
END:STANDARD
BEGIN:DAYLIGHT
DTSTART:20250520T100000
RDATE:20251026T010000
TZOFFSETFROM:+0000
TZOFFSETTO:+0100
TZNAME:Europe/London BST
END:DAYLIGHT
BEGIN:DAYLIGHT
DTSTART:20260329T020000
RDATE:20261025T010000
TZOFFSETFROM:+0000
TZOFFSETTO:+0100
TZNAME:Europe/London BST
END:DAYLIGHT
BEGIN:DAYLIGHT
DTSTART:20270328T020000
RDATE:20271031T010000
TZOFFSETFROM:+0000
TZOFFSETTO:+0100
TZNAME:Europe/London BST
END:DAYLIGHT
BEGIN:DAYLIGHT
DTSTART:20280326T020000
RDATE:20281029T010000
TZOFFSETFROM:+0000
TZOFFSETTO:+0100
TZNAME:Europe/London BST
END:DAYLIGHT
BEGIN:DAYLIGHT
DTSTART:20290325T020000
RDATE:20291028T010000
TZOFFSETFROM:+0000
TZOFFSETTO:+0100
TZNAME:Europe/London BST
END:DAYLIGHT
BEGIN:DAYLIGHT
DTSTART:20300331T020000
RDATE:20301027T010000
TZOFFSETFROM:+0000
TZOFFSETTO:+0100
TZNAME:Europe/London BST
END:DAYLIGHT
END:VTIMEZONE
BEGIN:VEVENT
UID:a15f2d14fda4e926763736217fad08ce
CATEGORIES:Association Event
CREATED:20260106T153137
SUMMARY:Codgers
LOCATION:To be confirmed
URL;VALUE=URI:https://www.scacr.org/news-events/calendar/1585/codgers?tmpl=component
DESCRIPTION:Towers to be confirmed.\n This event was imported from: https://www.scacr.o
 rg/news-events/calendar/1585/codgers?tmpl=component (https://www.scacr.org/
 news-events/calendar/1585/codgers?tmpl=component)
X-ALT-DESC;FMTTYPE=text/html:<p>Towers to be confirmed.</p> <a href="https://www.scacr.org/news-events/c
 alendar/1585/codgers?tmpl=component">This event was imported from: https://
 www.scacr.org/news-events/calendar/1585/codgers?tmpl=component</a>CONTACT:This email address is being protected from spambots. You need JavaScript enabled to view it.
				document.getElementById('cloakcd99aa591f47cb75c80b9cd780427ae1').innerHTML = '';
				var prefix = '&#109;a' + 'i&#108;' + '&#116;o';
				var path = 'hr' + 'ef' + '=';
				var addycd99aa591f47cb75c80b9cd780427ae1 = 'c&#111;dg&#101;rs' + '&#64;';
				addycd99aa591f47cb75c80b9cd780427ae1 = addycd99aa591f47cb75c80b9cd780427ae1 + 'sc&#97;cr' + '&#46;' + '&#111;rg';
				var addy_textcd99aa591f47cb75c80b9cd780427ae1 = 'c&#111;dg&#101;rs' + '&#64;' + 'sc&#97;cr' + '&#46;' + '&#111;rg';document.getElementById('cloakcd99aa591f47cb75c80b9cd780427ae1').innerHTML += '<a ' + path + '\'' + prefix + ':' + addycd99aa591f47cb75c80b9cd780427ae1 + '\'>'+addy_textcd99aa591f47cb75c80b9cd780427ae1+'';
		
DTSTAMP:20260419T164343
DTSTART;TZID=Europe/London:20260521T100000
DTEND;TZID=Europe/London:20260521T153000
SEQUENCE:0
TRANSP:OPAQUE
END:VEVENT
END:VCALENDAR