BEGIN:VCALENDAR
VERSION:2.0
PRODID:-//jEvents 2.0 for Joomla//EN
CALSCALE:GREGORIAN
METHOD:PUBLISH
BEGIN:VTIMEZONE
TZID:Europe/London
BEGIN:STANDARD
DTSTART:20251026T010000
RDATE:20260329T020000
TZOFFSETFROM:+0100
TZOFFSETTO:+0000
TZNAME:Europe/London GMT
END:STANDARD
BEGIN:STANDARD
DTSTART:20261025T010000
RDATE:20270328T020000
TZOFFSETFROM:+0100
TZOFFSETTO:+0000
TZNAME:Europe/London GMT
END:STANDARD
BEGIN:STANDARD
DTSTART:20271031T010000
RDATE:20280326T020000
TZOFFSETFROM:+0100
TZOFFSETTO:+0000
TZNAME:Europe/London GMT
END:STANDARD
BEGIN:STANDARD
DTSTART:20281029T010000
RDATE:20290325T020000
TZOFFSETFROM:+0100
TZOFFSETTO:+0000
TZNAME:Europe/London GMT
END:STANDARD
BEGIN:STANDARD
DTSTART:20291028T010000
RDATE:20300331T020000
TZOFFSETFROM:+0100
TZOFFSETTO:+0000
TZNAME:Europe/London GMT
END:STANDARD
BEGIN:STANDARD
DTSTART:20301027T010000
RDATE:20310330T020000
TZOFFSETFROM:+0100
TZOFFSETTO:+0000
TZNAME:Europe/London GMT
END:STANDARD
BEGIN:DAYLIGHT
DTSTART:20250415T103000
RDATE:20251026T010000
TZOFFSETFROM:+0000
TZOFFSETTO:+0100
TZNAME:Europe/London BST
END:DAYLIGHT
BEGIN:DAYLIGHT
DTSTART:20260329T020000
RDATE:20261025T010000
TZOFFSETFROM:+0000
TZOFFSETTO:+0100
TZNAME:Europe/London BST
END:DAYLIGHT
BEGIN:DAYLIGHT
DTSTART:20270328T020000
RDATE:20271031T010000
TZOFFSETFROM:+0000
TZOFFSETTO:+0100
TZNAME:Europe/London BST
END:DAYLIGHT
BEGIN:DAYLIGHT
DTSTART:20280326T020000
RDATE:20281029T010000
TZOFFSETFROM:+0000
TZOFFSETTO:+0100
TZNAME:Europe/London BST
END:DAYLIGHT
BEGIN:DAYLIGHT
DTSTART:20290325T020000
RDATE:20291028T010000
TZOFFSETFROM:+0000
TZOFFSETTO:+0100
TZNAME:Europe/London BST
END:DAYLIGHT
BEGIN:DAYLIGHT
DTSTART:20300331T020000
RDATE:20301027T010000
TZOFFSETFROM:+0000
TZOFFSETTO:+0100
TZNAME:Europe/London BST
END:DAYLIGHT
END:VTIMEZONE
BEGIN:VEVENT
UID:2f7dec7cfd9d00fd8e573b06ee5d1371
CATEGORIES:Association Event
CREATED:20260106T153031
SUMMARY:Codgers
LOCATION:Barcombe &amp; Southover (Lewes)
URL;VALUE=URI:https://www.scacr.org/news-events/calendar/1584/codgers?tmpl=component
DESCRIPTION:Times for the day:\n10:30 to 11:45   Barcombe (St Mary the Virgin - 6 bells
  - 9-0-24)\n12:15 The Swan, Lewes, or make your own arrangements. Table res
 erved for 10 people, first come-first served. I will try to book more if mo
 re are interested but I can't promise. There is also The Kings Head opposit
 e Southover church.\n14:00 to 15:30  Lewes - Trinity Church Southover (St J
 ohn the Baptist - 10 bells - 17-1-20)\nPlease email This email address is b
 eing protected from spambots. You need JavaScript enabled to view it.
				d
 ocument.getElementById('cloak88f2d6be9574f8a88064413ee31e7114').innerHTML =
  '';
				var prefix = '&#109;a' + 'i&#108;' + '&#116;o';
				var path = 'hr
 ' + 'ef' + '=';
				var addy88f2d6be9574f8a88064413ee31e7114 = 'c&#111;dg&#
 101;rs' + '&#64;';
				addy88f2d6be9574f8a88064413ee31e7114 = addy88f2d6be9
 574f8a88064413ee31e7114 + 'sc&#97;cr' + '&#46;' + '&#111;rg';
				var addy_
 text88f2d6be9574f8a88064413ee31e7114 = 'c&#111;dg&#101;rs' + '&#64;' + 'sc&
 #97;cr' + '&#46;' + '&#111;rg';document.getElementById('cloak88f2d6be9574f8
 a88064413ee31e7114').innerHTML += '<a ' + path + '\'' + prefix + ':' + addy
 88f2d6be9574f8a88064413ee31e7114 + '\'>'+addy_text88f2d6be9574f8a88064413ee
 31e7114+'';
		 if you are attending for all of part of the day, and also le
 t us know if you want a seat at the table for 10 in The Swan.\n This event 
 was imported from: https://www.scacr.org/news-events/calendar/1584/codgers?
 tmpl=component (https://www.scacr.org/news-events/calendar/1584/codgers?tmp
 l=component)
X-ALT-DESC;FMTTYPE=text/html:<p>Times for the day:</p><p>10:30 to 11:45&nbsp; &nbsp;Barcombe (St Mary th
 e Virgin - 6 bells - 9-0-24)</p><p>12:15 The Swan, Lewes, or make your own 
 arrangements. Table reserved for 10 people, first come-first served. I will
  try to book more if more are interested but I can't promise. There is also
  The Kings Head opposite Southover church.</p><p>14:00 to 15:30&nbsp; Lewes
  - Trinity Church Southover (St John the Baptist - 10 bells - 17-1-20)</p><
 p>Please email <span id="cloak88f2d6be9574f8a88064413ee31e7114">This email 
 address is being protected from spambots. You need JavaScript enabled to vi
 ew it.</span><script type='text/javascript'>
				document.getElementById('c
 loak88f2d6be9574f8a88064413ee31e7114').innerHTML = '';
				var prefix = '&#
 109;a' + 'i&#108;' + '&#116;o';
				var path = 'hr' + 'ef' + '=';
				var a
 ddy88f2d6be9574f8a88064413ee31e7114 = 'c&#111;dg&#101;rs' + '&#64;';
				ad
 dy88f2d6be9574f8a88064413ee31e7114 = addy88f2d6be9574f8a88064413ee31e7114 +
  'sc&#97;cr' + '&#46;' + '&#111;rg';
				var addy_text88f2d6be9574f8a880644
 13ee31e7114 = 'c&#111;dg&#101;rs' + '&#64;' + 'sc&#97;cr' + '&#46;' + '&#11
 1;rg';document.getElementById('cloak88f2d6be9574f8a88064413ee31e7114').inne
 rHTML += '<a ' + path + '\'' + prefix + ':' + addy88f2d6be9574f8a88064413ee
 31e7114 + '\'>'+addy_text88f2d6be9574f8a88064413ee31e7114+'<\/a>';
		</scri
 pt>&nbsp;if you are attending for all of part of the day, and also let us k
 now if you want a seat at the table for 10 in The Swan.</p> <a href="https:
 //www.scacr.org/news-events/calendar/1584/codgers?tmpl=component">This even
 t was imported from: https://www.scacr.org/news-events/calendar/1584/codger
 s?tmpl=component</a>CONTACT:This email address is being protected from spambots. You need JavaScript enabled to view it.
				document.getElementById('cloakebe8d1206109b8d60aefac555ae1a9a0').innerHTML = '';
				var prefix = '&#109;a' + 'i&#108;' + '&#116;o';
				var path = 'hr' + 'ef' + '=';
				var addyebe8d1206109b8d60aefac555ae1a9a0 = 'c&#111;dg&#101;rs' + '&#64;';
				addyebe8d1206109b8d60aefac555ae1a9a0 = addyebe8d1206109b8d60aefac555ae1a9a0 + 'sc&#97;cr' + '&#46;' + '&#111;rg';
				var addy_textebe8d1206109b8d60aefac555ae1a9a0 = 'c&#111;dg&#101;rs' + '&#64;' + 'sc&#97;cr' + '&#46;' + '&#111;rg';document.getElementById('cloakebe8d1206109b8d60aefac555ae1a9a0').innerHTML += '<a ' + path + '\'' + prefix + ':' + addyebe8d1206109b8d60aefac555ae1a9a0 + '\'>'+addy_textebe8d1206109b8d60aefac555ae1a9a0+'';
		
DTSTAMP:20260421T204122
DTSTART;TZID=Europe/London:20260416T103000
DTEND;TZID=Europe/London:20260416T153000
SEQUENCE:0
TRANSP:OPAQUE
END:VEVENT
END:VCALENDAR