BEGIN:VCALENDAR
VERSION:2.0
PRODID:-//jEvents 2.0 for Joomla//EN
CALSCALE:GREGORIAN
METHOD:PUBLISH
BEGIN:VTIMEZONE
TZID:Europe/London
BEGIN:STANDARD
DTSTART:20241027T010000
RDATE:20250330T020000
TZOFFSETFROM:+0100
TZOFFSETTO:+0000
TZNAME:Europe/London GMT
END:STANDARD
BEGIN:STANDARD
DTSTART:20251026T010000
RDATE:20260329T020000
TZOFFSETFROM:+0100
TZOFFSETTO:+0000
TZNAME:Europe/London GMT
END:STANDARD
BEGIN:STANDARD
DTSTART:20261025T010000
RDATE:20270328T020000
TZOFFSETFROM:+0100
TZOFFSETTO:+0000
TZNAME:Europe/London GMT
END:STANDARD
BEGIN:STANDARD
DTSTART:20271031T010000
RDATE:20280326T020000
TZOFFSETFROM:+0100
TZOFFSETTO:+0000
TZNAME:Europe/London GMT
END:STANDARD
BEGIN:STANDARD
DTSTART:20281029T010000
RDATE:20290325T020000
TZOFFSETFROM:+0100
TZOFFSETTO:+0000
TZNAME:Europe/London GMT
END:STANDARD
BEGIN:STANDARD
DTSTART:20291028T010000
RDATE:20300331T020000
TZOFFSETFROM:+0100
TZOFFSETTO:+0000
TZNAME:Europe/London GMT
END:STANDARD
BEGIN:STANDARD
DTSTART:20301027T010000
RDATE:20310330T020000
TZOFFSETFROM:+0100
TZOFFSETTO:+0000
TZNAME:Europe/London GMT
END:STANDARD
BEGIN:DAYLIGHT
DTSTART:20240717T193000
RDATE:20241027T010000
TZOFFSETFROM:+0000
TZOFFSETTO:+0100
TZNAME:Europe/London BST
END:DAYLIGHT
BEGIN:DAYLIGHT
DTSTART:20250330T020000
RDATE:20251026T010000
TZOFFSETFROM:+0000
TZOFFSETTO:+0100
TZNAME:Europe/London BST
END:DAYLIGHT
BEGIN:DAYLIGHT
DTSTART:20260329T020000
RDATE:20261025T010000
TZOFFSETFROM:+0000
TZOFFSETTO:+0100
TZNAME:Europe/London BST
END:DAYLIGHT
BEGIN:DAYLIGHT
DTSTART:20270328T020000
RDATE:20271031T010000
TZOFFSETFROM:+0000
TZOFFSETTO:+0100
TZNAME:Europe/London BST
END:DAYLIGHT
BEGIN:DAYLIGHT
DTSTART:20280326T020000
RDATE:20281029T010000
TZOFFSETFROM:+0000
TZOFFSETTO:+0100
TZNAME:Europe/London BST
END:DAYLIGHT
BEGIN:DAYLIGHT
DTSTART:20290325T020000
RDATE:20291028T010000
TZOFFSETFROM:+0000
TZOFFSETTO:+0100
TZNAME:Europe/London BST
END:DAYLIGHT
BEGIN:DAYLIGHT
DTSTART:20300331T020000
RDATE:20301027T010000
TZOFFSETFROM:+0000
TZOFFSETTO:+0100
TZNAME:Europe/London BST
END:DAYLIGHT
END:VTIMEZONE
BEGIN:VEVENT
UID:88d7218418e855d04c6d5f23019139c7
CATEGORIES:Joint Event
CREATED:20250614T134208
SUMMARY:Joint Eastern and Southern Surprise Major Practice
LOCATION:Chiddingly
URL;VALUE=URI:https://www.scacr.org/news-events/calendar/1482/joint-eastern-and-southern-
 surprise-major-practice?tmpl=component
DESCRIPTION:There will be a Joint Eastern and Southern District Surprise Major at Chidd
 ingly Friday 18th July at 19:30\nIt is hoped the session will be of benefit
  for those taking steps in learning and ringing surprise major. \nMethods: 
 Cambridge, Yorkshire, Superlative and Turramurra\nChiddingly is an easy to 
 ring set of eight bells near the village pub the Six Bells. This could be v
 isited afterwards. Parking is available in the car park just outside the to
 wer and the entrance is via the base of the tower.  \nPlease contact Steve 
 Pilfold (s (mailto:mchollands2@btinternet.com)This email address is being p
 rotected from spambots. You need JavaScript enabled to view it.
				documen
 t.getElementById('cloak3bf916801697b61f33fb859590e35268').innerHTML = '';
	
 			var prefix = '&#109;a' + 'i&#108;' + '&#116;o';
				var path = 'hr' + 'e
 f' + '=';
				var addy3bf916801697b61f33fb859590e35268 = '&#101;c-&#101;&#9
 7;st' + '&#64;';
				addy3bf916801697b61f33fb859590e35268 = addy3bf91680169
 7b61f33fb859590e35268 + 'sc&#97;cr' + '&#46;' + '&#111;rg';
				var addy_te
 xt3bf916801697b61f33fb859590e35268 = '&#101;c-&#101;&#97;st' + '&#64;' + 's
 c&#97;cr' + '&#46;' + '&#111;rg';document.getElementById('cloak3bf916801697
 b61f33fb859590e35268').innerHTML += '<a ' + path + '\'' + prefix + ':' + ad
 dy3bf916801697b61f33fb859590e35268 + '\'>'+addy_text3bf916801697b61f33fb859
 590e35268+'';
		) Eastern District Secretary or Debbie Evans ( (mailto:sec-
 south@scacr.org) (mailto:sec-south@scacr.org)This email address is being pr
 otected from spambots. You need JavaScript enabled to view it.
				document
 .getElementById('cloak2e0fce23dac86614ee364fe874061b95').innerHTML = '';
		
 		var prefix = '&#109;a' + 'i&#108;' + '&#116;o';
				var path = 'hr' + 'ef
 ' + '=';
				var addy2e0fce23dac86614ee364fe874061b95 = 's&#101;c-s&#111;&#
 117;th' + '&#64;';
				addy2e0fce23dac86614ee364fe874061b95 = addy2e0fce23d
 ac86614ee364fe874061b95 + 'sc&#97;cr' + '&#46;' + '&#111;rg';
				var addy_
 text2e0fce23dac86614ee364fe874061b95 = 's&#101;c-s&#111;&#117;th' + '&#64;'
  + 'sc&#97;cr' + '&#46;' + '&#111;rg';document.getElementById('cloak2e0fce2
 3dac86614ee364fe874061b95').innerHTML += '<a ' + path + '\'' + prefix + ':'
  + addy2e0fce23dac86614ee364fe874061b95 + '\'>'+addy_text2e0fce23dac86614ee
 364fe874061b95+'';
		 ) Southern District Secretary, if you wish to attend.
 \n This event was imported from: https://www.scacr.org/news-events/calendar
 /1482/joint-eastern-and-southern-surprise-major-practice?tmpl=component (ht
 tps://www.scacr.org/news-events/calendar/1482/joint-eastern-and-southern-su
 rprise-major-practice?tmpl=component)
X-ALT-DESC;FMTTYPE=text/html:<p><strong>There will be a Joint Eastern and Southern District Surprise Maj
 or at Chiddingly Friday 18th July at 19:30</strong></p><p>It is hoped the s
 ession will be of benefit for those taking steps in learning and ringing su
 rprise major.&nbsp;</p><p>Methods: Cambridge, Yorkshire, Superlative and Tu
 rramurra</p><p>Chiddingly is an easy to ring set of eight bells near the vi
 llage pub the Six Bells. This could be visited afterwards. Parking is avail
 able in the car park just outside the tower and the entrance is via the bas
 e of the tower.&nbsp;&nbsp;</p><p>Please contact Steve Pilfold (<a href="ma
 ilto:mchollands2@btinternet.com">s</a><span id="cloak3bf916801697b61f33fb85
 9590e35268">This email address is being protected from spambots. You need J
 avaScript enabled to view it.</span><script type='text/javascript'>
				doc
 ument.getElementById('cloak3bf916801697b61f33fb859590e35268').innerHTML = '
 ';
				var prefix = '&#109;a' + 'i&#108;' + '&#116;o';
				var path = 'hr' 
 + 'ef' + '=';
				var addy3bf916801697b61f33fb859590e35268 = '&#101;c-&#101
 ;&#97;st' + '&#64;';
				addy3bf916801697b61f33fb859590e35268 = addy3bf9168
 01697b61f33fb859590e35268 + 'sc&#97;cr' + '&#46;' + '&#111;rg';
				var add
 y_text3bf916801697b61f33fb859590e35268 = '&#101;c-&#101;&#97;st' + '&#64;' 
 + 'sc&#97;cr' + '&#46;' + '&#111;rg';document.getElementById('cloak3bf91680
 1697b61f33fb859590e35268').innerHTML += '<a ' + path + '\'' + prefix + ':' 
 + addy3bf916801697b61f33fb859590e35268 + '\'>'+addy_text3bf916801697b61f33f
 b859590e35268+'<\/a>';
		</script>) Eastern District Secretary or Debbie Ev
 ans (<a href="mailto:sec-south@scacr.org" target="_blank"></a><a href="mail
 to:sec-south@scacr.org" target="_blank"></a><span id="cloak2e0fce23dac86614
 ee364fe874061b95">This email address is being protected from spambots. You 
 need JavaScript enabled to view it.</span><script type='text/javascript'>
	
 			document.getElementById('cloak2e0fce23dac86614ee364fe874061b95').innerHT
 ML = '';
				var prefix = '&#109;a' + 'i&#108;' + '&#116;o';
				var path =
  'hr' + 'ef' + '=';
				var addy2e0fce23dac86614ee364fe874061b95 = 's&#101;
 c-s&#111;&#117;th' + '&#64;';
				addy2e0fce23dac86614ee364fe874061b95 = ad
 dy2e0fce23dac86614ee364fe874061b95 + 'sc&#97;cr' + '&#46;' + '&#111;rg';
		
 		var addy_text2e0fce23dac86614ee364fe874061b95 = 's&#101;c-s&#111;&#117;th
 ' + '&#64;' + 'sc&#97;cr' + '&#46;' + '&#111;rg';document.getElementById('c
 loak2e0fce23dac86614ee364fe874061b95').innerHTML += '<a ' + path + '\'' + p
 refix + ':' + addy2e0fce23dac86614ee364fe874061b95 + '\'>'+addy_text2e0fce2
 3dac86614ee364fe874061b95+'<\/a>';
		</script>&nbsp;) Southern District Sec
 retary, if you wish to attend.</p> <a href="https://www.scacr.org/news-even
 ts/calendar/1482/joint-eastern-and-southern-surprise-major-practice?tmpl=co
 mponent">This event was imported from: https://www.scacr.org/news-events/ca
 lendar/1482/joint-eastern-and-southern-surprise-major-practice?tmpl=compone
 nt</a>CONTACT:This email address is being protected from spambots. You need JavaScript enabled to view it.
				document.getElementById('cloak01fa53fbfa84269d64f743ff74a608c1').innerHTML = '';
				var prefix = '&#109;a' + 'i&#108;' + '&#116;o';
				var path = 'hr' + 'ef' + '=';
				var addy01fa53fbfa84269d64f743ff74a608c1 = 's&#101;c-&#101;&#97;st' + '&#64;';
				addy01fa53fbfa84269d64f743ff74a608c1 = addy01fa53fbfa84269d64f743ff74a608c1 + 'sc&#97;cr' + '&#46;' + '&#111;rg';
				var addy_text01fa53fbfa84269d64f743ff74a608c1 = 's&#101;c-&#101;&#97;st' + '&#64;' + 'sc&#97;cr' + '&#46;' + '&#111;rg';document.getElementById('cloak01fa53fbfa84269d64f743ff74a608c1').innerHTML += '<a ' + path + '\'' + prefix + ':' + addy01fa53fbfa84269d64f743ff74a608c1 + '\'>'+addy_text01fa53fbfa84269d64f743ff74a608c1+'';
		
DTSTAMP:20260425T131716
DTSTART;TZID=Europe/London:20250718T193000
DTEND;TZID=Europe/London:20250718T210000
SEQUENCE:0
TRANSP:OPAQUE
END:VEVENT
END:VCALENDAR