BEGIN:VCALENDAR
VERSION:2.0
PRODID:-//jEvents 2.0 for Joomla//EN
CALSCALE:GREGORIAN
METHOD:PUBLISH
BEGIN:VTIMEZONE
TZID:Europe/London
BEGIN:STANDARD
DTSTART:20241027T010000
RDATE:20250330T020000
TZOFFSETFROM:+0100
TZOFFSETTO:+0000
TZNAME:Europe/London GMT
END:STANDARD
BEGIN:STANDARD
DTSTART:20251026T010000
RDATE:20260329T020000
TZOFFSETFROM:+0100
TZOFFSETTO:+0000
TZNAME:Europe/London GMT
END:STANDARD
BEGIN:STANDARD
DTSTART:20261025T010000
RDATE:20270328T020000
TZOFFSETFROM:+0100
TZOFFSETTO:+0000
TZNAME:Europe/London GMT
END:STANDARD
BEGIN:STANDARD
DTSTART:20271031T010000
RDATE:20280326T020000
TZOFFSETFROM:+0100
TZOFFSETTO:+0000
TZNAME:Europe/London GMT
END:STANDARD
BEGIN:STANDARD
DTSTART:20281029T010000
RDATE:20290325T020000
TZOFFSETFROM:+0100
TZOFFSETTO:+0000
TZNAME:Europe/London GMT
END:STANDARD
BEGIN:STANDARD
DTSTART:20291028T010000
RDATE:20300331T020000
TZOFFSETFROM:+0100
TZOFFSETTO:+0000
TZNAME:Europe/London GMT
END:STANDARD
BEGIN:STANDARD
DTSTART:20301027T010000
RDATE:20310330T020000
TZOFFSETFROM:+0100
TZOFFSETTO:+0000
TZNAME:Europe/London GMT
END:STANDARD
BEGIN:DAYLIGHT
DTSTART:20240713T193000
RDATE:20241027T010000
TZOFFSETFROM:+0000
TZOFFSETTO:+0100
TZNAME:Europe/London BST
END:DAYLIGHT
BEGIN:DAYLIGHT
DTSTART:20250330T020000
RDATE:20251026T010000
TZOFFSETFROM:+0000
TZOFFSETTO:+0100
TZNAME:Europe/London BST
END:DAYLIGHT
BEGIN:DAYLIGHT
DTSTART:20260329T020000
RDATE:20261025T010000
TZOFFSETFROM:+0000
TZOFFSETTO:+0100
TZNAME:Europe/London BST
END:DAYLIGHT
BEGIN:DAYLIGHT
DTSTART:20270328T020000
RDATE:20271031T010000
TZOFFSETFROM:+0000
TZOFFSETTO:+0100
TZNAME:Europe/London BST
END:DAYLIGHT
BEGIN:DAYLIGHT
DTSTART:20280326T020000
RDATE:20281029T010000
TZOFFSETFROM:+0000
TZOFFSETTO:+0100
TZNAME:Europe/London BST
END:DAYLIGHT
BEGIN:DAYLIGHT
DTSTART:20290325T020000
RDATE:20291028T010000
TZOFFSETFROM:+0000
TZOFFSETTO:+0100
TZNAME:Europe/London BST
END:DAYLIGHT
BEGIN:DAYLIGHT
DTSTART:20300331T020000
RDATE:20301027T010000
TZOFFSETFROM:+0000
TZOFFSETTO:+0100
TZNAME:Europe/London BST
END:DAYLIGHT
END:VTIMEZONE
BEGIN:VEVENT
UID:45f952b532d416a4dd37a863f9d455c6
CATEGORIES:West
CREATED:20250611T123647
SUMMARY:Surprise Minor Simulator Practice
LOCATION:St Mary's Church\, Stoughton
URL;VALUE=URI:https://www.scacr.org/news-events/calendar/1470/surprise-minor-simulator-pr
 actice?tmpl=component
DESCRIPTION:This is a regular practice is held every second Monday of the month!\nCurre
 nt methods rung are: Cambridge, London, Norwich, Carlisle and Beverley!  Th
 e idea is to consolidate them and start splicing them!!  Other methods mayb
 e added as and when.\nDon't br put off if you are unable to ring all these 
 methods or can't ring spliced - there are a range of abilities and it is a 
 practice so an opportunity to have a go!!\nPlease let Joanna Woodcock know 
 if you intend to go along on This email address is being protected from spa
 mbots. You need JavaScript enabled to view it.
				document.getElementById(
 'cloak86ea17988d519db73a72cae4c55facd5').innerHTML = '';
				var prefix = '
 &#109;a' + 'i&#108;' + '&#116;o';
				var path = 'hr' + 'ef' + '=';
				var
  addy86ea17988d519db73a72cae4c55facd5 = 'd&#101;&#97;nl&#97;n&#101;&#101;nd
 ' + '&#64;';
				addy86ea17988d519db73a72cae4c55facd5 = addy86ea17988d519db
 73a72cae4c55facd5 + 'gm&#97;&#105;l' + '&#46;' + 'c&#111;m';
				var addy_t
 ext86ea17988d519db73a72cae4c55facd5 = 'd&#101;&#97;nl&#97;n&#101;&#101;nd' 
 + '&#64;' + 'gm&#97;&#105;l' + '&#46;' + 'c&#111;m';document.getElementById
 ('cloak86ea17988d519db73a72cae4c55facd5').innerHTML += '<a ' + path + '\'' 
 + prefix + ':' + addy86ea17988d519db73a72cae4c55facd5 + '\'>'+addy_text86ea
 17988d519db73a72cae4c55facd5+'';
		\nThere is ample on-street parking in th
 e village and limited, blue badge parking up at the track at the church.  T
 he farmyard car park to the left of the track is private and so please do n
 ot use!\nThere are no toilets in the church - nearest facilities are in the
  Hare and Hounds pub approx 300 m away.\nIf there is plenty of rain - it ma
 y be handy to wear wellies or at least have some in the car!!!\nContact the
  Tower Captain if you have any other questions!  Tim Wright - This email ad
 dress is being protected from spambots. You need JavaScript enabled to view
  it.
				document.getElementById('cloakca582fccc0f2b6bb56a61df4fd4eb93b').i
 nnerHTML = '';
				var prefix = '&#109;a' + 'i&#108;' + '&#116;o';
				var 
 path = 'hr' + 'ef' + '=';
				var addyca582fccc0f2b6bb56a61df4fd4eb93b = 't
 cf.wr&#105;ght' + '&#64;';
				addyca582fccc0f2b6bb56a61df4fd4eb93b = addyc
 a582fccc0f2b6bb56a61df4fd4eb93b + 'bt&#105;nt&#101;rn&#101;t' + '&#46;' + '
 c&#111;m';
				var addy_textca582fccc0f2b6bb56a61df4fd4eb93b = 'tcf.wr&#105
 ;ght' + '&#64;' + 'bt&#105;nt&#101;rn&#101;t' + '&#46;' + 'c&#111;m';docume
 nt.getElementById('cloakca582fccc0f2b6bb56a61df4fd4eb93b').innerHTML += '<a
  ' + path + '\'' + prefix + ':' + addyca582fccc0f2b6bb56a61df4fd4eb93b + '\
 '>'+addy_textca582fccc0f2b6bb56a61df4fd4eb93b+'';
		\n This event was impor
 ted from: https://www.scacr.org/news-events/calendar/1470/surprise-minor-si
 mulator-practice?tmpl=component (https://www.scacr.org/news-events/calendar
 /1470/surprise-minor-simulator-practice?tmpl=component)
X-ALT-DESC;FMTTYPE=text/html:<p>This is a regular practice is held every second Monday of the month!</p>
 <p>Current methods rung are: Cambridge, London, Norwich, Carlisle and Bever
 ley!&nbsp; The idea is to consolidate them and start splicing them!!&nbsp; 
 Other methods maybe added as and when.</p><p>Don't br put off if you are un
 able to ring all these methods or can't ring spliced - there are a range of
  abilities and it is a practice so an opportunity to have a go!!</p><p>Plea
 se let Joanna Woodcock know if you intend to go along on <span id="cloak86e
 a17988d519db73a72cae4c55facd5">This email address is being protected from s
 pambots. You need JavaScript enabled to view it.</span><script type='text/j
 avascript'>
				document.getElementById('cloak86ea17988d519db73a72cae4c55fa
 cd5').innerHTML = '';
				var prefix = '&#109;a' + 'i&#108;' + '&#116;o';
	
 			var path = 'hr' + 'ef' + '=';
				var addy86ea17988d519db73a72cae4c55fac
 d5 = 'd&#101;&#97;nl&#97;n&#101;&#101;nd' + '&#64;';
				addy86ea17988d519d
 b73a72cae4c55facd5 = addy86ea17988d519db73a72cae4c55facd5 + 'gm&#97;&#105;l
 ' + '&#46;' + 'c&#111;m';
				var addy_text86ea17988d519db73a72cae4c55facd5
  = 'd&#101;&#97;nl&#97;n&#101;&#101;nd' + '&#64;' + 'gm&#97;&#105;l' + '&#4
 6;' + 'c&#111;m';document.getElementById('cloak86ea17988d519db73a72cae4c55f
 acd5').innerHTML += '<a ' + path + '\'' + prefix + ':' + addy86ea17988d519d
 b73a72cae4c55facd5 + '\'>'+addy_text86ea17988d519db73a72cae4c55facd5+'<\/a>
 ';
		</script></p><p>There is ample on-street parking in the village and li
 mited, blue badge parking up at the track at the church.&nbsp; The farmyard
  car park to the left of the track is private and so please do not use!</p>
 <p>There are no toilets in the church - nearest facilities are in the Hare 
 and Hounds pub approx 300 m away.</p><p>If there is plenty of rain - it may
  be handy to wear wellies or at least have some in the car!!!</p><p>Contact
  the Tower Captain if you have any other questions!&nbsp; Tim Wright - <spa
 n id="cloakca582fccc0f2b6bb56a61df4fd4eb93b">This email address is being pr
 otected from spambots. You need JavaScript enabled to view it.</span><scrip
 t type='text/javascript'>
				document.getElementById('cloakca582fccc0f2b6b
 b56a61df4fd4eb93b').innerHTML = '';
				var prefix = '&#109;a' + 'i&#108;' 
 + '&#116;o';
				var path = 'hr' + 'ef' + '=';
				var addyca582fccc0f2b6bb
 56a61df4fd4eb93b = 'tcf.wr&#105;ght' + '&#64;';
				addyca582fccc0f2b6bb56a
 61df4fd4eb93b = addyca582fccc0f2b6bb56a61df4fd4eb93b + 'bt&#105;nt&#101;rn&
 #101;t' + '&#46;' + 'c&#111;m';
				var addy_textca582fccc0f2b6bb56a61df4fd
 4eb93b = 'tcf.wr&#105;ght' + '&#64;' + 'bt&#105;nt&#101;rn&#101;t' + '&#46;
 ' + 'c&#111;m';document.getElementById('cloakca582fccc0f2b6bb56a61df4fd4eb9
 3b').innerHTML += '<a ' + path + '\'' + prefix + ':' + addyca582fccc0f2b6bb
 56a61df4fd4eb93b + '\'>'+addy_textca582fccc0f2b6bb56a61df4fd4eb93b+'<\/a>';
 
		</script></p> <a href="https://www.scacr.org/news-events/calendar/1470/s
 urprise-minor-simulator-practice?tmpl=component">This event was imported fr
 om: https://www.scacr.org/news-events/calendar/1470/surprise-minor-simulato
 r-practice?tmpl=component</a>CONTACT:Joanna Woodcock This email address is being protected from spambots. You need JavaScript enabled to view it.
				document.getElementById('cloak2e885c7c252dc3e11bbe8eea48744113').innerHTML = '';
				var prefix = '&#109;a' + 'i&#108;' + '&#116;o';
				var path = 'hr' + 'ef' + '=';
				var addy2e885c7c252dc3e11bbe8eea48744113 = 'd&#101;&#97;nl&#97;n&#101;&#101;nd' + '&#64;';
				addy2e885c7c252dc3e11bbe8eea48744113 = addy2e885c7c252dc3e11bbe8eea48744113 + 'gm&#97;&#105;l' + '&#46;' + 'c&#111;m';
				var addy_text2e885c7c252dc3e11bbe8eea48744113 = 'd&#101;&#97;nl&#97;n&#101;&#101;nd' + '&#64;' + 'gm&#97;&#105;l' + '&#46;' + 'c&#111;m';document.getElementById('cloak2e885c7c252dc3e11bbe8eea48744113').innerHTML += '<a ' + path + '\'' + prefix + ':' + addy2e885c7c252dc3e11bbe8eea48744113 + '\'>'+addy_text2e885c7c252dc3e11bbe8eea48744113+'';
		
DTSTAMP:20260425T183811
DTSTART;TZID=Europe/London:20250714T193000
DTEND;TZID=Europe/London:20250714T210000
SEQUENCE:0
TRANSP:OPAQUE
END:VEVENT
END:VCALENDAR