BEGIN:VCALENDAR
VERSION:2.0
PRODID:-//jEvents 2.0 for Joomla//EN
CALSCALE:GREGORIAN
METHOD:PUBLISH
BEGIN:VTIMEZONE
TZID:Europe/London
BEGIN:STANDARD
DTSTART:20241027T010000
RDATE:20250330T020000
TZOFFSETFROM:+0100
TZOFFSETTO:+0000
TZNAME:Europe/London GMT
END:STANDARD
BEGIN:STANDARD
DTSTART:20251026T010000
RDATE:20260329T020000
TZOFFSETFROM:+0100
TZOFFSETTO:+0000
TZNAME:Europe/London GMT
END:STANDARD
BEGIN:STANDARD
DTSTART:20261025T010000
RDATE:20270328T020000
TZOFFSETFROM:+0100
TZOFFSETTO:+0000
TZNAME:Europe/London GMT
END:STANDARD
BEGIN:STANDARD
DTSTART:20271031T010000
RDATE:20280326T020000
TZOFFSETFROM:+0100
TZOFFSETTO:+0000
TZNAME:Europe/London GMT
END:STANDARD
BEGIN:STANDARD
DTSTART:20281029T010000
RDATE:20290325T020000
TZOFFSETFROM:+0100
TZOFFSETTO:+0000
TZNAME:Europe/London GMT
END:STANDARD
BEGIN:STANDARD
DTSTART:20291028T010000
RDATE:20300331T020000
TZOFFSETFROM:+0100
TZOFFSETTO:+0000
TZNAME:Europe/London GMT
END:STANDARD
BEGIN:STANDARD
DTSTART:20301027T010000
RDATE:20310330T020000
TZOFFSETFROM:+0100
TZOFFSETTO:+0000
TZNAME:Europe/London GMT
END:STANDARD
BEGIN:DAYLIGHT
DTSTART:20240608T193000
RDATE:20241027T010000
TZOFFSETFROM:+0000
TZOFFSETTO:+0100
TZNAME:Europe/London BST
END:DAYLIGHT
BEGIN:DAYLIGHT
DTSTART:20250330T020000
RDATE:20251026T010000
TZOFFSETFROM:+0000
TZOFFSETTO:+0100
TZNAME:Europe/London BST
END:DAYLIGHT
BEGIN:DAYLIGHT
DTSTART:20260329T020000
RDATE:20261025T010000
TZOFFSETFROM:+0000
TZOFFSETTO:+0100
TZNAME:Europe/London BST
END:DAYLIGHT
BEGIN:DAYLIGHT
DTSTART:20270328T020000
RDATE:20271031T010000
TZOFFSETFROM:+0000
TZOFFSETTO:+0100
TZNAME:Europe/London BST
END:DAYLIGHT
BEGIN:DAYLIGHT
DTSTART:20280326T020000
RDATE:20281029T010000
TZOFFSETFROM:+0000
TZOFFSETTO:+0100
TZNAME:Europe/London BST
END:DAYLIGHT
BEGIN:DAYLIGHT
DTSTART:20290325T020000
RDATE:20291028T010000
TZOFFSETFROM:+0000
TZOFFSETTO:+0100
TZNAME:Europe/London BST
END:DAYLIGHT
BEGIN:DAYLIGHT
DTSTART:20300331T020000
RDATE:20301027T010000
TZOFFSETFROM:+0000
TZOFFSETTO:+0100
TZNAME:Europe/London BST
END:DAYLIGHT
END:VTIMEZONE
BEGIN:VEVENT
UID:b549656552572e02b47dec9d77adcc58
CATEGORIES:North
CREATED:20250606T082744
SUMMARY:CANCELLED!! Northern Surprise Major Practice
LOCATION:Balcombe (confirmed)
URL;VALUE=URI:https://www.scacr.org/news-events/calendar/1465/cancelled-northern-surprise
 -major-practice?tmpl=component
DESCRIPTION:I'm sorry to report that due to a lack of available ringers, I'm sorry to s
 ay this practice will no longer be going ahead. Keep an eye on the calendar
  and I will try and rustle up more interest for a practice in the coming we
 eks/months.\nMethod of the moment: Venusium surprise major (https://rsw.me.
 uk/blueline/methods/view/Venusium_Surprise_Major (https://rsw.me.uk/bluelin
 e/methods/view/Venusium_Surprise_Major)) and I've also had a special reques
 t for Glasgow.\nThe main focus of these practices remains the Core 7 method
 s either individually or spliced depending on attendance.\nFor those ringer
 s with a wider repetoire, I would like to ensure Belfast and Glasgow are mo
 re regularly incorporated so please do refresh these if you need to ahead o
 f the practice. For those new to Belfast, there will be an opportunity to r
 ing three leads subject to attendance if you want to give it a shot (this c
 an be rung so that many bells repeat the same lead three times).\nSimon Lin
 ford's great book on the Core 7 and beyond is found here https://www.ringin
 gworld.co.uk/purchase/shop/the-core-seven-and-beyond.html (https://www.ring
 ingworld.co.uk/purchase/shop/the-core-seven-and-beyond.html)\nThe idea is t
 o try and improve the success rate and striking accuracy in the Core 7 meth
 ods and it would be very much appreciated if where possible attendees do a 
 little extra homework in advance, to help ensure we peform our best on the 
 night. There will also be an enhanced effort to ensure more optimal band pl
 acement. Stedman triples will also be rung when appropriate.\nPlease get in
  touch (This email address is being protected from spambots. You need JavaS
 cript enabled to view it.
				document.getElementById('cloaka2102f17e452651
 75fba64c613f174b2').innerHTML = '';
				var prefix = '&#109;a' + 'i&#108;' 
 + '&#116;o';
				var path = 'hr' + 'ef' + '=';
				var addya2102f17e4526517
 5fba64c613f174b2 = 'n&#101;ssr&#105;ng&#105;ng' + '&#64;';
				addya2102f17
 e45265175fba64c613f174b2 = addya2102f17e45265175fba64c613f174b2 + '&#105;cl
 &#111;&#117;d' + '&#46;' + 'c&#111;m';
				var addy_texta2102f17e45265175fb
 a64c613f174b2 = 'n&#101;ssr&#105;ng&#105;ng' + '&#64;' + '&#105;cl&#111;&#1
 17;d' + '&#46;' + 'c&#111;m';document.getElementById('cloaka2102f17e4526517
 5fba64c613f174b2').innerHTML += '<a ' + path + '\'' + prefix + ':' + addya2
 102f17e45265175fba64c613f174b2 + '\'>'+addy_texta2102f17e45265175fba64c613f
 174b2+'';
		) if there is anything in particular you would like to ring.\nI
  appreciate there are a lot of methods mentioned here and the intention is 
 not to overwhelm I promise! If you are taking your first steps into ringing
  surprise major, you are most welcome, just let me know what you are workin
 g on (Cornwall, go on, you know you want to!).\nThere won't be an opportuni
 ty to ring everything at each practice and I will respond to emails in adva
 nce or requests on the night.\nRingers from other divisions are enocuraged 
 to attend, do get in touch with requests for what you'd like to ring. This 
 event was imported from: https://www.scacr.org/news-events/calendar/1465/ca
 ncelled-northern-surprise-major-practice?tmpl=component (https://www.scacr.
 org/news-events/calendar/1465/cancelled-northern-surprise-major-practice?tm
 pl=component)
X-ALT-DESC;FMTTYPE=text/html:<p style="color: #000000;"><span style="text-decoration: underline;"><stron
 g style="color: #f40b0b;">I'm sorry to report that due to a lack of availab
 le ringers, I'm sorry to say this practice will no longer be going ahead. K
 eep an eye on the calendar and I will try and rustle up more interest for a
  practice in the coming weeks/months.</strong></span></p><p style="color: #
 000000;">Method of the moment: Venusium surprise major (<a href="https://rs
 w.me.uk/blueline/methods/view/Venusium_Surprise_Major">https://rsw.me.uk/bl
 ueline/methods/view/Venusium_Surprise_Major</a>) and I've also had a specia
 l request for Glasgow.</p><p style="color: #000000;">The main focus of thes
 e practices remains the Core 7 methods either individually or spliced depen
 ding on attendance.</p><p>For those ringers with a wider repetoire, I would
  like to ensure Belfast and Glasgow are more regularly incorporated so plea
 se do refresh these if you need to ahead of the practice. For those new to 
 Belfast, there will be an opportunity to ring three leads subject to attend
 ance if you want to give it a shot (this can be rung so that many bells rep
 eat the same lead three times).</p><p>Simon Linford's great book on the Cor
 e 7 and beyond is found here&nbsp;<a href="https://www.ringingworld.co.uk/p
 urchase/shop/the-core-seven-and-beyond.html">https://www.ringingworld.co.uk
 /purchase/shop/the-core-seven-and-beyond.html</a></p><p>The idea is to try 
 and improve the success rate and striking accuracy in the Core 7 methods an
 d it would be very much appreciated if where possible attendees do a little
  extra homework in advance, to help ensure we peform our best on the night.
  There will also be an enhanced effort to ensure more optimal band placemen
 t. Stedman triples will also be rung when appropriate.</p><p>Please get in 
 touch (<span id="cloaka2102f17e45265175fba64c613f174b2">This email address 
 is being protected from spambots. You need JavaScript enabled to view it.</
 span><script type='text/javascript'>
				document.getElementById('cloaka210
 2f17e45265175fba64c613f174b2').innerHTML = '';
				var prefix = '&#109;a' +
  'i&#108;' + '&#116;o';
				var path = 'hr' + 'ef' + '=';
				var addya2102
 f17e45265175fba64c613f174b2 = 'n&#101;ssr&#105;ng&#105;ng' + '&#64;';
				a
 ddya2102f17e45265175fba64c613f174b2 = addya2102f17e45265175fba64c613f174b2 
 + '&#105;cl&#111;&#117;d' + '&#46;' + 'c&#111;m';
				var addy_texta2102f17
 e45265175fba64c613f174b2 = 'n&#101;ssr&#105;ng&#105;ng' + '&#64;' + '&#105;
 cl&#111;&#117;d' + '&#46;' + 'c&#111;m';document.getElementById('cloaka2102
 f17e45265175fba64c613f174b2').innerHTML += '<a ' + path + '\'' + prefix + '
 :' + addya2102f17e45265175fba64c613f174b2 + '\'>'+addy_texta2102f17e4526517
 5fba64c613f174b2+'<\/a>';
		</script>) if there is anything in particular y
 ou would like to ring.</p><p>I appreciate there are a lot of methods mentio
 ned here and the intention is not to overwhelm I promise! If you are taking
  your first steps into ringing surprise major, you are most welcome, just l
 et me know what you are working on (Cornwall, go on, you know you want to!)
 .</p><p>There won't be an opportunity to ring everything at each practice a
 nd I will respond to emails in advance or requests on the night.</p><div><d
 iv><div class="apple-rich-link" role="link" data-url="https://www.ringingwo
 rld.co.uk/purchase/shop/the-core-seven-and-beyond.html">Ringers from other 
 divisions are enocuraged to attend, do get in touch with requests for what 
 you'd like to ring.</div></div></div> <a href="https://www.scacr.org/news-e
 vents/calendar/1465/cancelled-northern-surprise-major-practice?tmpl=compone
 nt">This event was imported from: https://www.scacr.org/news-events/calenda
 r/1465/cancelled-northern-surprise-major-practice?tmpl=component</a>CONTACT:This email address is being protected from spambots. You need JavaScript enabled to view it.
				document.getElementById('cloak4559ab410166265eb448817d329cafad').innerHTML = '';
				var prefix = '&#109;a' + 'i&#108;' + '&#116;o';
				var path = 'hr' + 'ef' + '=';
				var addy4559ab410166265eb448817d329cafad = 'n&#101;ssr&#105;ng&#105;ng' + '&#64;';
				addy4559ab410166265eb448817d329cafad = addy4559ab410166265eb448817d329cafad + '&#105;cl&#111;&#117;d' + '&#46;' + 'c&#111;m';
				var addy_text4559ab410166265eb448817d329cafad = 'n&#101;ssr&#105;ng&#105;ng' + '&#64;' + '&#105;cl&#111;&#117;d' + '&#46;' + 'c&#111;m';document.getElementById('cloak4559ab410166265eb448817d329cafad').innerHTML += '<a ' + path + '\'' + prefix + ':' + addy4559ab410166265eb448817d329cafad + '\'>'+addy_text4559ab410166265eb448817d329cafad+'';
		
X-EXTRAINFO:Please let me know if you are coming so that I can check practice is viable
  (plus let me know any special requests!).
DTSTAMP:20260425T131716
DTSTART;TZID=Europe/London:20250609T193000
DTEND;TZID=Europe/London:20250609T210000
SEQUENCE:0
TRANSP:OPAQUE
END:VEVENT
END:VCALENDAR