BEGIN:VCALENDAR
VERSION:2.0
PRODID:-//jEvents 2.0 for Joomla//EN
CALSCALE:GREGORIAN
METHOD:PUBLISH
BEGIN:VTIMEZONE
TZID:Europe/London
BEGIN:STANDARD
DTSTART:20241027T010000
RDATE:20250330T020000
TZOFFSETFROM:+0100
TZOFFSETTO:+0000
TZNAME:Europe/London GMT
END:STANDARD
BEGIN:STANDARD
DTSTART:20251026T010000
RDATE:20260329T020000
TZOFFSETFROM:+0100
TZOFFSETTO:+0000
TZNAME:Europe/London GMT
END:STANDARD
BEGIN:STANDARD
DTSTART:20261025T010000
RDATE:20270328T020000
TZOFFSETFROM:+0100
TZOFFSETTO:+0000
TZNAME:Europe/London GMT
END:STANDARD
BEGIN:STANDARD
DTSTART:20271031T010000
RDATE:20280326T020000
TZOFFSETFROM:+0100
TZOFFSETTO:+0000
TZNAME:Europe/London GMT
END:STANDARD
BEGIN:STANDARD
DTSTART:20281029T010000
RDATE:20290325T020000
TZOFFSETFROM:+0100
TZOFFSETTO:+0000
TZNAME:Europe/London GMT
END:STANDARD
BEGIN:STANDARD
DTSTART:20291028T010000
RDATE:20300331T020000
TZOFFSETFROM:+0100
TZOFFSETTO:+0000
TZNAME:Europe/London GMT
END:STANDARD
BEGIN:STANDARD
DTSTART:20301027T010000
RDATE:20310330T020000
TZOFFSETFROM:+0100
TZOFFSETTO:+0000
TZNAME:Europe/London GMT
END:STANDARD
BEGIN:DAYLIGHT
DTSTART:20240516T103000
RDATE:20241027T010000
TZOFFSETFROM:+0000
TZOFFSETTO:+0100
TZNAME:Europe/London BST
END:DAYLIGHT
BEGIN:DAYLIGHT
DTSTART:20250330T020000
RDATE:20251026T010000
TZOFFSETFROM:+0000
TZOFFSETTO:+0100
TZNAME:Europe/London BST
END:DAYLIGHT
BEGIN:DAYLIGHT
DTSTART:20260329T020000
RDATE:20261025T010000
TZOFFSETFROM:+0000
TZOFFSETTO:+0100
TZNAME:Europe/London BST
END:DAYLIGHT
BEGIN:DAYLIGHT
DTSTART:20270328T020000
RDATE:20271031T010000
TZOFFSETFROM:+0000
TZOFFSETTO:+0100
TZNAME:Europe/London BST
END:DAYLIGHT
BEGIN:DAYLIGHT
DTSTART:20280326T020000
RDATE:20281029T010000
TZOFFSETFROM:+0000
TZOFFSETTO:+0100
TZNAME:Europe/London BST
END:DAYLIGHT
BEGIN:DAYLIGHT
DTSTART:20290325T020000
RDATE:20291028T010000
TZOFFSETFROM:+0000
TZOFFSETTO:+0100
TZNAME:Europe/London BST
END:DAYLIGHT
BEGIN:DAYLIGHT
DTSTART:20300331T020000
RDATE:20301027T010000
TZOFFSETFROM:+0000
TZOFFSETTO:+0100
TZNAME:Europe/London BST
END:DAYLIGHT
END:VTIMEZONE
BEGIN:VEVENT
UID:e3046db168db2b14050873241336f961
CATEGORIES:West
CREATED:20250501T165117
SUMMARY:Rounds, Call Changes and Building Blocks!
LOCATION:St Mary's Church\, Funtington.
URL;VALUE=URI:https://www.scacr.org/news-events/calendar/1452/rounds-call-changes-and-bui
 lding-blocks?tmpl=component
DESCRIPTION:<p>No brick laying taking place during this practice!&nbsp; &nbsp;Are you a
 ble to handle a bell and are ready for next steps such as ringing rounds, a
 nd call changes and even looking at further skills for starting to ring met
 hods!&nbsp; &nbsp; This is the session for you!&nbsp; Supported by a strong
  band - exercises could include Kaleidescope, Meican Wave Changing Speed an
 d good ness knows what else!&nbsp; The plan is for fun as well as learning!
 </p><p>The tower venue has been deliberstely chosen for the lovely bells an
 d to give access for ringers from the other side of the District.</p><p>The
  plan is to run this session in&nbsp; May and June&nbsp; (3rd Saturday) and
  if successful - will become s regular practice.</p><p>It is important to b
 ook e mail so please <span id="cloak31183af1764f9e98a794db93134fd233">This 
 email address is being protected from spambots. You need JavaScript enabled
  to view it.</span><script type='text/javascript'>
				document.getElementB
 yId('cloak31183af1764f9e98a794db93134fd233').innerHTML = '';
				var prefix
  = '&#109;a' + 'i&#108;' + '&#116;o';
				var path = 'hr' + 'ef' + '=';
			
 	var addy31183af1764f9e98a794db93134fd233 = 'tr&#97;&#105;n&#105;ng' + '&#6
 4;';
				addy31183af1764f9e98a794db93134fd233 = addy31183af1764f9e98a794db9
 3134fd233 + 'sc&#97;cr' + '&#46;' + '&#111;rg';
				var addy_text31183af176
 4f9e98a794db93134fd233 = 'tr&#97;&#105;n&#105;ng' + '&#64;' + 'sc&#97;cr' +
  '&#46;' + '&#111;rg';document.getElementById('cloak31183af1764f9e98a794db9
 3134fd233').innerHTML += '<a ' + path + '\'' + prefix + ':' + addy31183af17
 64f9e98a794db93134fd233 + '\'>'+addy_text31183af1764f9e98a794db93134fd233+'
 <\/a>';
		</script>&nbsp;or call Vicky on 07493855100&nbsp; Refreshments wi
 ll also be provided.&nbsp; There is a charge for the hire of the hall so do
 nations will be required onn the day.</p><p>There is also good parking at t
 he church.</p><p>&nbsp;</p><p>&nbsp;</p><p>&nbsp;</p> <a href="https://www.
 scacr.org/news-events/calendar/1452/rounds-call-changes-and-building-blocks
 ?tmpl=component">This event was imported from: https://www.scacr.org/news-e
 vents/calendar/1452/rounds-call-changes-and-building-blocks?tmpl=component<
 /a>CONTACT:This email address is being protected from spambots. You need JavaScript enabled to view it.
				document.getElementById('cloakb6e815398942620d36bf5405b989a496').innerHTML = '';
				var prefix = '&#109;a' + 'i&#108;' + '&#116;o';
				var path = 'hr' + 'ef' + '=';
				var addyb6e815398942620d36bf5405b989a496 = 'tr&#97;&#105;n&#105;ng' + '&#64;';
				addyb6e815398942620d36bf5405b989a496 = addyb6e815398942620d36bf5405b989a496 + 'sc&#97;cr' + '&#46;' + '&#111;rg';
				var addy_textb6e815398942620d36bf5405b989a496 = 'tr&#97;&#105;n&#105;ng' + '&#64;' + 'sc&#97;cr' + '&#46;' + '&#111;rg';document.getElementById('cloakb6e815398942620d36bf5405b989a496').innerHTML += '<a ' + path + '\'' + prefix + ':' + addyb6e815398942620d36bf5405b989a496 + '\'>'+addy_textb6e815398942620d36bf5405b989a496+'';
		
DTSTAMP:20260425T131701
DTSTART;TZID=Europe/London:20250517T103000
DTEND;TZID=Europe/London:20250517T123000
SEQUENCE:0
TRANSP:OPAQUE
END:VEVENT
END:VCALENDAR