BEGIN:VCALENDAR
VERSION:2.0
PRODID:-//jEvents 2.0 for Joomla//EN
CALSCALE:GREGORIAN
METHOD:PUBLISH
BEGIN:VTIMEZONE
TZID:Europe/London
BEGIN:STANDARD
DTSTART:20241027T010000
RDATE:20250330T020000
TZOFFSETFROM:+0100
TZOFFSETTO:+0000
TZNAME:Europe/London GMT
END:STANDARD
BEGIN:STANDARD
DTSTART:20251026T010000
RDATE:20260329T020000
TZOFFSETFROM:+0100
TZOFFSETTO:+0000
TZNAME:Europe/London GMT
END:STANDARD
BEGIN:STANDARD
DTSTART:20261025T010000
RDATE:20270328T020000
TZOFFSETFROM:+0100
TZOFFSETTO:+0000
TZNAME:Europe/London GMT
END:STANDARD
BEGIN:STANDARD
DTSTART:20271031T010000
RDATE:20280326T020000
TZOFFSETFROM:+0100
TZOFFSETTO:+0000
TZNAME:Europe/London GMT
END:STANDARD
BEGIN:STANDARD
DTSTART:20281029T010000
RDATE:20290325T020000
TZOFFSETFROM:+0100
TZOFFSETTO:+0000
TZNAME:Europe/London GMT
END:STANDARD
BEGIN:STANDARD
DTSTART:20291028T010000
RDATE:20300331T020000
TZOFFSETFROM:+0100
TZOFFSETTO:+0000
TZNAME:Europe/London GMT
END:STANDARD
BEGIN:STANDARD
DTSTART:20301027T010000
RDATE:20310330T020000
TZOFFSETFROM:+0100
TZOFFSETTO:+0000
TZNAME:Europe/London GMT
END:STANDARD
BEGIN:DAYLIGHT
DTSTART:20240523T140000
RDATE:20241027T010000
TZOFFSETFROM:+0000
TZOFFSETTO:+0100
TZNAME:Europe/London BST
END:DAYLIGHT
BEGIN:DAYLIGHT
DTSTART:20250330T020000
RDATE:20251026T010000
TZOFFSETFROM:+0000
TZOFFSETTO:+0100
TZNAME:Europe/London BST
END:DAYLIGHT
BEGIN:DAYLIGHT
DTSTART:20260329T020000
RDATE:20261025T010000
TZOFFSETFROM:+0000
TZOFFSETTO:+0100
TZNAME:Europe/London BST
END:DAYLIGHT
BEGIN:DAYLIGHT
DTSTART:20270328T020000
RDATE:20271031T010000
TZOFFSETFROM:+0000
TZOFFSETTO:+0100
TZNAME:Europe/London BST
END:DAYLIGHT
BEGIN:DAYLIGHT
DTSTART:20280326T020000
RDATE:20281029T010000
TZOFFSETFROM:+0000
TZOFFSETTO:+0100
TZNAME:Europe/London BST
END:DAYLIGHT
BEGIN:DAYLIGHT
DTSTART:20290325T020000
RDATE:20291028T010000
TZOFFSETFROM:+0000
TZOFFSETTO:+0100
TZNAME:Europe/London BST
END:DAYLIGHT
BEGIN:DAYLIGHT
DTSTART:20300331T020000
RDATE:20301027T010000
TZOFFSETFROM:+0000
TZOFFSETTO:+0100
TZNAME:Europe/London BST
END:DAYLIGHT
END:VTIMEZONE
BEGIN:VEVENT
UID:8c90858f9b7de5c968d369a3a991caa4
CATEGORIES:East
CREATED:20250429T140223
SUMMARY:General Practice (Two Towers)
LOCATION:Salehurst and Sedlescombe
URL;VALUE=URI:https://www.scacr.org/news-events/calendar/1451/general-practice-two-towers
 ?tmpl=component
DESCRIPTION:Eastern District Monthly Practice\nCome and join the open practice at these
  two towers in the middle of the district.  Salehurst is a lovely ring of 8
  in this small village near Robertsbridge and then just down the road we go
  to Sedlescombe to ring on the 10cwt ground floor 6.  Rounds, call changes,
  plain hunt and methods to suit those in attendance will be rung.\n - Saleh
 urst - 2:00-3:30pm\n - Sedlescombe - 4:00-5:00pmAt Salehurst parking is on 
 the road, at Sedlescombe the parking is a layby for 8 cars opposite the chu
 rch but further parking is available at the village hall - there is a pavem
 ent between the hall and the church.\nIf you wish to avail yourself of lunc
 heon at a local establishment beforehand, the Salehurst Halt is next to the
  church (details here (https://salehursthalt.co.uk/) - check out the pictur
 e of the church on the homepage!) and the Queens Head in Sedlescombe (no we
 bsite but an active Facebook page here (https://www.facebook.com/queenshead
 sedlescombe/)) has also been recommended to me.  Booking at both is recomme
 nded. This event was imported from: https://www.scacr.org/news-events/calen
 dar/1451/general-practice-two-towers?tmpl=component (https://www.scacr.org/
 news-events/calendar/1451/general-practice-two-towers?tmpl=component)
X-ALT-DESC;FMTTYPE=text/html:<p><strong>Eastern District Monthly Practice</strong></p><div>Come and join
  the open practice at these two towers in the middle of the district.&nbsp;
  Salehurst is a lovely ring of 8 in this small village near Robertsbridge a
 nd then just down the road we go to Sedlescombe to ring on the 10cwt ground
  floor 6.&nbsp; Rounds, call changes, plain hunt and methods to suit those 
 in attendance will be rung.</div><div><ul><li>Salehurst - 2:00-3:30pm</li><
 li>Sedlescombe - 4:00-5:00pm</li></ul><p>At Salehurst parking is on the roa
 d, at Sedlescombe the parking is a layby for 8 cars opposite the church but
  further parking is available at the village hall - there is a pavement bet
 ween the hall and the church.</p><div>If you wish to avail yourself of lunc
 heon at a local establishment beforehand, the Salehurst Halt is next to the
  church (<a href="https://salehursthalt.co.uk/">details here</a>&nbsp;- che
 ck out the picture of the church on the homepage!) and the Queens Head in S
 edlescombe (no website but an&nbsp;<a href="https://www.facebook.com/queens
 headsedlescombe/">active Facebook page here</a>) has also been recommended 
 to me.&nbsp; Booking at both is recommended.</div></div> <a href="https://w
 ww.scacr.org/news-events/calendar/1451/general-practice-two-towers?tmpl=com
 ponent">This event was imported from: https://www.scacr.org/news-events/cal
 endar/1451/general-practice-two-towers?tmpl=component</a>CONTACT:This email address is being protected from spambots. You need JavaScript enabled to view it.
				document.getElementById('cloak67c7158c8c375953e2ef0cc5e0c62925').innerHTML = '';
				var prefix = '&#109;a' + 'i&#108;' + '&#116;o';
				var path = 'hr' + 'ef' + '=';
				var addy67c7158c8c375953e2ef0cc5e0c62925 = 's&#101;c-&#101;&#97;st' + '&#64;';
				addy67c7158c8c375953e2ef0cc5e0c62925 = addy67c7158c8c375953e2ef0cc5e0c62925 + 'sc&#97;cr' + '&#46;' + '&#111;rg';
				var addy_text67c7158c8c375953e2ef0cc5e0c62925 = 's&#101;c-&#101;&#97;st' + '&#64;' + 'sc&#97;cr' + '&#46;' + '&#111;rg';document.getElementById('cloak67c7158c8c375953e2ef0cc5e0c62925').innerHTML += '<a ' + path + '\'' + prefix + ':' + addy67c7158c8c375953e2ef0cc5e0c62925 + '\'>'+addy_text67c7158c8c375953e2ef0cc5e0c62925+'';
		
DTSTAMP:20260425T112744
DTSTART;TZID=Europe/London:20250524T140000
DTEND;TZID=Europe/London:20250524T170000
SEQUENCE:0
TRANSP:OPAQUE
END:VEVENT
END:VCALENDAR