BEGIN:VCALENDAR
VERSION:2.0
PRODID:-//jEvents 2.0 for Joomla//EN
CALSCALE:GREGORIAN
METHOD:PUBLISH
BEGIN:VTIMEZONE
TZID:Europe/London
BEGIN:STANDARD
DTSTART:20241027T010000
RDATE:20250330T020000
TZOFFSETFROM:+0100
TZOFFSETTO:+0000
TZNAME:Europe/London GMT
END:STANDARD
BEGIN:STANDARD
DTSTART:20251026T010000
RDATE:20260329T020000
TZOFFSETFROM:+0100
TZOFFSETTO:+0000
TZNAME:Europe/London GMT
END:STANDARD
BEGIN:STANDARD
DTSTART:20261025T010000
RDATE:20270328T020000
TZOFFSETFROM:+0100
TZOFFSETTO:+0000
TZNAME:Europe/London GMT
END:STANDARD
BEGIN:STANDARD
DTSTART:20271031T010000
RDATE:20280326T020000
TZOFFSETFROM:+0100
TZOFFSETTO:+0000
TZNAME:Europe/London GMT
END:STANDARD
BEGIN:STANDARD
DTSTART:20281029T010000
RDATE:20290325T020000
TZOFFSETFROM:+0100
TZOFFSETTO:+0000
TZNAME:Europe/London GMT
END:STANDARD
BEGIN:STANDARD
DTSTART:20291028T010000
RDATE:20300331T020000
TZOFFSETFROM:+0100
TZOFFSETTO:+0000
TZNAME:Europe/London GMT
END:STANDARD
BEGIN:STANDARD
DTSTART:20301027T010000
RDATE:20310330T020000
TZOFFSETFROM:+0100
TZOFFSETTO:+0000
TZNAME:Europe/London GMT
END:STANDARD
BEGIN:DAYLIGHT
DTSTART:20240403T191500
RDATE:20241027T010000
TZOFFSETFROM:+0000
TZOFFSETTO:+0100
TZNAME:Europe/London BST
END:DAYLIGHT
BEGIN:DAYLIGHT
DTSTART:20250330T020000
RDATE:20251026T010000
TZOFFSETFROM:+0000
TZOFFSETTO:+0100
TZNAME:Europe/London BST
END:DAYLIGHT
BEGIN:DAYLIGHT
DTSTART:20260329T020000
RDATE:20261025T010000
TZOFFSETFROM:+0000
TZOFFSETTO:+0100
TZNAME:Europe/London BST
END:DAYLIGHT
BEGIN:DAYLIGHT
DTSTART:20270328T020000
RDATE:20271031T010000
TZOFFSETFROM:+0000
TZOFFSETTO:+0100
TZNAME:Europe/London BST
END:DAYLIGHT
BEGIN:DAYLIGHT
DTSTART:20280326T020000
RDATE:20281029T010000
TZOFFSETFROM:+0000
TZOFFSETTO:+0100
TZNAME:Europe/London BST
END:DAYLIGHT
BEGIN:DAYLIGHT
DTSTART:20290325T020000
RDATE:20291028T010000
TZOFFSETFROM:+0000
TZOFFSETTO:+0100
TZNAME:Europe/London BST
END:DAYLIGHT
BEGIN:DAYLIGHT
DTSTART:20300331T020000
RDATE:20301027T010000
TZOFFSETFROM:+0000
TZOFFSETTO:+0100
TZNAME:Europe/London BST
END:DAYLIGHT
END:VTIMEZONE
BEGIN:VEVENT
UID:48f384009f9fe2350c1a3053ac6fc79a
CATEGORIES:Joint Event
CREATED:20250415T102429
SUMMARY:Joint Eastern and Southern Surprise Major Practice
LOCATION:Chiddingly
URL;VALUE=URI:https://www.scacr.org/news-events/calendar/1448/joint-eastern-and-southern-
 surprise-major-practice?tmpl=component
DESCRIPTION:There will be a Joint Eastern and Southern District Surprise Major at Chidd
 ingly Friday 4th April at 19:15\nIt is hoped the session will be of benefit
  for those taking steps in learning and ringing surprise major. Emphasis is
  likely to be on Cambridge and Yorkshire but if there is demand the reperto
 ire could include anything from the standard eight and core seven (Cambridg
 e, Yorkshire, Superlative, London, Bristol, Lessness and Cornwall).\nChiddi
 ngly is an easy to ring set of eight bells near the village pub the Six Bel
 ls. This could be visited afterwards. Parking is available in the car park 
 just outside the tower and the entrance is via the base of the tower.  \nPl
 ease contact Marion Hollands (This email address is being protected from sp
 ambots. You need JavaScript enabled to view it.
				document.getElementById
 ('cloak23ab92ea67dec5634818d7755b152316').innerHTML = '';
				var prefix = 
 '&#109;a' + 'i&#108;' + '&#116;o';
				var path = 'hr' + 'ef' + '=';
				va
 r addy23ab92ea67dec5634818d7755b152316 = 'mch&#111;ll&#97;nds2' + '&#64;';

 				addy23ab92ea67dec5634818d7755b152316 = addy23ab92ea67dec5634818d7755b15
 2316 + 'bt&#105;nt&#101;rn&#101;t' + '&#46;' + 'c&#111;m';
				var addy_tex
 t23ab92ea67dec5634818d7755b152316 = 'mch&#111;ll&#97;nds2' + '&#64;' + 'bt&
 #105;nt&#101;rn&#101;t' + '&#46;' + 'c&#111;m';document.getElementById('clo
 ak23ab92ea67dec5634818d7755b152316').innerHTML += '<a ' + path + '\'' + pre
 fix + ':' + addy23ab92ea67dec5634818d7755b152316 + '\'>'+addy_text23ab92ea6
 7dec5634818d7755b152316+'';
		) Eastern District Secretary or Debbie Evans 
 ( (mailto:sec-south@scacr.org) (mailto:sec-south@scacr.org)This email addre
 ss is being protected from spambots. You need JavaScript enabled to view it
 .
				document.getElementById('cloak3a96e732cbaa939690b8f55c5cb25769').inne
 rHTML = '';
				var prefix = '&#109;a' + 'i&#108;' + '&#116;o';
				var pat
 h = 'hr' + 'ef' + '=';
				var addy3a96e732cbaa939690b8f55c5cb25769 = 's&#1
 01;c-s&#111;&#117;th' + '&#64;';
				addy3a96e732cbaa939690b8f55c5cb25769 =
  addy3a96e732cbaa939690b8f55c5cb25769 + 'sc&#97;cr' + '&#46;' + '&#111;rg';
 
				var addy_text3a96e732cbaa939690b8f55c5cb25769 = 's&#101;c-s&#111;&#117
 ;th' + '&#64;' + 'sc&#97;cr' + '&#46;' + '&#111;rg';document.getElementById
 ('cloak3a96e732cbaa939690b8f55c5cb25769').innerHTML += '<a ' + path + '\'' 
 + prefix + ':' + addy3a96e732cbaa939690b8f55c5cb25769 + '\'>'+addy_text3a96
 e732cbaa939690b8f55c5cb25769+'';
		 ) Southern District Secretary, if you w
 ish to attend.\n This event was imported from: https://www.scacr.org/news-e
 vents/calendar/1448/joint-eastern-and-southern-surprise-major-practice?tmpl
 =component (https://www.scacr.org/news-events/calendar/1448/joint-eastern-a
 nd-southern-surprise-major-practice?tmpl=component)
X-ALT-DESC;FMTTYPE=text/html:<p><strong>There will be a Joint Eastern and Southern District Surprise Maj
 or at Chiddingly Friday 4th April at 19:15</strong></p><p>It is hoped the s
 ession will be of benefit for those taking steps in learning and ringing su
 rprise major. Emphasis is likely to be on Cambridge and Yorkshire but if th
 ere is demand the repertoire could include anything from the standard eight
  and core seven (Cambridge, Yorkshire, Superlative, London, Bristol, Lessne
 ss and Cornwall).</p><p>Chiddingly is an easy to ring set of eight bells ne
 ar the village pub the Six Bells. This could be visited afterwards. Parking
  is available in the car park just outside the tower and the entrance is vi
 a the base of the tower.&nbsp;&nbsp;</p><p>Please contact Marion Hollands (
 <span id="cloak23ab92ea67dec5634818d7755b152316">This email address is bein
 g protected from spambots. You need JavaScript enabled to view it.</span><s
 cript type='text/javascript'>
				document.getElementById('cloak23ab92ea67d
 ec5634818d7755b152316').innerHTML = '';
				var prefix = '&#109;a' + 'i&#10
 8;' + '&#116;o';
				var path = 'hr' + 'ef' + '=';
				var addy23ab92ea67de
 c5634818d7755b152316 = 'mch&#111;ll&#97;nds2' + '&#64;';
				addy23ab92ea67
 dec5634818d7755b152316 = addy23ab92ea67dec5634818d7755b152316 + 'bt&#105;nt
 &#101;rn&#101;t' + '&#46;' + 'c&#111;m';
				var addy_text23ab92ea67dec5634
 818d7755b152316 = 'mch&#111;ll&#97;nds2' + '&#64;' + 'bt&#105;nt&#101;rn&#1
 01;t' + '&#46;' + 'c&#111;m';document.getElementById('cloak23ab92ea67dec563
 4818d7755b152316').innerHTML += '<a ' + path + '\'' + prefix + ':' + addy23
 ab92ea67dec5634818d7755b152316 + '\'>'+addy_text23ab92ea67dec5634818d7755b1
 52316+'<\/a>';
		</script>) Eastern District Secretary or Debbie Evans (<a 
 href="mailto:sec-south@scacr.org" target="_blank"></a><a href="mailto:sec-s
 outh@scacr.org" target="_blank"></a><span id="cloak3a96e732cbaa939690b8f55c
 5cb25769">This email address is being protected from spambots. You need Jav
 aScript enabled to view it.</span><script type='text/javascript'>
				docum
 ent.getElementById('cloak3a96e732cbaa939690b8f55c5cb25769').innerHTML = '';
 
				var prefix = '&#109;a' + 'i&#108;' + '&#116;o';
				var path = 'hr' + 
 'ef' + '=';
				var addy3a96e732cbaa939690b8f55c5cb25769 = 's&#101;c-s&#111
 ;&#117;th' + '&#64;';
				addy3a96e732cbaa939690b8f55c5cb25769 = addy3a96e7
 32cbaa939690b8f55c5cb25769 + 'sc&#97;cr' + '&#46;' + '&#111;rg';
				var ad
 dy_text3a96e732cbaa939690b8f55c5cb25769 = 's&#101;c-s&#111;&#117;th' + '&#6
 4;' + 'sc&#97;cr' + '&#46;' + '&#111;rg';document.getElementById('cloak3a96
 e732cbaa939690b8f55c5cb25769').innerHTML += '<a ' + path + '\'' + prefix + 
 ':' + addy3a96e732cbaa939690b8f55c5cb25769 + '\'>'+addy_text3a96e732cbaa939
 690b8f55c5cb25769+'<\/a>';
		</script>&nbsp;) Southern District Secretary, 
 if you wish to attend.</p> <a href="https://www.scacr.org/news-events/calen
 dar/1448/joint-eastern-and-southern-surprise-major-practice?tmpl=component"
 >This event was imported from: https://www.scacr.org/news-events/calendar/1
 448/joint-eastern-and-southern-surprise-major-practice?tmpl=component</a>CONTACT:This email address is being protected from spambots. You need JavaScript enabled to view it.
				document.getElementById('cloak5ea7be624651cacab69cca498fbf5439').innerHTML = '';
				var prefix = '&#109;a' + 'i&#108;' + '&#116;o';
				var path = 'hr' + 'ef' + '=';
				var addy5ea7be624651cacab69cca498fbf5439 = 's&#101;c-&#101;&#97;st' + '&#64;';
				addy5ea7be624651cacab69cca498fbf5439 = addy5ea7be624651cacab69cca498fbf5439 + 'sc&#97;cr' + '&#46;' + '&#111;rg';
				var addy_text5ea7be624651cacab69cca498fbf5439 = 's&#101;c-&#101;&#97;st' + '&#64;' + 'sc&#97;cr' + '&#46;' + '&#111;rg';document.getElementById('cloak5ea7be624651cacab69cca498fbf5439').innerHTML += '<a ' + path + '\'' + prefix + ':' + addy5ea7be624651cacab69cca498fbf5439 + '\'>'+addy_text5ea7be624651cacab69cca498fbf5439+'';
		
DTSTAMP:20260425T003623
DTSTART;TZID=Europe/London:20250404T191500
SEQUENCE:0
TRANSP:OPAQUE
END:VEVENT
END:VCALENDAR