BEGIN:VCALENDAR
VERSION:2.0
PRODID:-//jEvents 2.0 for Joomla//EN
CALSCALE:GREGORIAN
METHOD:PUBLISH
BEGIN:VTIMEZONE
TZID:Europe/London
BEGIN:STANDARD
DTSTART:20241027T010000
RDATE:20250330T020000
TZOFFSETFROM:+0100
TZOFFSETTO:+0000
TZNAME:Europe/London GMT
END:STANDARD
BEGIN:STANDARD
DTSTART:20251026T010000
RDATE:20260329T020000
TZOFFSETFROM:+0100
TZOFFSETTO:+0000
TZNAME:Europe/London GMT
END:STANDARD
BEGIN:STANDARD
DTSTART:20261025T010000
RDATE:20270328T020000
TZOFFSETFROM:+0100
TZOFFSETTO:+0000
TZNAME:Europe/London GMT
END:STANDARD
BEGIN:STANDARD
DTSTART:20271031T010000
RDATE:20280326T020000
TZOFFSETFROM:+0100
TZOFFSETTO:+0000
TZNAME:Europe/London GMT
END:STANDARD
BEGIN:STANDARD
DTSTART:20281029T010000
RDATE:20290325T020000
TZOFFSETFROM:+0100
TZOFFSETTO:+0000
TZNAME:Europe/London GMT
END:STANDARD
BEGIN:STANDARD
DTSTART:20291028T010000
RDATE:20300331T020000
TZOFFSETFROM:+0100
TZOFFSETTO:+0000
TZNAME:Europe/London GMT
END:STANDARD
BEGIN:STANDARD
DTSTART:20301027T010000
RDATE:20310330T020000
TZOFFSETFROM:+0100
TZOFFSETTO:+0000
TZNAME:Europe/London GMT
END:STANDARD
BEGIN:DAYLIGHT
DTSTART:20240530T000000
RDATE:20241027T010000
TZOFFSETFROM:+0000
TZOFFSETTO:+0100
TZNAME:Europe/London BST
END:DAYLIGHT
BEGIN:DAYLIGHT
DTSTART:20250330T020000
RDATE:20251026T010000
TZOFFSETFROM:+0000
TZOFFSETTO:+0100
TZNAME:Europe/London BST
END:DAYLIGHT
BEGIN:DAYLIGHT
DTSTART:20260329T020000
RDATE:20261025T010000
TZOFFSETFROM:+0000
TZOFFSETTO:+0100
TZNAME:Europe/London BST
END:DAYLIGHT
BEGIN:DAYLIGHT
DTSTART:20270328T020000
RDATE:20271031T010000
TZOFFSETFROM:+0000
TZOFFSETTO:+0100
TZNAME:Europe/London BST
END:DAYLIGHT
BEGIN:DAYLIGHT
DTSTART:20280326T020000
RDATE:20281029T010000
TZOFFSETFROM:+0000
TZOFFSETTO:+0100
TZNAME:Europe/London BST
END:DAYLIGHT
BEGIN:DAYLIGHT
DTSTART:20290325T020000
RDATE:20291028T010000
TZOFFSETFROM:+0000
TZOFFSETTO:+0100
TZNAME:Europe/London BST
END:DAYLIGHT
BEGIN:DAYLIGHT
DTSTART:20300331T020000
RDATE:20301027T010000
TZOFFSETFROM:+0000
TZOFFSETTO:+0100
TZNAME:Europe/London BST
END:DAYLIGHT
END:VTIMEZONE
BEGIN:VEVENT
UID:ee958347fbcdae280371656cb52475ea
CATEGORIES:West
CREATED:20250413T162348
SUMMARY:PLEASE NOTE - CHANGE OF FINAL DETAILS - LET THE TRAIN TAKE THE STRAIN!  LONDON OUTING!
LOCATION:LONDON
URL;VALUE=URI:https://www.scacr.org/news-events/calendar/1439/please-note-change-of-final
 -details-let-the-train-take-the-strain-london-outing?tmpl=component
DESCRIPTION:28TH MAY - REVISED PROGRAMME BELOW:\nLet the train take the strain and Join
  the Western District on this Saturday  31st May, for an outing in the East
  End of London visiting towers in the Docklands area. This is an all day ev
 ent, all by public transport!.  Here are the final details.  If you would l
 ike to come along, from whichever District, please let Janice know on 07890
 804339 or This email address is being protected from spambots. You need Jav
 aScript enabled to view it.
				document.getElementById('cloak35205346a2c05
 40b63665f5368d597df').innerHTML = '';
				var prefix = '&#109;a' + 'i&#108;
 ' + '&#116;o';
				var path = 'hr' + 'ef' + '=';
				var addy35205346a2c054
 0b63665f5368d597df = 's&#101;c-w&#101;st' + '&#64;';
				addy35205346a2c054
 0b63665f5368d597df = addy35205346a2c0540b63665f5368d597df + 'sc&#97;cr' + '
 &#46;' + '&#111;rg';
				var addy_text35205346a2c0540b63665f5368d597df = 's
 &#101;c-w&#101;st' + '&#64;' + 'sc&#97;cr' + '&#46;' + '&#111;rg';document.
 getElementById('cloak35205346a2c0540b63665f5368d597df').innerHTML += '<a ' 
 + path + '\'' + prefix + ':' + addy35205346a2c0540b63665f5368d597df + '\'>'
 +addy_text35205346a2c0540b63665f5368d597df+'';
		  so that we can look out 
 for you!!    It is also fine to just turn up and to turn up to as many or a
 s few towers as you wish!  We do need to give a donation to each tower so p
 lease bring some cooins with you - the more people there are - the less eac
 h will need to pay!  Look forward to seeing you there!  This is sure to be 
 a greaat day!\nLET THE TRAIN TAKE THE STRAIN!  LONDON OUTING – SATURDAY 31S
 Y MAY 2025!\nTRANSPORT DETAILS\nIf travelling into Victoria take the underg
 round to Tower Hill, the Docklands Light Railway (DLR) station at Tower Gat
 eway is a few minutes walk away. If arriving at London Bridge station it is
  easiest to walk to Tower Gateway.\nOn the DLR take a train bound for Beckt
 on, alight at Limehouse station. Cross over and walk along Basin Approach a
 nd then turn left to go up to Commercial Road and then turn right, St Anne’
 s church is a little further along on the lefthand side.\n10.20 – 11.10. Li
 mehouse, St Anne. 10, 12.3.25\nRetrace your steps after to ringing and head
  back to Limehouse DLR station. You will need a Lewisham bound train and tr
 avel to Island Gardens. Walk to the main road, A1206, turn left and a short
  distance is Christ Church, Isle of Dogs on the corner of Glenaffric Avenue
 .\n12.00 – 12.45. Isle of Dogs, Christ Church. 8, 10.3.27\nWalk back to the
  A1206, and find bus stop C5, you need to catch the D7 bus going north. Sta
 y on the bus until Poplar High Street, Blackwall. When you have got off the
  bus walk west along Poplar High Street before turning right into Bazely St
 reet; you should see the church infront of you.\n2.10 – 3.00. Poplar, All S
 aints. 10, 23.3.6\nAfter ringing exit onto Newby Place and walk to All Sain
 t’s DLR station. Eventually you will need a train bound for Tower Gateway, 
 this may entail a change at Poplar DLR station.Stay on the train all the wa
 y to Thames Gateway Station.  Come out of the station and and walk north up
  Minories for 40 metres when you should turn left into America Squsre.  Fol
 low this for a short distance until you reach Cross Wall, turn left, when y
 ou reach the junction with Cooper's Row, continue straight ahead into Crutc
 hed Friars which then leads into Hart Streret, the church is on the left.\n
 3.40 – 4.20.  Hart Street, St Olave. 8, 11.3.20\nCome out of the church and
  walk south down Mark Lane, at the junction with Great Tower Streret, turn 
 right and walk along.  Carrying straight ahead it turns into Eastcheap.  At
  the major junction continue straight ahead into Cannon Street, just past C
 annon Street Railway Station turn left down Dowgate Hill.  Almost immediate
 ly, turn into  Cloak Lane and walk along to the third road on the left.  Th
 is is Garlick Hill, go down here and the church is immediately in front of 
 you.  Entry is at the wet end under the tower, don't worry if the gate is l
 ocked shut.  I will have collected the necessary keys for access!!!\n4.50 –
  5.30.  Garlickhythe, St James. 8 9.1.25.  The Royal Jubilee Bells\nThen it
  is time to make your way back to the railway station and head home.\n This
  event was imported from: https://www.scacr.org/news-events/calendar/1439/p
 lease-note-change-of-final-details-let-the-train-take-the-strain-london-out
 ing?tmpl=component (https://www.scacr.org/news-events/calendar/1439/please-
 note-change-of-final-details-let-the-train-take-the-strain-london-outing?tm
 pl=component)
X-ALT-DESC;FMTTYPE=text/html:<p>28TH MAY - REVISED PROGRAMME BELOW:</p><p>Let the train take the strain 
 and Join the Western District on this Saturday&nbsp; 31st May, for an outin
 g in the East End of London visiting towers in the Docklands area. This is 
 an all day event, all by public transport!.&nbsp; Here are the final detail
 s.&nbsp; If you would like to come along, from whichever District, please l
 et Janice know on 07890804339 or <span id="cloak35205346a2c0540b63665f5368d
 597df">This email address is being protected from spambots. You need JavaSc
 ript enabled to view it.</span><script type='text/javascript'>
				document
 .getElementById('cloak35205346a2c0540b63665f5368d597df').innerHTML = '';
		
 		var prefix = '&#109;a' + 'i&#108;' + '&#116;o';
				var path = 'hr' + 'ef
 ' + '=';
				var addy35205346a2c0540b63665f5368d597df = 's&#101;c-w&#101;st
 ' + '&#64;';
				addy35205346a2c0540b63665f5368d597df = addy35205346a2c0540
 b63665f5368d597df + 'sc&#97;cr' + '&#46;' + '&#111;rg';
				var addy_text35
 205346a2c0540b63665f5368d597df = 's&#101;c-w&#101;st' + '&#64;' + 'sc&#97;c
 r' + '&#46;' + '&#111;rg';document.getElementById('cloak35205346a2c0540b636
 65f5368d597df').innerHTML += '<a ' + path + '\'' + prefix + ':' + addy35205
 346a2c0540b63665f5368d597df + '\'>'+addy_text35205346a2c0540b63665f5368d597
 df+'<\/a>';
		</script>&nbsp; so that we can look out for you!!&nbsp; &nbsp
 ; It is also fine to just turn up and to turn up to as many or as few tower
 s as you wish!&nbsp; We do need to give a donation to each tower so please 
 bring some cooins with you - the more people there are - the less each will
  need to pay!&nbsp; Look forward to seeing you there!&nbsp; This is sure to
  be a greaat day!</p><p>LET THE TRAIN TAKE THE STRAIN!&nbsp; LONDON OUTING 
 – SATURDAY 31SY MAY 2025!</p><p>TRANSPORT DETAILS</p><p>If travelling into 
 Victoria take the underground to Tower Hill, the Docklands Light Railway (D
 LR) station at Tower Gateway is a few minutes walk away. If arriving at Lon
 don Bridge station it is easiest to walk to Tower Gateway.</p><p>On the DLR
  take a train bound for Beckton, alight at Limehouse station. Cross over an
 d walk along Basin Approach and then turn left to go up to Commercial Road 
 and then turn right, St Anne’s church is a little further along on the left
 hand side.</p><p><strong>10.20 – 11.10. Limehouse, St Anne. 10, 12.3.25</st
 rong></p><p>Retrace your steps after to ringing and head back to Limehouse 
 DLR station. You will need a Lewisham bound train and travel to Island Gard
 ens. Walk to the main road, A1206, turn left and a short distance is Christ
  Church, Isle of Dogs on the corner of Glenaffric Avenue.</p><p><strong>12.
 00 – 12.45. Isle of Dogs, Christ Church. 8, 10.3.27</strong></p><p>Walk bac
 k to the A1206, and find bus stop C5, you need to catch the D7 bus going no
 rth. Stay on the bus until Poplar High Street, Blackwall. When you have got
  off the bus walk west along Poplar High Street before turning right into B
 azely Street; you should see the church infront of you.</p><p><strong>2.10 
 – 3.00. Poplar, All Saints. 10, 23.3.6</strong></p><p>After ringing exit on
 to Newby Place and walk to All Saint’s DLR station. Eventually you will nee
 d a train bound for Tower Gateway, this may entail a change at Poplar DLR s
 tation.Stay on the train all the way to Thames Gateway Station.&nbsp; Come 
 out of the station and and walk north up Minories for 40 metres when you sh
 ould turn left into America Squsre.&nbsp; Follow this for a short distance 
 until you reach Cross Wall, turn left, when you reach the junction with Coo
 per's Row, continue straight ahead into Crutched Friars which then leads in
 to Hart Streret, the church is on the left.</p><p><strong>3.40 – 4.20.&nbsp
 ;&nbsp;<strong>Hart Street, St Olave. 8, 11.3.20</strong></strong></p><p>Co
 me out of the church and walk south down Mark Lane, at the junction with Gr
 eat Tower Streret, turn right and walk along.&nbsp; Carrying straight ahead
  it turns into Eastcheap.&nbsp; At the major junction continue straight ahe
 ad into Cannon Street, just past Cannon Street Railway Station turn left do
 wn Dowgate Hill.&nbsp; Almost immediately, turn into&nbsp; Cloak Lane and w
 alk along to the third road on the left.&nbsp; This is Garlick Hill, go dow
 n here and the church is immediately in front of you.&nbsp; Entry is at the
  wet end under the tower, don't worry if the gate is locked shut.&nbsp; I w
 ill have collected the necessary keys for access!!!</p><p><strong>4.50 – 5.
 30.&nbsp; Garlickhythe, St James. 8 9.1.25.&nbsp; The Royal Jubilee Bells</
 strong></p><p>Then it is time to make your way back to the railway station 
 and head home.</p> <a href="https://www.scacr.org/news-events/calendar/1439
 /please-note-change-of-final-details-let-the-train-take-the-strain-london-o
 uting?tmpl=component">This event was imported from: https://www.scacr.org/n
 ews-events/calendar/1439/please-note-change-of-final-details-let-the-train-
 take-the-strain-london-outing?tmpl=component</a>CONTACT:This email address is being protected from spambots. You need JavaScript enabled to view it.
				document.getElementById('cloak059f4b9d22459df5060234a43482f7a6').innerHTML = '';
				var prefix = '&#109;a' + 'i&#108;' + '&#116;o';
				var path = 'hr' + 'ef' + '=';
				var addy059f4b9d22459df5060234a43482f7a6 = 's&#101;c-w&#101;st' + '&#64;';
				addy059f4b9d22459df5060234a43482f7a6 = addy059f4b9d22459df5060234a43482f7a6 + 'sc&#97;cr' + '&#46;' + '&#111;rg';
				var addy_text059f4b9d22459df5060234a43482f7a6 = 's&#101;c-w&#101;st' + '&#64;' + 'sc&#97;cr' + '&#46;' + '&#111;rg';document.getElementById('cloak059f4b9d22459df5060234a43482f7a6').innerHTML += '<a ' + path + '\'' + prefix + ':' + addy059f4b9d22459df5060234a43482f7a6 + '\'>'+addy_text059f4b9d22459df5060234a43482f7a6+'';
		
DTSTAMP:20260425T005719
DTSTART;TZID=Europe/London;VALUE=DATE:20250531
DTEND;TZID=Europe/London;VALUE=DATE:20250601
SEQUENCE:0
TRANSP:OPAQUE
END:VEVENT
END:VCALENDAR