BEGIN:VCALENDAR
VERSION:2.0
PRODID:-//jEvents 2.0 for Joomla//EN
CALSCALE:GREGORIAN
METHOD:PUBLISH
BEGIN:VTIMEZONE
TZID:Europe/London
BEGIN:STANDARD
DTSTART:20241027T010000
RDATE:20250330T020000
TZOFFSETFROM:+0100
TZOFFSETTO:+0000
TZNAME:Europe/London GMT
END:STANDARD
BEGIN:STANDARD
DTSTART:20251026T010000
RDATE:20260329T020000
TZOFFSETFROM:+0100
TZOFFSETTO:+0000
TZNAME:Europe/London GMT
END:STANDARD
BEGIN:STANDARD
DTSTART:20261025T010000
RDATE:20270328T020000
TZOFFSETFROM:+0100
TZOFFSETTO:+0000
TZNAME:Europe/London GMT
END:STANDARD
BEGIN:STANDARD
DTSTART:20271031T010000
RDATE:20280326T020000
TZOFFSETFROM:+0100
TZOFFSETTO:+0000
TZNAME:Europe/London GMT
END:STANDARD
BEGIN:STANDARD
DTSTART:20281029T010000
RDATE:20290325T020000
TZOFFSETFROM:+0100
TZOFFSETTO:+0000
TZNAME:Europe/London GMT
END:STANDARD
BEGIN:STANDARD
DTSTART:20291028T010000
RDATE:20300331T020000
TZOFFSETFROM:+0100
TZOFFSETTO:+0000
TZNAME:Europe/London GMT
END:STANDARD
BEGIN:STANDARD
DTSTART:20301027T010000
RDATE:20310330T020000
TZOFFSETFROM:+0100
TZOFFSETTO:+0000
TZNAME:Europe/London GMT
END:STANDARD
BEGIN:DAYLIGHT
DTSTART:20240511T193000
RDATE:20241027T010000
TZOFFSETFROM:+0000
TZOFFSETTO:+0100
TZNAME:Europe/London BST
END:DAYLIGHT
BEGIN:DAYLIGHT
DTSTART:20250330T020000
RDATE:20251026T010000
TZOFFSETFROM:+0000
TZOFFSETTO:+0100
TZNAME:Europe/London BST
END:DAYLIGHT
BEGIN:DAYLIGHT
DTSTART:20260329T020000
RDATE:20261025T010000
TZOFFSETFROM:+0000
TZOFFSETTO:+0100
TZNAME:Europe/London BST
END:DAYLIGHT
BEGIN:DAYLIGHT
DTSTART:20270328T020000
RDATE:20271031T010000
TZOFFSETFROM:+0000
TZOFFSETTO:+0100
TZNAME:Europe/London BST
END:DAYLIGHT
BEGIN:DAYLIGHT
DTSTART:20280326T020000
RDATE:20281029T010000
TZOFFSETFROM:+0000
TZOFFSETTO:+0100
TZNAME:Europe/London BST
END:DAYLIGHT
BEGIN:DAYLIGHT
DTSTART:20290325T020000
RDATE:20291028T010000
TZOFFSETFROM:+0000
TZOFFSETTO:+0100
TZNAME:Europe/London BST
END:DAYLIGHT
BEGIN:DAYLIGHT
DTSTART:20300331T020000
RDATE:20301027T010000
TZOFFSETFROM:+0000
TZOFFSETTO:+0100
TZNAME:Europe/London BST
END:DAYLIGHT
END:VTIMEZONE
BEGIN:VEVENT
UID:f4034196f362658b62fa142eb7f4eeef
CATEGORIES:West
CREATED:20250413T160631
SUMMARY:Surprise Minor Simulator Practice
LOCATION:St Mary's Church\, Stoughton
URL;VALUE=URI:https://www.scacr.org/news-events/calendar/1436/surprise-minor-simulator-pr
 actice?tmpl=component
DESCRIPTION:<p>This is a regular practice is held every second Monday of the month!</p>
 <p>Current methods rung are: Cambridge, London, Norwich, Carlisle and Bever
 ley!&nbsp; The idea is to consolidate them and start splicing them!!&nbsp; 
 Other methods maybe added as and when.</p><p>Don't br put off if you are un
 able to ring all these methods or can't ring spliced - there are a range of
  abilities and it is a practice so an opportunity to have a go!!</p><p>Plea
 se let Joanna Woodcock know if you intend to go along on <span id="cloak0e5
 067a83f8fda6a8a3b686273ce9e78">This email address is being protected from s
 pambots. You need JavaScript enabled to view it.</span><script type='text/j
 avascript'>
				document.getElementById('cloak0e5067a83f8fda6a8a3b686273ce9
 e78').innerHTML = '';
				var prefix = '&#109;a' + 'i&#108;' + '&#116;o';
	
 			var path = 'hr' + 'ef' + '=';
				var addy0e5067a83f8fda6a8a3b686273ce9e
 78 = 'd&#101;&#97;nl&#97;n&#101;&#101;nd' + '&#64;';
				addy0e5067a83f8fda
 6a8a3b686273ce9e78 = addy0e5067a83f8fda6a8a3b686273ce9e78 + 'gm&#97;&#105;l
 ' + '&#46;' + 'c&#111;m';
				var addy_text0e5067a83f8fda6a8a3b686273ce9e78
  = 'd&#101;&#97;nl&#97;n&#101;&#101;nd' + '&#64;' + 'gm&#97;&#105;l' + '&#4
 6;' + 'c&#111;m';document.getElementById('cloak0e5067a83f8fda6a8a3b686273ce
 9e78').innerHTML += '<a ' + path + '\'' + prefix + ':' + addy0e5067a83f8fda
 6a8a3b686273ce9e78 + '\'>'+addy_text0e5067a83f8fda6a8a3b686273ce9e78+'<\/a>
 ';
		</script></p><p>There is ample on-street parking in the village and li
 mited, blue badge parking up at the track at the church.&nbsp; The farmyard
  car park to the left of the track is private and so please do not use!</p>
 <p>There are no toilets in the church - nearest facilities are in the Hare 
 and Hounds pub approx 300 m away.</p><p>If there is plenty of rain - it may
  be handy to wear wellies or at least have some in the car!!!</p><p>Contact
  the Tower Captain if you have any other questions!&nbsp; Tim Wright - <spa
 n id="cloak3eda5060f5842c4cf07d18459a1abb7e">This email address is being pr
 otected from spambots. You need JavaScript enabled to view it.</span><scrip
 t type='text/javascript'>
				document.getElementById('cloak3eda5060f5842c4
 cf07d18459a1abb7e').innerHTML = '';
				var prefix = '&#109;a' + 'i&#108;' 
 + '&#116;o';
				var path = 'hr' + 'ef' + '=';
				var addy3eda5060f5842c4c
 f07d18459a1abb7e = 'tcf.wr&#105;ght' + '&#64;';
				addy3eda5060f5842c4cf07
 d18459a1abb7e = addy3eda5060f5842c4cf07d18459a1abb7e + 'bt&#105;nt&#101;rn&
 #101;t' + '&#46;' + 'c&#111;m';
				var addy_text3eda5060f5842c4cf07d18459a
 1abb7e = 'tcf.wr&#105;ght' + '&#64;' + 'bt&#105;nt&#101;rn&#101;t' + '&#46;
 ' + 'c&#111;m';document.getElementById('cloak3eda5060f5842c4cf07d18459a1abb
 7e').innerHTML += '<a ' + path + '\'' + prefix + ':' + addy3eda5060f5842c4c
 f07d18459a1abb7e + '\'>'+addy_text3eda5060f5842c4cf07d18459a1abb7e+'<\/a>';
 
		</script></p> <a href="https://www.scacr.org/news-events/calendar/1436/s
 urprise-minor-simulator-practice?tmpl=component">This event was imported fr
 om: https://www.scacr.org/news-events/calendar/1436/surprise-minor-simulato
 r-practice?tmpl=component</a>CONTACT:Joanna Woodcock This email address is being protected from spambots. You need JavaScript enabled to view it.
				document.getElementById('cloak85545ceba817158a75e6231afdaa5e3f').innerHTML = '';
				var prefix = '&#109;a' + 'i&#108;' + '&#116;o';
				var path = 'hr' + 'ef' + '=';
				var addy85545ceba817158a75e6231afdaa5e3f = 'd&#101;&#97;nl&#97;n&#101;&#101;nd' + '&#64;';
				addy85545ceba817158a75e6231afdaa5e3f = addy85545ceba817158a75e6231afdaa5e3f + 'gm&#97;&#105;l' + '&#46;' + 'c&#111;m';
				var addy_text85545ceba817158a75e6231afdaa5e3f = 'd&#101;&#97;nl&#97;n&#101;&#101;nd' + '&#64;' + 'gm&#97;&#105;l' + '&#46;' + 'c&#111;m';document.getElementById('cloak85545ceba817158a75e6231afdaa5e3f').innerHTML += '<a ' + path + '\'' + prefix + ':' + addy85545ceba817158a75e6231afdaa5e3f + '\'>'+addy_text85545ceba817158a75e6231afdaa5e3f+'';
		
DTSTAMP:20260425T111515
DTSTART;TZID=Europe/London:20250512T193000
DTEND;TZID=Europe/London:20250512T210000
SEQUENCE:0
TRANSP:OPAQUE
END:VEVENT
END:VCALENDAR