BEGIN:VCALENDAR
VERSION:2.0
PRODID:-//jEvents 2.0 for Joomla//EN
CALSCALE:GREGORIAN
METHOD:PUBLISH
BEGIN:VTIMEZONE
TZID:Europe/London
BEGIN:STANDARD
DTSTART:20241027T010000
RDATE:20250330T020000
TZOFFSETFROM:+0100
TZOFFSETTO:+0000
TZNAME:Europe/London GMT
END:STANDARD
BEGIN:STANDARD
DTSTART:20251026T010000
RDATE:20260329T020000
TZOFFSETFROM:+0100
TZOFFSETTO:+0000
TZNAME:Europe/London GMT
END:STANDARD
BEGIN:STANDARD
DTSTART:20261025T010000
RDATE:20270328T020000
TZOFFSETFROM:+0100
TZOFFSETTO:+0000
TZNAME:Europe/London GMT
END:STANDARD
BEGIN:STANDARD
DTSTART:20271031T010000
RDATE:20280326T020000
TZOFFSETFROM:+0100
TZOFFSETTO:+0000
TZNAME:Europe/London GMT
END:STANDARD
BEGIN:STANDARD
DTSTART:20281029T010000
RDATE:20290325T020000
TZOFFSETFROM:+0100
TZOFFSETTO:+0000
TZNAME:Europe/London GMT
END:STANDARD
BEGIN:STANDARD
DTSTART:20291028T010000
RDATE:20300331T020000
TZOFFSETFROM:+0100
TZOFFSETTO:+0000
TZNAME:Europe/London GMT
END:STANDARD
BEGIN:STANDARD
DTSTART:20301027T010000
RDATE:20310330T020000
TZOFFSETFROM:+0100
TZOFFSETTO:+0000
TZNAME:Europe/London GMT
END:STANDARD
BEGIN:DAYLIGHT
DTSTART:20240501T193000
RDATE:20241027T010000
TZOFFSETFROM:+0000
TZOFFSETTO:+0100
TZNAME:Europe/London BST
END:DAYLIGHT
BEGIN:DAYLIGHT
DTSTART:20250330T020000
RDATE:20251026T010000
TZOFFSETFROM:+0000
TZOFFSETTO:+0100
TZNAME:Europe/London BST
END:DAYLIGHT
BEGIN:DAYLIGHT
DTSTART:20260329T020000
RDATE:20261025T010000
TZOFFSETFROM:+0000
TZOFFSETTO:+0100
TZNAME:Europe/London BST
END:DAYLIGHT
BEGIN:DAYLIGHT
DTSTART:20270328T020000
RDATE:20271031T010000
TZOFFSETFROM:+0000
TZOFFSETTO:+0100
TZNAME:Europe/London BST
END:DAYLIGHT
BEGIN:DAYLIGHT
DTSTART:20280326T020000
RDATE:20281029T010000
TZOFFSETFROM:+0000
TZOFFSETTO:+0100
TZNAME:Europe/London BST
END:DAYLIGHT
BEGIN:DAYLIGHT
DTSTART:20290325T020000
RDATE:20291028T010000
TZOFFSETFROM:+0000
TZOFFSETTO:+0100
TZNAME:Europe/London BST
END:DAYLIGHT
BEGIN:DAYLIGHT
DTSTART:20300331T020000
RDATE:20301027T010000
TZOFFSETFROM:+0000
TZOFFSETTO:+0100
TZNAME:Europe/London BST
END:DAYLIGHT
END:VTIMEZONE
BEGIN:VEVENT
UID:eda639b78423fbea71f9a4c557b798b9
CATEGORIES:West
CREATED:20250413T160356
SUMMARY:General 8 Bell Practice
LOCATION:St Nicholas Church\, Arundel. 
URL;VALUE=URI:https://www.scacr.org/news-events/calendar/1435/general-8-bell-practice?tmp
 l=component
DESCRIPTION:<p>&nbsp;Come along and enjoy ringing on this lovely ring of 8 bells in a p
 icturesque setting!&nbsp; &nbsp;All levels are welcome !!&nbsp; A great opp
 ortunity if you normally ring on 6 bells, to stretch the mind into counting
  up to 8!&nbsp; Rounds, call changes, Plain Hunt, Grandsire and Bob Triples
  can be practiced so do come and give it a try!</p><p>Any queries contact J
 anice on 07890804339 or e mail <span id="cloak91f26102ad5d11961359988cc2076
 4d5">This email address is being protected from spambots. You need JavaScri
 pt enabled to view it.</span><script type='text/javascript'>
				document.g
 etElementById('cloak91f26102ad5d11961359988cc20764d5').innerHTML = '';
				
 var prefix = '&#109;a' + 'i&#108;' + '&#116;o';
				var path = 'hr' + 'ef' 
 + '=';
				var addy91f26102ad5d11961359988cc20764d5 = 's&#101;c-w&#101;st' 
 + '&#64;';
				addy91f26102ad5d11961359988cc20764d5 = addy91f26102ad5d11961
 359988cc20764d5 + 'sc&#97;cr' + '&#46;' + '&#111;rg';
				var addy_text91f2
 6102ad5d11961359988cc20764d5 = 's&#101;c-w&#101;st' + '&#64;' + 'sc&#97;cr'
  + '&#46;' + '&#111;rg';document.getElementById('cloak91f26102ad5d119613599
 88cc20764d5').innerHTML += '<a ' + path + '\'' + prefix + ':' + addy91f2610
 2ad5d11961359988cc20764d5 + '\'>'+addy_text91f26102ad5d11961359988cc20764d5
 +'<\/a>';
		</script></p> <a href="https://www.scacr.org/news-events/calend
 ar/1435/general-8-bell-practice?tmpl=component">This event was imported fro
 m: https://www.scacr.org/news-events/calendar/1435/general-8-bell-practice?
 tmpl=component</a>CONTACT:This email address is being protected from spambots. You need JavaScript enabled to view it.
				document.getElementById('cloak9a2d4f03552be1eaa7c2036c82ddf7b3').innerHTML = '';
				var prefix = '&#109;a' + 'i&#108;' + '&#116;o';
				var path = 'hr' + 'ef' + '=';
				var addy9a2d4f03552be1eaa7c2036c82ddf7b3 = 's&#101;c-w&#101;st' + '&#64;';
				addy9a2d4f03552be1eaa7c2036c82ddf7b3 = addy9a2d4f03552be1eaa7c2036c82ddf7b3 + 'sc&#97;cr' + '&#46;' + '&#111;rg';
				var addy_text9a2d4f03552be1eaa7c2036c82ddf7b3 = 's&#101;c-w&#101;st' + '&#64;' + 'sc&#97;cr' + '&#46;' + '&#111;rg';document.getElementById('cloak9a2d4f03552be1eaa7c2036c82ddf7b3').innerHTML += '<a ' + path + '\'' + prefix + ':' + addy9a2d4f03552be1eaa7c2036c82ddf7b3 + '\'>'+addy_text9a2d4f03552be1eaa7c2036c82ddf7b3+'';
		
DTSTAMP:20260425T161644
DTSTART;TZID=Europe/London:20250502T193000
DTEND;TZID=Europe/London:20250502T210000
SEQUENCE:0
TRANSP:OPAQUE
END:VEVENT
END:VCALENDAR