BEGIN:VCALENDAR
VERSION:2.0
PRODID:-//jEvents 2.0 for Joomla//EN
CALSCALE:GREGORIAN
METHOD:PUBLISH
BEGIN:VTIMEZONE
TZID:Europe/London
BEGIN:STANDARD
DTSTART:20241027T010000
RDATE:20250330T020000
TZOFFSETFROM:+0100
TZOFFSETTO:+0000
TZNAME:Europe/London GMT
END:STANDARD
BEGIN:STANDARD
DTSTART:20251026T010000
RDATE:20260329T020000
TZOFFSETFROM:+0100
TZOFFSETTO:+0000
TZNAME:Europe/London GMT
END:STANDARD
BEGIN:STANDARD
DTSTART:20261025T010000
RDATE:20270328T020000
TZOFFSETFROM:+0100
TZOFFSETTO:+0000
TZNAME:Europe/London GMT
END:STANDARD
BEGIN:STANDARD
DTSTART:20271031T010000
RDATE:20280326T020000
TZOFFSETFROM:+0100
TZOFFSETTO:+0000
TZNAME:Europe/London GMT
END:STANDARD
BEGIN:STANDARD
DTSTART:20281029T010000
RDATE:20290325T020000
TZOFFSETFROM:+0100
TZOFFSETTO:+0000
TZNAME:Europe/London GMT
END:STANDARD
BEGIN:STANDARD
DTSTART:20291028T010000
RDATE:20300331T020000
TZOFFSETFROM:+0100
TZOFFSETTO:+0000
TZNAME:Europe/London GMT
END:STANDARD
BEGIN:STANDARD
DTSTART:20301027T010000
RDATE:20310330T020000
TZOFFSETFROM:+0100
TZOFFSETTO:+0000
TZNAME:Europe/London GMT
END:STANDARD
BEGIN:DAYLIGHT
DTSTART:20240423T000000
RDATE:20241027T010000
TZOFFSETFROM:+0000
TZOFFSETTO:+0100
TZNAME:Europe/London BST
END:DAYLIGHT
BEGIN:DAYLIGHT
DTSTART:20250330T020000
RDATE:20251026T010000
TZOFFSETFROM:+0000
TZOFFSETTO:+0100
TZNAME:Europe/London BST
END:DAYLIGHT
BEGIN:DAYLIGHT
DTSTART:20260329T020000
RDATE:20261025T010000
TZOFFSETFROM:+0000
TZOFFSETTO:+0100
TZNAME:Europe/London BST
END:DAYLIGHT
BEGIN:DAYLIGHT
DTSTART:20270328T020000
RDATE:20271031T010000
TZOFFSETFROM:+0000
TZOFFSETTO:+0100
TZNAME:Europe/London BST
END:DAYLIGHT
BEGIN:DAYLIGHT
DTSTART:20280326T020000
RDATE:20281029T010000
TZOFFSETFROM:+0000
TZOFFSETTO:+0100
TZNAME:Europe/London BST
END:DAYLIGHT
BEGIN:DAYLIGHT
DTSTART:20290325T020000
RDATE:20291028T010000
TZOFFSETFROM:+0000
TZOFFSETTO:+0100
TZNAME:Europe/London BST
END:DAYLIGHT
BEGIN:DAYLIGHT
DTSTART:20300331T020000
RDATE:20301027T010000
TZOFFSETFROM:+0000
TZOFFSETTO:+0100
TZNAME:Europe/London BST
END:DAYLIGHT
END:VTIMEZONE
BEGIN:VEVENT
UID:02880cf72eb9b252f1064cb43b9a651c
CATEGORIES:Association Event
CREATED:20250315T201507
SUMMARY:Codgers
LOCATION:Worthing &amp; Shoreham
URL;VALUE=URI:https://www.scacr.org/news-events/calendar/1426/codgers?tmpl=component
DESCRIPTION:<p>Itinerary:</p><p>10:30 - noon&nbsp; &nbsp;St Andrew's, West Tarring (6&n
 bsp; &nbsp;8-3-26)</p><p>Lunch: George &amp; Dragon, West Tarring (1 min wa
 lk from church). Email your menu choice by <span style="text-decoration: un
 derline;">21st April</span> to <span id="cloakb567cec72cf5b4f82191863c4cc9d
 ecd">This email address is being protected from spambots. You need JavaScri
 pt enabled to view it.</span><script type='text/javascript'>
				document.g
 etElementById('cloakb567cec72cf5b4f82191863c4cc9decd').innerHTML = '';
				
 var prefix = '&#109;a' + 'i&#108;' + '&#116;o';
				var path = 'hr' + 'ef' 
 + '=';
				var addyb567cec72cf5b4f82191863c4cc9decd = 'r&#105;kcl&#97;y' + 
 '&#64;';
				addyb567cec72cf5b4f82191863c4cc9decd = addyb567cec72cf5b4f8219
 1863c4cc9decd + 'h&#111;tm&#97;&#105;l' + '&#46;' + 'c&#111;' + '&#46;' + '
 &#117;k';
				var addy_textb567cec72cf5b4f82191863c4cc9decd = 'r&#105;kcl&#
 97;y' + '&#64;' + 'h&#111;tm&#97;&#105;l' + '&#46;' + 'c&#111;' + '&#46;' +
  '&#117;k';document.getElementById('cloakb567cec72cf5b4f82191863c4cc9decd')
 .innerHTML += '<a ' + path + '\'' + prefix + ':' + addyb567cec72cf5b4f82191
 863c4cc9decd + '\'>'+addy_textb567cec72cf5b4f82191863c4cc9decd+'<\/a>';
		<
 /script>&nbsp;as the pub requires advance notice of your meal choice by thi
 s date. Menu can be found here: <a href="https://www.georgeanddragontarring
 .co.uk/menu">www.georgeanddragontarring.co.uk/menu</a>&nbsp;</p><p>14:00 - 
 15:30&nbsp; &nbsp;St Mary de Haura, Shoreham by Sea (8&nbsp; &nbsp;14-0-16)
  (confirmed)</p><p>Please email <span id="cloak6234beb8a43c5e802fb13ea8694e
 25b9">This email address is being protected from spambots. You need JavaScr
 ipt enabled to view it.</span><script type='text/javascript'>
				document.
 getElementById('cloak6234beb8a43c5e802fb13ea8694e25b9').innerHTML = '';
			
 	var prefix = '&#109;a' + 'i&#108;' + '&#116;o';
				var path = 'hr' + 'ef'
  + '=';
				var addy6234beb8a43c5e802fb13ea8694e25b9 = 'c&#111;dg&#101;rs' 
 + '&#64;';
				addy6234beb8a43c5e802fb13ea8694e25b9 = addy6234beb8a43c5e802
 fb13ea8694e25b9 + 'sc&#97;cr' + '&#46;' + '&#111;rg';
				var addy_text6234
 beb8a43c5e802fb13ea8694e25b9 = 'c&#111;dg&#101;rs' + '&#64;' + 'sc&#97;cr' 
 + '&#46;' + '&#111;rg';document.getElementById('cloak6234beb8a43c5e802fb13e
 a8694e25b9').innerHTML += '<a ' + path + '\'' + prefix + ':' + addy6234beb8
 a43c5e802fb13ea8694e25b9 + '\'>'+addy_text6234beb8a43c5e802fb13ea8694e25b9+
 '<\/a>';
		</script>&nbsp;to let me know if your are planning to come and r
 ing.</p><p>What we ring will depend on who is coming, there will be no part
 icular method nominated for each practice while we get going again. We will
  need to cap numbers attending at 25 maximum.</p> <a href="https://www.scac
 r.org/news-events/calendar/1426/codgers?tmpl=component">This event was impo
 rted from: https://www.scacr.org/news-events/calendar/1426/codgers?tmpl=com
 ponent</a>CONTACT:This email address is being protected from spambots. You need JavaScript enabled to view it.
				document.getElementById('cloak8bc3e1ed752069182038534a23ef204e').innerHTML = '';
				var prefix = '&#109;a' + 'i&#108;' + '&#116;o';
				var path = 'hr' + 'ef' + '=';
				var addy8bc3e1ed752069182038534a23ef204e = 'c&#111;dg&#101;rs' + '&#64;';
				addy8bc3e1ed752069182038534a23ef204e = addy8bc3e1ed752069182038534a23ef204e + 'sc&#97;cr' + '&#46;' + '&#111;rg';
				var addy_text8bc3e1ed752069182038534a23ef204e = 'c&#111;dg&#101;rs' + '&#64;' + 'sc&#97;cr' + '&#46;' + '&#111;rg';document.getElementById('cloak8bc3e1ed752069182038534a23ef204e').innerHTML += '<a ' + path + '\'' + prefix + ':' + addy8bc3e1ed752069182038534a23ef204e + '\'>'+addy_text8bc3e1ed752069182038534a23ef204e+'';
		
DTSTAMP:20260425T161644
DTSTART;TZID=Europe/London;VALUE=DATE:20250424
DTEND;TZID=Europe/London;VALUE=DATE:20250425
SEQUENCE:0
TRANSP:OPAQUE
END:VEVENT
END:VCALENDAR