BEGIN:VCALENDAR
VERSION:2.0
PRODID:-//jEvents 2.0 for Joomla//EN
CALSCALE:GREGORIAN
METHOD:PUBLISH
BEGIN:VTIMEZONE
TZID:Europe/London
BEGIN:STANDARD
DTSTART:20240319T103000
RDATE:20240331T020000
TZOFFSETFROM:+0100
TZOFFSETTO:+0000
TZNAME:Europe/London GMT
END:STANDARD
BEGIN:STANDARD
DTSTART:20241027T010000
RDATE:20250330T020000
TZOFFSETFROM:+0100
TZOFFSETTO:+0000
TZNAME:Europe/London GMT
END:STANDARD
BEGIN:STANDARD
DTSTART:20251026T010000
RDATE:20260329T020000
TZOFFSETFROM:+0100
TZOFFSETTO:+0000
TZNAME:Europe/London GMT
END:STANDARD
BEGIN:STANDARD
DTSTART:20261025T010000
RDATE:20270328T020000
TZOFFSETFROM:+0100
TZOFFSETTO:+0000
TZNAME:Europe/London GMT
END:STANDARD
BEGIN:STANDARD
DTSTART:20271031T010000
RDATE:20280326T020000
TZOFFSETFROM:+0100
TZOFFSETTO:+0000
TZNAME:Europe/London GMT
END:STANDARD
BEGIN:STANDARD
DTSTART:20281029T010000
RDATE:20290325T020000
TZOFFSETFROM:+0100
TZOFFSETTO:+0000
TZNAME:Europe/London GMT
END:STANDARD
BEGIN:STANDARD
DTSTART:20291028T010000
RDATE:20300331T020000
TZOFFSETFROM:+0100
TZOFFSETTO:+0000
TZNAME:Europe/London GMT
END:STANDARD
BEGIN:STANDARD
DTSTART:20301027T010000
RDATE:20310330T020000
TZOFFSETFROM:+0100
TZOFFSETTO:+0000
TZNAME:Europe/London GMT
END:STANDARD
BEGIN:DAYLIGHT
DTSTART:20240331T020000
RDATE:20241027T010000
TZOFFSETFROM:+0000
TZOFFSETTO:+0100
TZNAME:Europe/London BST
END:DAYLIGHT
BEGIN:DAYLIGHT
DTSTART:20250330T020000
RDATE:20251026T010000
TZOFFSETFROM:+0000
TZOFFSETTO:+0100
TZNAME:Europe/London BST
END:DAYLIGHT
BEGIN:DAYLIGHT
DTSTART:20260329T020000
RDATE:20261025T010000
TZOFFSETFROM:+0000
TZOFFSETTO:+0100
TZNAME:Europe/London BST
END:DAYLIGHT
BEGIN:DAYLIGHT
DTSTART:20270328T020000
RDATE:20271031T010000
TZOFFSETFROM:+0000
TZOFFSETTO:+0100
TZNAME:Europe/London BST
END:DAYLIGHT
BEGIN:DAYLIGHT
DTSTART:20280326T020000
RDATE:20281029T010000
TZOFFSETFROM:+0000
TZOFFSETTO:+0100
TZNAME:Europe/London BST
END:DAYLIGHT
BEGIN:DAYLIGHT
DTSTART:20290325T020000
RDATE:20291028T010000
TZOFFSETFROM:+0000
TZOFFSETTO:+0100
TZNAME:Europe/London BST
END:DAYLIGHT
BEGIN:DAYLIGHT
DTSTART:20300331T020000
RDATE:20301027T010000
TZOFFSETFROM:+0000
TZOFFSETTO:+0100
TZNAME:Europe/London BST
END:DAYLIGHT
END:VTIMEZONE
BEGIN:VEVENT
UID:8379347cd7a11fb86fd636f945d7ea02
CATEGORIES:Association Event
CREATED:20250311T084245
SUMMARY:Codgers
LOCATION:Henfield and Hurstpierpoint
URL;VALUE=URI:https://www.scacr.org/news-events/calendar/1425/codgers?tmpl=component
DESCRIPTION:<p>"Itinerary:</p><p>10.30 Henfield - ringing until 12:00</p><p>12:00 to 14
 :00 Lunch &amp; travel. Selected pub is The Bull Inn, London Road, Mock Bri
 dge, Henfield, BN5 9AD (food to be ordered in advance) - specialises in piz
 za and pasta (<a href="https://www.thebullinnhenfield.co.uk">www.thebullinn
 henfield.co.uk</a>). Plenty of other coffee shops, cafes and pubs in both H
 enfield or Hurstpierpoint as well.</p><p>14:00 Hurstpierpoint&nbsp; - ringi
 ng until 15:00</p><p>You are asked to confirm if you are attending and the 
 pub has requested that we book lunch in advance if you want to eat with the
  group.</p><p>What we ring will depend on who is coming. There will be no p
 articular method nominated for each practice while we get going again.<br /
 >Please email to let us know if you are coming and your menu choice if eati
 ng at The Bull. Email:&nbsp;&nbsp;<span id="cloakf9d37547a1792f60eb72314b60
 3e2bd1">This email address is being protected from spambots. You need JavaS
 cript enabled to view it.</span><script type='text/javascript'>
				documen
 t.getElementById('cloakf9d37547a1792f60eb72314b603e2bd1').innerHTML = '';
	
 			var prefix = '&#109;a' + 'i&#108;' + '&#116;o';
				var path = 'hr' + 'e
 f' + '=';
				var addyf9d37547a1792f60eb72314b603e2bd1 = 'c&#111;dg&#101;rs
 ' + '&#64;';
				addyf9d37547a1792f60eb72314b603e2bd1 = addyf9d37547a1792f6
 0eb72314b603e2bd1 + 'sc&#97;cr' + '&#46;' + '&#111;rg';
				var addy_textf9
 d37547a1792f60eb72314b603e2bd1 = 'c&#111;dg&#101;rs' + '&#64;' + 'sc&#97;cr
 ' + '&#46;' + '&#111;rg';document.getElementById('cloakf9d37547a1792f60eb72
 314b603e2bd1').innerHTML += '<a ' + path + '\'' + prefix + ':' + addyf9d375
 47a1792f60eb72314b603e2bd1 + '\'>'+addy_textf9d37547a1792f60eb72314b603e2bd
 1+'<\/a>';
		</script><span></span></p><p>We will need to cap numbers atten
 ding at 25 maximum."</p> <a href="https://www.scacr.org/news-events/calenda
 r/1425/codgers?tmpl=component">This event was imported from: https://www.sc
 acr.org/news-events/calendar/1425/codgers?tmpl=component</a>CONTACT:This email address is being protected from spambots. You need JavaScript enabled to view it.
				document.getElementById('cloakac6b9d0c2b1bee14ba035ecbb14a8ad3').innerHTML = '';
				var prefix = '&#109;a' + 'i&#108;' + '&#116;o';
				var path = 'hr' + 'ef' + '=';
				var addyac6b9d0c2b1bee14ba035ecbb14a8ad3 = 'c&#111;dg&#101;rs' + '&#64;';
				addyac6b9d0c2b1bee14ba035ecbb14a8ad3 = addyac6b9d0c2b1bee14ba035ecbb14a8ad3 + 'sc&#97;cr' + '&#46;' + '&#111;rg';
				var addy_textac6b9d0c2b1bee14ba035ecbb14a8ad3 = 'c&#111;dg&#101;rs' + '&#64;' + 'sc&#97;cr' + '&#46;' + '&#111;rg';document.getElementById('cloakac6b9d0c2b1bee14ba035ecbb14a8ad3').innerHTML += '<a ' + path + '\'' + prefix + ':' + addyac6b9d0c2b1bee14ba035ecbb14a8ad3 + '\'>'+addy_textac6b9d0c2b1bee14ba035ecbb14a8ad3+'';
		
DTSTAMP:20260424T205144
DTSTART;TZID=Europe/London:20250320T103000
DTEND;TZID=Europe/London:20250320T150000
SEQUENCE:0
TRANSP:OPAQUE
END:VEVENT
END:VCALENDAR