BEGIN:VCALENDAR
VERSION:2.0
PRODID:-//jEvents 2.0 for Joomla//EN
CALSCALE:GREGORIAN
METHOD:PUBLISH
BEGIN:VTIMEZONE
TZID:Europe/London
BEGIN:STANDARD
DTSTART:20241027T010000
RDATE:20250330T020000
TZOFFSETFROM:+0100
TZOFFSETTO:+0000
TZNAME:Europe/London GMT
END:STANDARD
BEGIN:STANDARD
DTSTART:20251026T010000
RDATE:20260329T020000
TZOFFSETFROM:+0100
TZOFFSETTO:+0000
TZNAME:Europe/London GMT
END:STANDARD
BEGIN:STANDARD
DTSTART:20261025T010000
RDATE:20270328T020000
TZOFFSETFROM:+0100
TZOFFSETTO:+0000
TZNAME:Europe/London GMT
END:STANDARD
BEGIN:STANDARD
DTSTART:20271031T010000
RDATE:20280326T020000
TZOFFSETFROM:+0100
TZOFFSETTO:+0000
TZNAME:Europe/London GMT
END:STANDARD
BEGIN:STANDARD
DTSTART:20281029T010000
RDATE:20290325T020000
TZOFFSETFROM:+0100
TZOFFSETTO:+0000
TZNAME:Europe/London GMT
END:STANDARD
BEGIN:STANDARD
DTSTART:20291028T010000
RDATE:20300331T020000
TZOFFSETFROM:+0100
TZOFFSETTO:+0000
TZNAME:Europe/London GMT
END:STANDARD
BEGIN:STANDARD
DTSTART:20301027T010000
RDATE:20310330T020000
TZOFFSETFROM:+0100
TZOFFSETTO:+0000
TZNAME:Europe/London GMT
END:STANDARD
BEGIN:DAYLIGHT
DTSTART:20240411T100000
RDATE:20241027T010000
TZOFFSETFROM:+0000
TZOFFSETTO:+0100
TZNAME:Europe/London BST
END:DAYLIGHT
BEGIN:DAYLIGHT
DTSTART:20250330T020000
RDATE:20251026T010000
TZOFFSETFROM:+0000
TZOFFSETTO:+0100
TZNAME:Europe/London BST
END:DAYLIGHT
BEGIN:DAYLIGHT
DTSTART:20260329T020000
RDATE:20261025T010000
TZOFFSETFROM:+0000
TZOFFSETTO:+0100
TZNAME:Europe/London BST
END:DAYLIGHT
BEGIN:DAYLIGHT
DTSTART:20270328T020000
RDATE:20271031T010000
TZOFFSETFROM:+0000
TZOFFSETTO:+0100
TZNAME:Europe/London BST
END:DAYLIGHT
BEGIN:DAYLIGHT
DTSTART:20280326T020000
RDATE:20281029T010000
TZOFFSETFROM:+0000
TZOFFSETTO:+0100
TZNAME:Europe/London BST
END:DAYLIGHT
BEGIN:DAYLIGHT
DTSTART:20290325T020000
RDATE:20291028T010000
TZOFFSETFROM:+0000
TZOFFSETTO:+0100
TZNAME:Europe/London BST
END:DAYLIGHT
BEGIN:DAYLIGHT
DTSTART:20300331T020000
RDATE:20301027T010000
TZOFFSETFROM:+0000
TZOFFSETTO:+0100
TZNAME:Europe/London BST
END:DAYLIGHT
END:VTIMEZONE
BEGIN:VEVENT
UID:85c92393d8788fab8f999dca27eb76d5
CATEGORIES:West
CREATED:20250304T124404
SUMMARY:6 BELL ROUNDS AND CALL CHANGES EVENT!.
LOCATION:St MARY'S CHURCH STOUGHTON/St MARY'S FUNTINGTON.
URL;VALUE=URI:https://www.scacr.org/news-events/calendar/1422/6-bell-rounds-and-call-chan
 ges-event?tmpl=component
DESCRIPTION:Rounds and Call Changes are the focus for the Western District Monthly Even
 t.  Come along and encourage your teacher/mentor to join you!\nThis is the 
 opportunity to ring at 2 towers on a Saturday morning -   St Mary's Church,
  Stoughton from 10.00 - 11.15 and then over to St Mary's Funtington (approx
  10 minute drive)  for tea and cake and more rounds and call changes from M
 idday - 13.15.  For full details, click on this    https://drive.google.com
 /drive/folders/1tPao-TSHxXYcGYIhPimrpuP-GicLCD6P?usp=sharing (https://drive
 .google.com/drive/folders/1tPao-TSHxXYcGYIhPimrpuP-GicLCD6P?usp=sharing)\nT
 o book - please contact This email address is being protected from spambots
 . You need JavaScript enabled to view it.
				document.getElementById('cloa
 k084673e0770bf6d277e2951c86177101').innerHTML = '';
				var prefix = '&#109
 ;a' + 'i&#108;' + '&#116;o';
				var path = 'hr' + 'ef' + '=';
				var addy
 084673e0770bf6d277e2951c86177101 = 's&#101;c-w&#101;st' + '&#64;';
				addy
 084673e0770bf6d277e2951c86177101 = addy084673e0770bf6d277e2951c86177101 + '
 sc&#97;cr' + '&#46;' + '&#111;rg&nbsp;';
				var addy_text084673e0770bf6d27
 7e2951c86177101 = 's&#101;c-w&#101;st@sc&#97;cr.&#111;rg&nbsp;';document.ge
 tElementById('cloak084673e0770bf6d277e2951c86177101').innerHTML += '<a ' + 
 path + '\'' + prefix + ':' + addy084673e0770bf6d277e2951c86177101 + '\'>'+a
 ddy_text084673e0770bf6d277e2951c86177101+'';
		 or call Janice on 078908043
 39.  \nIt hoped there will be a raffle for BRF - any prize donations would 
 be extremely welcome.\n This event was imported from: https://www.scacr.org
 /news-events/calendar/1422/6-bell-rounds-and-call-changes-event?tmpl=compon
 ent (https://www.scacr.org/news-events/calendar/1422/6-bell-rounds-and-call
 -changes-event?tmpl=component)
X-ALT-DESC;FMTTYPE=text/html:<p>Rounds and Call Changes are the focus for the Western District Monthly E
 vent.&nbsp; Come along and encourage your teacher/mentor to join you!</p><p
 >This is the opportunity to ring at 2 towers on a Saturday morning -&nbsp; 
 &nbsp;St Mary's Church, Stoughton from 10.00 - 11.15 and then over to St Ma
 ry's Funtington (approx 10 minute drive)&nbsp; for tea and cake and more ro
 unds and call changes from Midday - 13.15.&nbsp; For full details, click on
  this&nbsp;&nbsp;&nbsp;<span style="color: #77a0ab;">&nbsp;<a href="https:/
 /drive.google.com/drive/folders/1tPao-TSHxXYcGYIhPimrpuP-GicLCD6P?usp=shari
 ng">https://drive.google.com/drive/folders/1tPao-TSHxXYcGYIhPimrpuP-GicLCD6
 P?usp=sharing</a></span></p><p>To book - please contact <span id="cloak0846
 73e0770bf6d277e2951c86177101">This email address is being protected from sp
 ambots. You need JavaScript enabled to view it.</span><script type='text/ja
 vascript'>
				document.getElementById('cloak084673e0770bf6d277e2951c861771
 01').innerHTML = '';
				var prefix = '&#109;a' + 'i&#108;' + '&#116;o';
		
 		var path = 'hr' + 'ef' + '=';
				var addy084673e0770bf6d277e2951c8617710
 1 = 's&#101;c-w&#101;st' + '&#64;';
				addy084673e0770bf6d277e2951c8617710
 1 = addy084673e0770bf6d277e2951c86177101 + 'sc&#97;cr' + '&#46;' + '&#111;r
 g&nbsp;';
				var addy_text084673e0770bf6d277e2951c86177101 = 's&#101;c-w&#
 101;st@sc&#97;cr.&#111;rg&nbsp;';document.getElementById('cloak084673e0770b
 f6d277e2951c86177101').innerHTML += '<a ' + path + '\'' + prefix + ':' + ad
 dy084673e0770bf6d277e2951c86177101 + '\'>'+addy_text084673e0770bf6d277e2951
 c86177101+'<\/a>';
		</script>&nbsp;or call Janice on 07890804339.&nbsp;&nb
 sp;</p><p>It hoped there will be a raffle for BRF - any prize donations wou
 ld be extremely welcome.</p> <a href="https://www.scacr.org/news-events/cal
 endar/1422/6-bell-rounds-and-call-changes-event?tmpl=component">This event 
 was imported from: https://www.scacr.org/news-events/calendar/1422/6-bell-r
 ounds-and-call-changes-event?tmpl=component</a>CONTACT:This email address is being protected from spambots. You need JavaScript enabled to view it.
				document.getElementById('cloak13b1460eb1b81dd729ae0bac88f3a279').innerHTML = '';
				var prefix = '&#109;a' + 'i&#108;' + '&#116;o';
				var path = 'hr' + 'ef' + '=';
				var addy13b1460eb1b81dd729ae0bac88f3a279 = 's&#101;c-w&#101;st' + '&#64;';
				addy13b1460eb1b81dd729ae0bac88f3a279 = addy13b1460eb1b81dd729ae0bac88f3a279 + 'sc&#97;cr' + '&#46;' + '&#111;rg';
				var addy_text13b1460eb1b81dd729ae0bac88f3a279 = 's&#101;c-w&#101;st' + '&#64;' + 'sc&#97;cr' + '&#46;' + '&#111;rg';document.getElementById('cloak13b1460eb1b81dd729ae0bac88f3a279').innerHTML += '<a ' + path + '\'' + prefix + ':' + addy13b1460eb1b81dd729ae0bac88f3a279 + '\'>'+addy_text13b1460eb1b81dd729ae0bac88f3a279+'';
		  or 07890804339
DTSTAMP:20260425T005718
DTSTART;TZID=Europe/London:20250412T100000
DTEND;TZID=Europe/London:20250412T131500
SEQUENCE:0
TRANSP:OPAQUE
END:VEVENT
END:VCALENDAR