BEGIN:VCALENDAR
VERSION:2.0
PRODID:-//jEvents 2.0 for Joomla//EN
CALSCALE:GREGORIAN
METHOD:PUBLISH
BEGIN:VTIMEZONE
TZID:Europe/London
BEGIN:STANDARD
DTSTART:20241027T010000
RDATE:20250330T020000
TZOFFSETFROM:+0100
TZOFFSETTO:+0000
TZNAME:Europe/London GMT
END:STANDARD
BEGIN:STANDARD
DTSTART:20251026T010000
RDATE:20260329T020000
TZOFFSETFROM:+0100
TZOFFSETTO:+0000
TZNAME:Europe/London GMT
END:STANDARD
BEGIN:STANDARD
DTSTART:20261025T010000
RDATE:20270328T020000
TZOFFSETFROM:+0100
TZOFFSETTO:+0000
TZNAME:Europe/London GMT
END:STANDARD
BEGIN:STANDARD
DTSTART:20271031T010000
RDATE:20280326T020000
TZOFFSETFROM:+0100
TZOFFSETTO:+0000
TZNAME:Europe/London GMT
END:STANDARD
BEGIN:STANDARD
DTSTART:20281029T010000
RDATE:20290325T020000
TZOFFSETFROM:+0100
TZOFFSETTO:+0000
TZNAME:Europe/London GMT
END:STANDARD
BEGIN:STANDARD
DTSTART:20291028T010000
RDATE:20300331T020000
TZOFFSETFROM:+0100
TZOFFSETTO:+0000
TZNAME:Europe/London GMT
END:STANDARD
BEGIN:STANDARD
DTSTART:20301027T010000
RDATE:20310330T020000
TZOFFSETFROM:+0100
TZOFFSETTO:+0000
TZNAME:Europe/London GMT
END:STANDARD
BEGIN:DAYLIGHT
DTSTART:20240411T140000
RDATE:20241027T010000
TZOFFSETFROM:+0000
TZOFFSETTO:+0100
TZNAME:Europe/London BST
END:DAYLIGHT
BEGIN:DAYLIGHT
DTSTART:20250330T020000
RDATE:20251026T010000
TZOFFSETFROM:+0000
TZOFFSETTO:+0100
TZNAME:Europe/London BST
END:DAYLIGHT
BEGIN:DAYLIGHT
DTSTART:20260329T020000
RDATE:20261025T010000
TZOFFSETFROM:+0000
TZOFFSETTO:+0100
TZNAME:Europe/London BST
END:DAYLIGHT
BEGIN:DAYLIGHT
DTSTART:20270328T020000
RDATE:20271031T010000
TZOFFSETFROM:+0000
TZOFFSETTO:+0100
TZNAME:Europe/London BST
END:DAYLIGHT
BEGIN:DAYLIGHT
DTSTART:20280326T020000
RDATE:20281029T010000
TZOFFSETFROM:+0000
TZOFFSETTO:+0100
TZNAME:Europe/London BST
END:DAYLIGHT
BEGIN:DAYLIGHT
DTSTART:20290325T020000
RDATE:20291028T010000
TZOFFSETFROM:+0000
TZOFFSETTO:+0100
TZNAME:Europe/London BST
END:DAYLIGHT
BEGIN:DAYLIGHT
DTSTART:20300331T020000
RDATE:20301027T010000
TZOFFSETFROM:+0000
TZOFFSETTO:+0100
TZNAME:Europe/London BST
END:DAYLIGHT
END:VTIMEZONE
BEGIN:VEVENT
UID:8c59f96605923887de5459486a2adc75
CATEGORIES:South
CREATED:20250225T185531
SUMMARY:Ringing up & down in peal
LOCATION:Barcombe
URL;VALUE=URI:https://www.scacr.org/news-events/calendar/1418/ringing-up-down-in-peal?tmp
 l=component
DESCRIPTION:Training session: ringing up &amp; down in peal. Places are limited and mus
 t be booked in advance - contact Southern District Secretary, Debbie Evans 
 (This email address is being protected from spambots. You need JavaScript e
 nabled to view it.
				document.getElementById('cloak997389afd02bf7c9e2a7e0
 0510106a6b').innerHTML = '';
				var prefix = '&#109;a' + 'i&#108;' + '&#11
 6;o';
				var path = 'hr' + 'ef' + '=';
				var addy997389afd02bf7c9e2a7e00
 510106a6b = 's&#101;c-s&#111;&#117;th' + '&#64;';
				addy997389afd02bf7c9e
 2a7e00510106a6b = addy997389afd02bf7c9e2a7e00510106a6b + 'sc&#97;cr' + '&#4
 6;' + '&#111;rg';
				var addy_text997389afd02bf7c9e2a7e00510106a6b = 's&#1
 01;c-s&#111;&#117;th' + '&#64;' + 'sc&#97;cr' + '&#46;' + '&#111;rg';docume
 nt.getElementById('cloak997389afd02bf7c9e2a7e00510106a6b').innerHTML += '<a
  ' + path + '\'' + prefix + ':' + addy997389afd02bf7c9e2a7e00510106a6b + '\
 '>'+addy_text997389afd02bf7c9e2a7e00510106a6b+'';
		) to secure your place!
  Please also contact Debbie if you could be a helper.\n This event was impo
 rted from: https://www.scacr.org/news-events/calendar/1418/ringing-up-down-
 in-peal?tmpl=component (https://www.scacr.org/news-events/calendar/1418/rin
 ging-up-down-in-peal?tmpl=component)
X-ALT-DESC;FMTTYPE=text/html:<p>Training session: ringing up &amp; down in peal. Places are limited and 
 must be booked in advance - contact Southern District Secretary, Debbie Eva
 ns (<span id="cloak997389afd02bf7c9e2a7e00510106a6b">This email address is 
 being protected from spambots. You need JavaScript enabled to view it.</spa
 n><script type='text/javascript'>
				document.getElementById('cloak997389a
 fd02bf7c9e2a7e00510106a6b').innerHTML = '';
				var prefix = '&#109;a' + 'i
 &#108;' + '&#116;o';
				var path = 'hr' + 'ef' + '=';
				var addy997389af
 d02bf7c9e2a7e00510106a6b = 's&#101;c-s&#111;&#117;th' + '&#64;';
				addy99
 7389afd02bf7c9e2a7e00510106a6b = addy997389afd02bf7c9e2a7e00510106a6b + 'sc
 &#97;cr' + '&#46;' + '&#111;rg';
				var addy_text997389afd02bf7c9e2a7e0051
 0106a6b = 's&#101;c-s&#111;&#117;th' + '&#64;' + 'sc&#97;cr' + '&#46;' + '&
 #111;rg';document.getElementById('cloak997389afd02bf7c9e2a7e00510106a6b').i
 nnerHTML += '<a ' + path + '\'' + prefix + ':' + addy997389afd02bf7c9e2a7e0
 0510106a6b + '\'>'+addy_text997389afd02bf7c9e2a7e00510106a6b+'<\/a>';
		</s
 cript>) to secure your place! Please also contact Debbie if you could be a 
 helper.</p> <a href="https://www.scacr.org/news-events/calendar/1418/ringin
 g-up-down-in-peal?tmpl=component">This event was imported from: https://www
 .scacr.org/news-events/calendar/1418/ringing-up-down-in-peal?tmpl=component
 </a>CONTACT:This email address is being protected from spambots. You need JavaScript enabled to view it.
				document.getElementById('cloak1a6ad3dd6bbc8f11b7e954b189e56e87').innerHTML = '';
				var prefix = '&#109;a' + 'i&#108;' + '&#116;o';
				var path = 'hr' + 'ef' + '=';
				var addy1a6ad3dd6bbc8f11b7e954b189e56e87 = 's&#101;c-s&#111;&#117;th' + '&#64;';
				addy1a6ad3dd6bbc8f11b7e954b189e56e87 = addy1a6ad3dd6bbc8f11b7e954b189e56e87 + 'sc&#97;cr' + '&#46;' + '&#111;rg';
				var addy_text1a6ad3dd6bbc8f11b7e954b189e56e87 = 's&#101;c-s&#111;&#117;th' + '&#64;' + 'sc&#97;cr' + '&#46;' + '&#111;rg';document.getElementById('cloak1a6ad3dd6bbc8f11b7e954b189e56e87').innerHTML += '<a ' + path + '\'' + prefix + ':' + addy1a6ad3dd6bbc8f11b7e954b189e56e87 + '\'>'+addy_text1a6ad3dd6bbc8f11b7e954b189e56e87+'';
		
DTSTAMP:20260425T005719
DTSTART;TZID=Europe/London:20250412T140000
DTEND;TZID=Europe/London:20250412T160000
SEQUENCE:0
TRANSP:OPAQUE
END:VEVENT
END:VCALENDAR