BEGIN:VCALENDAR
VERSION:2.0
PRODID:-//jEvents 2.0 for Joomla//EN
CALSCALE:GREGORIAN
METHOD:PUBLISH
BEGIN:VTIMEZONE
TZID:Europe/London
BEGIN:STANDARD
DTSTART:20241027T010000
RDATE:20250330T020000
TZOFFSETFROM:+0100
TZOFFSETTO:+0000
TZNAME:Europe/London GMT
END:STANDARD
BEGIN:STANDARD
DTSTART:20251026T010000
RDATE:20260329T020000
TZOFFSETFROM:+0100
TZOFFSETTO:+0000
TZNAME:Europe/London GMT
END:STANDARD
BEGIN:STANDARD
DTSTART:20261025T010000
RDATE:20270328T020000
TZOFFSETFROM:+0100
TZOFFSETTO:+0000
TZNAME:Europe/London GMT
END:STANDARD
BEGIN:STANDARD
DTSTART:20271031T010000
RDATE:20280326T020000
TZOFFSETFROM:+0100
TZOFFSETTO:+0000
TZNAME:Europe/London GMT
END:STANDARD
BEGIN:STANDARD
DTSTART:20281029T010000
RDATE:20290325T020000
TZOFFSETFROM:+0100
TZOFFSETTO:+0000
TZNAME:Europe/London GMT
END:STANDARD
BEGIN:STANDARD
DTSTART:20291028T010000
RDATE:20300331T020000
TZOFFSETFROM:+0100
TZOFFSETTO:+0000
TZNAME:Europe/London GMT
END:STANDARD
BEGIN:STANDARD
DTSTART:20301027T010000
RDATE:20310330T020000
TZOFFSETFROM:+0100
TZOFFSETTO:+0000
TZNAME:Europe/London GMT
END:STANDARD
BEGIN:DAYLIGHT
DTSTART:20240425T101500
RDATE:20241027T010000
TZOFFSETFROM:+0000
TZOFFSETTO:+0100
TZNAME:Europe/London BST
END:DAYLIGHT
BEGIN:DAYLIGHT
DTSTART:20250330T020000
RDATE:20251026T010000
TZOFFSETFROM:+0000
TZOFFSETTO:+0100
TZNAME:Europe/London BST
END:DAYLIGHT
BEGIN:DAYLIGHT
DTSTART:20260329T020000
RDATE:20261025T010000
TZOFFSETFROM:+0000
TZOFFSETTO:+0100
TZNAME:Europe/London BST
END:DAYLIGHT
BEGIN:DAYLIGHT
DTSTART:20270328T020000
RDATE:20271031T010000
TZOFFSETFROM:+0000
TZOFFSETTO:+0100
TZNAME:Europe/London BST
END:DAYLIGHT
BEGIN:DAYLIGHT
DTSTART:20280326T020000
RDATE:20281029T010000
TZOFFSETFROM:+0000
TZOFFSETTO:+0100
TZNAME:Europe/London BST
END:DAYLIGHT
BEGIN:DAYLIGHT
DTSTART:20290325T020000
RDATE:20291028T010000
TZOFFSETFROM:+0000
TZOFFSETTO:+0100
TZNAME:Europe/London BST
END:DAYLIGHT
BEGIN:DAYLIGHT
DTSTART:20300331T020000
RDATE:20301027T010000
TZOFFSETFROM:+0000
TZOFFSETTO:+0100
TZNAME:Europe/London BST
END:DAYLIGHT
END:VTIMEZONE
BEGIN:VEVENT
UID:6f70997d2a2292c62480a06d89100405
CATEGORIES:West
CREATED:20250206T151346
SUMMARY:Surprise Minor Practice
LOCATION:St Mary's Church\, Walberton
URL;VALUE=URI:https://www.scacr.org/news-events/calendar/1406/surprise-minor-practice?tmp
 l=component
DESCRIPTION:This is a regular monthly event giving ringers the opportunity to ring  met
 hods such as Plain courses and touches of Cambridge and Norwich and Plain c
 ourses of Beverley, London, Carlisle and Pure Treble Bob Hunt!!   Refreshme
 nts are provided.  Please contact This email address is being protected fro
 m spambots. You need JavaScript enabled to view it.
				document.getElement
 ById('cloak334bcafb75a71e0784c0a292e2a504ea').innerHTML = '';
				var prefi
 x = '&#109;a' + 'i&#108;' + '&#116;o';
				var path = 'hr' + 'ef' + '=';
		
 		var addy334bcafb75a71e0784c0a292e2a504ea = 's&#101;c-w&#101;st' + '&#64;'
 ;
				addy334bcafb75a71e0784c0a292e2a504ea = addy334bcafb75a71e0784c0a292e2
 a504ea + 'sc&#97;cr' + '&#46;' + '&#111;rg';
				var addy_text334bcafb75a71
 e0784c0a292e2a504ea = 's&#101;c-w&#101;st' + '&#64;' + 'sc&#97;cr' + '&#46;
 ' + '&#111;rg';document.getElementById('cloak334bcafb75a71e0784c0a292e2a504
 ea').innerHTML += '<a ' + path + '\'' + prefix + ':' + addy334bcafb75a71e07
 84c0a292e2a504ea + '\'>'+addy_text334bcafb75a71e0784c0a292e2a504ea+'';
		 i
 f you would like refreshments.\nThis month the plan is to ring Plain coures
   and touches of Cambridge, and London.  Beverley is also on the cards alon
 g with Bourne and Annabels London!\n \n25/04/2025 - Unofrtunately this even
 t has had to be cancelled.  Apologies for any inconvenience!!!\n This event
  was imported from: https://www.scacr.org/news-events/calendar/1406/surpris
 e-minor-practice?tmpl=component (https://www.scacr.org/news-events/calendar
 /1406/surprise-minor-practice?tmpl=component)
X-ALT-DESC;FMTTYPE=text/html:<p>This is a regular monthly event giving ringers the opportunity to ring&n
 bsp; methods such as Plain courses and touches of Cambridge and Norwich and
  Plain courses of Beverley, London, Carlisle and Pure Treble Bob Hunt!!&nbs
 p; &nbsp;Refreshments are provided.&nbsp; Please contact <span id="cloak334
 bcafb75a71e0784c0a292e2a504ea">This email address is being protected from s
 pambots. You need JavaScript enabled to view it.</span><script type='text/j
 avascript'>
				document.getElementById('cloak334bcafb75a71e0784c0a292e2a50
 4ea').innerHTML = '';
				var prefix = '&#109;a' + 'i&#108;' + '&#116;o';
	
 			var path = 'hr' + 'ef' + '=';
				var addy334bcafb75a71e0784c0a292e2a504
 ea = 's&#101;c-w&#101;st' + '&#64;';
				addy334bcafb75a71e0784c0a292e2a504
 ea = addy334bcafb75a71e0784c0a292e2a504ea + 'sc&#97;cr' + '&#46;' + '&#111;
 rg';
				var addy_text334bcafb75a71e0784c0a292e2a504ea = 's&#101;c-w&#101;s
 t' + '&#64;' + 'sc&#97;cr' + '&#46;' + '&#111;rg';document.getElementById('
 cloak334bcafb75a71e0784c0a292e2a504ea').innerHTML += '<a ' + path + '\'' + 
 prefix + ':' + addy334bcafb75a71e0784c0a292e2a504ea + '\'>'+addy_text334bca
 fb75a71e0784c0a292e2a504ea+'<\/a>';
		</script>&nbsp;if you would like refr
 eshments.</p><p>This month the plan is to ring Plain coures&nbsp; and touch
 es of Cambridge, and London.&nbsp; Beverley is also on the cards along with
  Bourne and Annabels London!</p><p>&nbsp;</p><p>25/04/2025 - Unofrtunately 
 this event has had to be cancelled.&nbsp; Apologies for any inconvenience!!
 !</p> <a href="https://www.scacr.org/news-events/calendar/1406/surprise-min
 or-practice?tmpl=component">This event was imported from: https://www.scacr
 .org/news-events/calendar/1406/surprise-minor-practice?tmpl=component</a>CONTACT:This email address is being protected from spambots. You need JavaScript enabled to view it.
				document.getElementById('cloak21465bdd1e4559f630b6ec637cd296e2').innerHTML = '';
				var prefix = '&#109;a' + 'i&#108;' + '&#116;o';
				var path = 'hr' + 'ef' + '=';
				var addy21465bdd1e4559f630b6ec637cd296e2 = 's&#101;c-w&#101;st' + '&#64;';
				addy21465bdd1e4559f630b6ec637cd296e2 = addy21465bdd1e4559f630b6ec637cd296e2 + 'sc&#97;cr' + '&#46;' + '&#111;rg';
				var addy_text21465bdd1e4559f630b6ec637cd296e2 = 's&#101;c-w&#101;st' + '&#64;' + 'sc&#97;cr' + '&#46;' + '&#111;rg';document.getElementById('cloak21465bdd1e4559f630b6ec637cd296e2').innerHTML += '<a ' + path + '\'' + prefix + ':' + addy21465bdd1e4559f630b6ec637cd296e2 + '\'>'+addy_text21465bdd1e4559f630b6ec637cd296e2+'';
		
DTSTAMP:20260425T005719
DTSTART;TZID=Europe/London:20250426T101500
DTEND;TZID=Europe/London:20250426T120000
SEQUENCE:0
TRANSP:OPAQUE
END:VEVENT
END:VCALENDAR