BEGIN:VCALENDAR
VERSION:2.0
PRODID:-//jEvents 2.0 for Joomla//EN
CALSCALE:GREGORIAN
METHOD:PUBLISH
BEGIN:VTIMEZONE
TZID:Europe/London
BEGIN:STANDARD
DTSTART:20240307T140000
RDATE:20240331T020000
TZOFFSETFROM:+0100
TZOFFSETTO:+0000
TZNAME:Europe/London GMT
END:STANDARD
BEGIN:STANDARD
DTSTART:20241027T010000
RDATE:20250330T020000
TZOFFSETFROM:+0100
TZOFFSETTO:+0000
TZNAME:Europe/London GMT
END:STANDARD
BEGIN:STANDARD
DTSTART:20251026T010000
RDATE:20260329T020000
TZOFFSETFROM:+0100
TZOFFSETTO:+0000
TZNAME:Europe/London GMT
END:STANDARD
BEGIN:STANDARD
DTSTART:20261025T010000
RDATE:20270328T020000
TZOFFSETFROM:+0100
TZOFFSETTO:+0000
TZNAME:Europe/London GMT
END:STANDARD
BEGIN:STANDARD
DTSTART:20271031T010000
RDATE:20280326T020000
TZOFFSETFROM:+0100
TZOFFSETTO:+0000
TZNAME:Europe/London GMT
END:STANDARD
BEGIN:STANDARD
DTSTART:20281029T010000
RDATE:20290325T020000
TZOFFSETFROM:+0100
TZOFFSETTO:+0000
TZNAME:Europe/London GMT
END:STANDARD
BEGIN:STANDARD
DTSTART:20291028T010000
RDATE:20300331T020000
TZOFFSETFROM:+0100
TZOFFSETTO:+0000
TZNAME:Europe/London GMT
END:STANDARD
BEGIN:STANDARD
DTSTART:20301027T010000
RDATE:20310330T020000
TZOFFSETFROM:+0100
TZOFFSETTO:+0000
TZNAME:Europe/London GMT
END:STANDARD
BEGIN:DAYLIGHT
DTSTART:20240331T020000
RDATE:20241027T010000
TZOFFSETFROM:+0000
TZOFFSETTO:+0100
TZNAME:Europe/London BST
END:DAYLIGHT
BEGIN:DAYLIGHT
DTSTART:20250330T020000
RDATE:20251026T010000
TZOFFSETFROM:+0000
TZOFFSETTO:+0100
TZNAME:Europe/London BST
END:DAYLIGHT
BEGIN:DAYLIGHT
DTSTART:20260329T020000
RDATE:20261025T010000
TZOFFSETFROM:+0000
TZOFFSETTO:+0100
TZNAME:Europe/London BST
END:DAYLIGHT
BEGIN:DAYLIGHT
DTSTART:20270328T020000
RDATE:20271031T010000
TZOFFSETFROM:+0000
TZOFFSETTO:+0100
TZNAME:Europe/London BST
END:DAYLIGHT
BEGIN:DAYLIGHT
DTSTART:20280326T020000
RDATE:20281029T010000
TZOFFSETFROM:+0000
TZOFFSETTO:+0100
TZNAME:Europe/London BST
END:DAYLIGHT
BEGIN:DAYLIGHT
DTSTART:20290325T020000
RDATE:20291028T010000
TZOFFSETFROM:+0000
TZOFFSETTO:+0100
TZNAME:Europe/London BST
END:DAYLIGHT
BEGIN:DAYLIGHT
DTSTART:20300331T020000
RDATE:20301027T010000
TZOFFSETFROM:+0000
TZOFFSETTO:+0100
TZNAME:Europe/London BST
END:DAYLIGHT
END:VTIMEZONE
BEGIN:VEVENT
UID:b03dd3f0c60fe3c7b4cd744877677c2b
CATEGORIES:West
CREATED:20250206T141924
SUMMARY:Western District Monthly Event in the Southern District!
LOCATION:St Nicholas Church\, Brighton BN1 3LJ
URL;VALUE=URI:https://www.scacr.org/news-events/calendar/1397/western-district-monthly-ev
 ent-in-the-southern-district?tmpl=component
DESCRIPTION:Come along to the seaside town of Brighton and take the opportunity to ring
  on 10 bells!  Everyone is welcome!  It is suggested to travel and by train
  to Brighton and the church is an approximate 15 minutes walk from the stat
 ion.  There are also regular buses to Churchill Square shopping centre with
  the church a few minutes walk away.  There is street parking near the chur
 ch at £6,00 per hour via an App!!!  The nearest multi storey car park is in
  Trafalger Street/Blackman Street and is £10.50 for 2 hours!  There is free
  parking at Withdean Stadium - just hop on the no 27 bus to Churchill Squar
 e which run every 15 mins.  The church is close to a shopping centre for re
 freshments or even pop down to the beach for an ice cream!! (or even fish a
 nd chips!)   Postcode for the church is BN1 3LJ\n \n This event was importe
 d from: https://www.scacr.org/news-events/calendar/1397/western-district-mo
 nthly-event-in-the-southern-district?tmpl=component (https://www.scacr.org/
 news-events/calendar/1397/western-district-monthly-event-in-the-southern-di
 strict?tmpl=component)
X-ALT-DESC;FMTTYPE=text/html:<p>Come along to the seaside town of Brighton and take the opportunity to r
 ing on 10 bells!&nbsp; Everyone is welcome!&nbsp; It is suggested to travel
  and by train to Brighton and the church is an approximate 15 minutes walk 
 from the station.&nbsp; There are also regular buses to Churchill Square sh
 opping centre with the church a few minutes walk away.&nbsp; There is stree
 t parking near the church at £6,00 per hour via an App!!!&nbsp; The nearest
  multi storey car park is in Trafalger Street/Blackman Street and is £10.50
  for 2 hours!&nbsp; There is free parking at Withdean Stadium - just hop on
  the no 27 bus to Churchill Square which run every 15 mins.&nbsp; The churc
 h is close to a shopping centre for refreshments or even pop down to the be
 ach for an ice cream!! (or even fish and chips!)&nbsp; &nbsp;Postcode for t
 he church is BN1 3LJ</p><p>&nbsp;</p> <a href="https://www.scacr.org/news-e
 vents/calendar/1397/western-district-monthly-event-in-the-southern-district
 ?tmpl=component">This event was imported from: https://www.scacr.org/news-e
 vents/calendar/1397/western-district-monthly-event-in-the-southern-district
 ?tmpl=component</a>CONTACT:This email address is being protected from spambots. You need JavaScript enabled to view it.
				document.getElementById('cloake761ce5355082421bb59f7b928546936').innerHTML = '';
				var prefix = '&#109;a' + 'i&#108;' + '&#116;o';
				var path = 'hr' + 'ef' + '=';
				var addye761ce5355082421bb59f7b928546936 = 's&#101;c-w&#101;st' + '&#64;';
				addye761ce5355082421bb59f7b928546936 = addye761ce5355082421bb59f7b928546936 + 'sc&#97;cr' + '&#46;' + '&#111;rg';
				var addy_texte761ce5355082421bb59f7b928546936 = 's&#101;c-w&#101;st' + '&#64;' + 'sc&#97;cr' + '&#46;' + '&#111;rg';document.getElementById('cloake761ce5355082421bb59f7b928546936').innerHTML += '<a ' + path + '\'' + prefix + ':' + addye761ce5355082421bb59f7b928546936 + '\'>'+addy_texte761ce5355082421bb59f7b928546936+'';
		
DTSTAMP:20260425T003622
DTSTART;TZID=Europe/London:20250308T140000
DTEND;TZID=Europe/London:20250308T160000
SEQUENCE:0
TRANSP:OPAQUE
END:VEVENT
END:VCALENDAR