BEGIN:VCALENDAR
VERSION:2.0
PRODID:-//jEvents 2.0 for Joomla//EN
CALSCALE:GREGORIAN
METHOD:PUBLISH
BEGIN:VTIMEZONE
TZID:Europe/London
BEGIN:STANDARD
DTSTART:20241027T010000
RDATE:20250330T020000
TZOFFSETFROM:+0100
TZOFFSETTO:+0000
TZNAME:Europe/London GMT
END:STANDARD
BEGIN:STANDARD
DTSTART:20251026T010000
RDATE:20260329T020000
TZOFFSETFROM:+0100
TZOFFSETTO:+0000
TZNAME:Europe/London GMT
END:STANDARD
BEGIN:STANDARD
DTSTART:20261025T010000
RDATE:20270328T020000
TZOFFSETFROM:+0100
TZOFFSETTO:+0000
TZNAME:Europe/London GMT
END:STANDARD
BEGIN:STANDARD
DTSTART:20271031T010000
RDATE:20280326T020000
TZOFFSETFROM:+0100
TZOFFSETTO:+0000
TZNAME:Europe/London GMT
END:STANDARD
BEGIN:STANDARD
DTSTART:20281029T010000
RDATE:20290325T020000
TZOFFSETFROM:+0100
TZOFFSETTO:+0000
TZNAME:Europe/London GMT
END:STANDARD
BEGIN:STANDARD
DTSTART:20291028T010000
RDATE:20300331T020000
TZOFFSETFROM:+0100
TZOFFSETTO:+0000
TZNAME:Europe/London GMT
END:STANDARD
BEGIN:STANDARD
DTSTART:20301027T010000
RDATE:20310330T020000
TZOFFSETFROM:+0100
TZOFFSETTO:+0000
TZNAME:Europe/London GMT
END:STANDARD
BEGIN:DAYLIGHT
DTSTART:20240509T103000
RDATE:20241027T010000
TZOFFSETFROM:+0000
TZOFFSETTO:+0100
TZNAME:Europe/London BST
END:DAYLIGHT
BEGIN:DAYLIGHT
DTSTART:20250330T020000
RDATE:20251026T010000
TZOFFSETFROM:+0000
TZOFFSETTO:+0100
TZNAME:Europe/London BST
END:DAYLIGHT
BEGIN:DAYLIGHT
DTSTART:20260329T020000
RDATE:20261025T010000
TZOFFSETFROM:+0000
TZOFFSETTO:+0100
TZNAME:Europe/London BST
END:DAYLIGHT
BEGIN:DAYLIGHT
DTSTART:20270328T020000
RDATE:20271031T010000
TZOFFSETFROM:+0000
TZOFFSETTO:+0100
TZNAME:Europe/London BST
END:DAYLIGHT
BEGIN:DAYLIGHT
DTSTART:20280326T020000
RDATE:20281029T010000
TZOFFSETFROM:+0000
TZOFFSETTO:+0100
TZNAME:Europe/London BST
END:DAYLIGHT
BEGIN:DAYLIGHT
DTSTART:20290325T020000
RDATE:20291028T010000
TZOFFSETFROM:+0000
TZOFFSETTO:+0100
TZNAME:Europe/London BST
END:DAYLIGHT
BEGIN:DAYLIGHT
DTSTART:20300331T020000
RDATE:20301027T010000
TZOFFSETFROM:+0000
TZOFFSETTO:+0100
TZNAME:Europe/London BST
END:DAYLIGHT
END:VTIMEZONE
BEGIN:VEVENT
UID:289894507ace69a9e8598836843a5b7e
CATEGORIES:Association Event
CREATED:20250126T161922
SUMMARY:Annual General Meeting
LOCATION:Eastbourne - St Mary's &amp; Old Parsonage
URL;VALUE=URI:https://www.scacr.org/news-events/calendar/1394/annual-general-meeting?tmpl
 =component
DESCRIPTION:<div><strong>All welcome at the SCACR AGM, in Eastbourne!&nbsp;&nbsp;</stro
 ng>Come and have a ring (rounds onwards, with plenty of experienced ringers
  to stand behind), enjoy a delicious ringers' tea, and have your say about 
 the future of the Association...&nbsp;</div><div>&nbsp;</div><div><strong>I
 f you plan to come to any part of the day, please fill in <a href="https://
 forms.gle/PJvvyEsrjUuoEryA7">this form</a> by Wednesday 7th May</strong>. A
 ny local queries regarding towers or if you can't fill in the form please c
 ontact Steve Pilfold (<span id="cloak5708c965f95a46b053b1b3a867f2a25e">This
  email address is being protected from spambots. You need JavaScript enable
 d to view it.</span><script type='text/javascript'>
				document.getElement
 ById('cloak5708c965f95a46b053b1b3a867f2a25e').innerHTML = '';
				var prefi
 x = '&#109;a' + 'i&#108;' + '&#116;o';
				var path = 'hr' + 'ef' + '=';
		
 		var addy5708c965f95a46b053b1b3a867f2a25e = 's&#101;c-&#101;&#97;st' + '&#
 64;';
				addy5708c965f95a46b053b1b3a867f2a25e = addy5708c965f95a46b053b1b3
 a867f2a25e + 'sc&#97;cr' + '&#46;' + '&#111;rg';
				var addy_text5708c965f
 95a46b053b1b3a867f2a25e = 's&#101;c-&#101;&#97;st' + '&#64;' + 'sc&#97;cr' 
 + '&#46;' + '&#111;rg';document.getElementById('cloak5708c965f95a46b053b1b3
 a867f2a25e').innerHTML += '<a ' + path + '\'' + prefix + ':' + addy5708c965
 f95a46b053b1b3a867f2a25e + '\'>'+addy_text5708c965f95a46b053b1b3a867f2a25e+
 '<\/a>';
		</script>).</div><div>&nbsp;</div><div>Confirmed timings:</div><
 div>10.30 Christ Church<br />11.15 All Saints <br />1.15 St Saviours</div><
 div dir="auto">2.30 - 3.30pm ringing at St Mary the Virgin, Church St/Lawns
  Ave (8, 15 cwt)</div><div dir="auto">3.30pm service at St Mary's church</d
 iv><div dir="auto">4pm tea - Old Parsonage (names for tea via <a href="http
 s://forms.gle/PJvvyEsrjUuoEryA7"><strong>this form</strong></a> by Wed 7th 
 May, please)</div><div dir="auto">Followed by&nbsp;<span class="il">meeting
 </span>&nbsp;4.45/5pm - Old Parsonage</div><div>&nbsp;</div><div><strong>Me
 eting papers are linked below&nbsp;</strong>(please note that printed copie
 s will not be provided at the meeting):</div><ul><li><a href="https://drive
 .google.com/file/d/1WdFy5W9UoPlQgz_9ovvlGZbH2y2Fb0fl/view?usp=drive_link">A
 genda</a></li><li><a href="https://drive.google.com/file/d/1e8z45BimXQiZGOL
 Ln5-gMuACfditTvvW/view?usp=drive_link">Minutes of 2024 AGM</a></li><li><a h
 ref="https://drive.google.com/file/d/12HZg0oN_OEBHCThycba5zgbRQxOb-Esv/view
 ?usp=drive_link">2024 accounts and trustees' report</a></li><li><a href="ht
 tps://drive.google.com/file/d/1vw6yd_krQJJ-iEGlyINt3tajemFzgDTA/view?usp=dr
 ive_link">Subscrptions change proposal</a></li><li><a href="https://drive.g
 oogle.com/file/d/1K7XyysaEaGpUzWMhbUeeLW0RJT4RAwqO/view?usp=drive_link">rul
 e change proposal</a></li><li>2024 reports are available <a href="https://d
 rive.google.com/drive/folders/1ZrG9J5nlNUXGOyw5eDurT8LR6mQjwv-0?usp=sharing
 ">here</a></li></ul><div><strong>Nominations for election:</strong></div><u
 l><li>Master - Richard Neal</li><li>General Secretary - Steph Pendlebury</l
 i><li>Treasurer - Sue Gadd</li><li>BRF Secretary - Nick Cullen</li><li>Trus
 tee 1 (3 year term) - David Hollands</li><li>Trustee 2 (1 year term) - Gare
 th Higgs</li><li>Safeguarding Officer Val Clay</li></ul><div>&nbsp;</div><d
 iv>Please send apologies for absence, items for any other business, and nom
 inations for honorary positions to Steph Pendlebury, General Secretary (<sp
 an id="cloaka25f5c216fe9fa49dd42fe228f268514">This email address is being p
 rotected from spambots. You need JavaScript enabled to view it.</span><scri
 pt type='text/javascript'>
				document.getElementById('cloaka25f5c216fe9fa
 49dd42fe228f268514').innerHTML = '';
				var prefix = '&#109;a' + 'i&#108;'
  + '&#116;o';
				var path = 'hr' + 'ef' + '=';
				var addya25f5c216fe9fa4
 9dd42fe228f268514 = 's&#101;cr&#101;t&#97;ry' + '&#64;';
				addya25f5c216f
 e9fa49dd42fe228f268514 = addya25f5c216fe9fa49dd42fe228f268514 + 'sc&#97;cr'
  + '&#46;' + '&#111;rg';
				var addy_texta25f5c216fe9fa49dd42fe228f268514 
 = 's&#101;cr&#101;t&#97;ry' + '&#64;' + 'sc&#97;cr' + '&#46;' + '&#111;rg';
 document.getElementById('cloaka25f5c216fe9fa49dd42fe228f268514').innerHTML 
 += '<a ' + path + '\'' + prefix + ':' + addya25f5c216fe9fa49dd42fe228f26851
 4 + '\'>'+addy_texta25f5c216fe9fa49dd42fe228f268514+'<\/a>';
		</script>), 
 by Saturday 3rd May.&nbsp;</div> <a href="https://www.scacr.org/news-events
 /calendar/1394/annual-general-meeting?tmpl=component">This event was import
 ed from: https://www.scacr.org/news-events/calendar/1394/annual-general-mee
 ting?tmpl=component</a>CONTACT:This email address is being protected from spambots. You need JavaScript enabled to view it.
				document.getElementById('cloake9a20a7646060542519deadba41f4ffa').innerHTML = '';
				var prefix = '&#109;a' + 'i&#108;' + '&#116;o';
				var path = 'hr' + 'ef' + '=';
				var addye9a20a7646060542519deadba41f4ffa = 's&#101;cr&#101;t&#97;ry' + '&#64;';
				addye9a20a7646060542519deadba41f4ffa = addye9a20a7646060542519deadba41f4ffa + 'sc&#97;cr' + '&#46;' + '&#111;rg';
				var addy_texte9a20a7646060542519deadba41f4ffa = 's&#101;cr&#101;t&#97;ry' + '&#64;' + 'sc&#97;cr' + '&#46;' + '&#111;rg';document.getElementById('cloake9a20a7646060542519deadba41f4ffa').innerHTML += '<a ' + path + '\'' + prefix + ':' + addye9a20a7646060542519deadba41f4ffa + '\'>'+addy_texte9a20a7646060542519deadba41f4ffa+'';
		
DTSTAMP:20260425T161644
DTSTART;TZID=Europe/London:20250510T103000
DTEND;TZID=Europe/London:20250510T180000
SEQUENCE:0
TRANSP:OPAQUE
END:VEVENT
END:VCALENDAR