BEGIN:VCALENDAR
VERSION:2.0
PRODID:-//jEvents 2.0 for Joomla//EN
CALSCALE:GREGORIAN
METHOD:PUBLISH
BEGIN:VTIMEZONE
TZID:Europe/London
BEGIN:STANDARD
DTSTART:20240201T140000
RDATE:20240331T020000
TZOFFSETFROM:+0100
TZOFFSETTO:+0000
TZNAME:Europe/London GMT
END:STANDARD
BEGIN:STANDARD
DTSTART:20241027T010000
RDATE:20250330T020000
TZOFFSETFROM:+0100
TZOFFSETTO:+0000
TZNAME:Europe/London GMT
END:STANDARD
BEGIN:STANDARD
DTSTART:20251026T010000
RDATE:20260329T020000
TZOFFSETFROM:+0100
TZOFFSETTO:+0000
TZNAME:Europe/London GMT
END:STANDARD
BEGIN:STANDARD
DTSTART:20261025T010000
RDATE:20270328T020000
TZOFFSETFROM:+0100
TZOFFSETTO:+0000
TZNAME:Europe/London GMT
END:STANDARD
BEGIN:STANDARD
DTSTART:20271031T010000
RDATE:20280326T020000
TZOFFSETFROM:+0100
TZOFFSETTO:+0000
TZNAME:Europe/London GMT
END:STANDARD
BEGIN:STANDARD
DTSTART:20281029T010000
RDATE:20290325T020000
TZOFFSETFROM:+0100
TZOFFSETTO:+0000
TZNAME:Europe/London GMT
END:STANDARD
BEGIN:STANDARD
DTSTART:20291028T010000
RDATE:20300331T020000
TZOFFSETFROM:+0100
TZOFFSETTO:+0000
TZNAME:Europe/London GMT
END:STANDARD
BEGIN:STANDARD
DTSTART:20301027T010000
RDATE:20310330T020000
TZOFFSETFROM:+0100
TZOFFSETTO:+0000
TZNAME:Europe/London GMT
END:STANDARD
BEGIN:DAYLIGHT
DTSTART:20240331T020000
RDATE:20241027T010000
TZOFFSETFROM:+0000
TZOFFSETTO:+0100
TZNAME:Europe/London BST
END:DAYLIGHT
BEGIN:DAYLIGHT
DTSTART:20250330T020000
RDATE:20251026T010000
TZOFFSETFROM:+0000
TZOFFSETTO:+0100
TZNAME:Europe/London BST
END:DAYLIGHT
BEGIN:DAYLIGHT
DTSTART:20260329T020000
RDATE:20261025T010000
TZOFFSETFROM:+0000
TZOFFSETTO:+0100
TZNAME:Europe/London BST
END:DAYLIGHT
BEGIN:DAYLIGHT
DTSTART:20270328T020000
RDATE:20271031T010000
TZOFFSETFROM:+0000
TZOFFSETTO:+0100
TZNAME:Europe/London BST
END:DAYLIGHT
BEGIN:DAYLIGHT
DTSTART:20280326T020000
RDATE:20281029T010000
TZOFFSETFROM:+0000
TZOFFSETTO:+0100
TZNAME:Europe/London BST
END:DAYLIGHT
BEGIN:DAYLIGHT
DTSTART:20290325T020000
RDATE:20291028T010000
TZOFFSETFROM:+0000
TZOFFSETTO:+0100
TZNAME:Europe/London BST
END:DAYLIGHT
BEGIN:DAYLIGHT
DTSTART:20300331T020000
RDATE:20301027T010000
TZOFFSETFROM:+0000
TZOFFSETTO:+0100
TZNAME:Europe/London BST
END:DAYLIGHT
END:VTIMEZONE
BEGIN:VEVENT
UID:4d848bd69a99fe8950deb310ea8009da
CATEGORIES:North
CREATED:20250114T175921
SUMMARY:Northern District Annual District Meeting (ADM)
LOCATION:Horsham\, St. Mary
URL;VALUE=URI:https://www.scacr.org/news-events/calendar/1388/northern-district-annual-di
 strict-meeting-adm?tmpl=component
DESCRIPTION:The ADM will take place on Saturday 1st February, at Horsham, St. Mary, fro
 m 2pm - 5pm. This includes ringing from 2pm - 3:30pm, refreshments provided
  from 3:30pm - 4:15pm, and the district meeting from 4:15pm - 5pm.  Ringers
  across all levels and districts are invited to join us, and we encourage a
 nyone who can join for even a portion of the afternoon to come along! North
 ern District members will have the opportunity to vote for District Committ
 ee roles, and give nominations for the following Association-level roles: A
 ssociation Master, two Trustees, and Association BRF Secretary. The meeting
  Agenda, District Secretary's Report, BRF Report, Central Council Report, a
 nd Minutes for the previous ADM can be found here (https://drive.google.com
 /drive/folders/19ZIUA-KkwaRD5cKAyKCgbkDYMGfcA4M9?usp=drive_link), and membe
 rs are invited to review these before this year's proceedings.  If you are 
 planning to join us for this year's ADM, please complete this short registr
 ation form (https://docs.google.com/forms/d/e/1FAIpQLSex9qFZUgRmfgtyOxyzKLc
 lhdfSvH4-Xnm1Clfq2Kx1wfdO0Q/viewform) to allow us to cater for all! If you 
 have any questions, queries, or problems with registration, please don't he
 sitate to reach out to Tom at  (mailto:sec-north@scacr.org) (mailto:sec-nor
 th@scacr.org)This email address is being protected from spambots. You need 
 JavaScript enabled to view it.
				document.getElementById('cloak58a90f0a65
 781ace738c99f5ba10b38a').innerHTML = '';
				var prefix = '&#109;a' + 'i&#1
 08;' + '&#116;o';
				var path = 'hr' + 'ef' + '=';
				var addy58a90f0a657
 81ace738c99f5ba10b38a = 's&#101;c-n&#111;rth' + '&#64;';
				addy58a90f0a65
 781ace738c99f5ba10b38a = addy58a90f0a65781ace738c99f5ba10b38a + 'sc&#97;cr'
  + '&#46;' + '&#111;rg';
				var addy_text58a90f0a65781ace738c99f5ba10b38a 
 = 's&#101;c-n&#111;rth' + '&#64;' + 'sc&#97;cr' + '&#46;' + '&#111;rg';docu
 ment.getElementById('cloak58a90f0a65781ace738c99f5ba10b38a').innerHTML += '
 <a ' + path + '\'' + prefix + ':' + addy58a90f0a65781ace738c99f5ba10b38a + 
 '\'>'+addy_text58a90f0a65781ace738c99f5ba10b38a+'';
		. We look forward to 
 seeing you there!  This event was imported from: https://www.scacr.org/news
 -events/calendar/1388/northern-district-annual-district-meeting-adm?tmpl=co
 mponent (https://www.scacr.org/news-events/calendar/1388/northern-district-
 annual-district-meeting-adm?tmpl=component)
X-ALT-DESC;FMTTYPE=text/html:<div>The ADM will take place on&nbsp;<em><strong>Saturday 1st February</str
 ong></em>, at&nbsp;<em><strong>Horsham, St. Mary</strong></em>, from&nbsp;<
 em><strong>2pm - 5pm</strong></em>. This includes ringing from 2pm - 3:30pm
 , refreshments provided from 3:30pm - 4:15pm, and the district meeting from
  4:15pm - 5pm.&nbsp;</div><div>&nbsp;</div><div>Ringers across all levels a
 nd districts are invited to join us, and we encourage anyone who can join f
 or even a portion of the afternoon to come along! Northern District members
  will have the opportunity to vote for District Committee roles, and give n
 ominations for the following Association-level roles:&nbsp;<em><strong>Asso
 ciation Master, two&nbsp;Trustees, and Association BRF Secretary</strong></
 em>. The meeting Agenda, District Secretary's Report, BRF Report, Central C
 ouncil Report, and Minutes for the previous ADM can be found&nbsp;<span sty
 le="color: #ff0000;"><strong><em><a href="https://drive.google.com/drive/fo
 lders/19ZIUA-KkwaRD5cKAyKCgbkDYMGfcA4M9?usp=drive_link" target="_blank" rel
 ="noopener" style="color: #ff0000;" data-saferedirecturl="https://www.googl
 e.com/url?q=https://drive.google.com/drive/folders/19ZIUA-KkwaRD5cKAyKCgbkD
 YMGfcA4M9?usp%3Ddrive_link&amp;source=gmail&amp;ust=1736963642442000&amp;us
 g=AOvVaw1hknk90BK5rs97ibqMHY_q">here</a></em></strong></span>, and members 
 are invited to review these before this year's proceedings.&nbsp;</div><div
 >&nbsp;</div><div>If you are planning to join us for this year's ADM, pleas
 e&nbsp;<span style="color: #ff0000;"><a href="https://docs.google.com/forms
 /d/e/1FAIpQLSex9qFZUgRmfgtyOxyzKLclhdfSvH4-Xnm1Clfq2Kx1wfdO0Q/viewform" sty
 le="color: #ff0000;"><strong>complete this short registration form</strong>
 </a></span>&nbsp;to allow us to cater for all! If you have any questions, q
 ueries, or problems with registration, please don't hesitate to reach out t
 o Tom at&nbsp;<a href="mailto:sec-north@scacr.org" target="_blank"></a><a h
 ref="mailto:sec-north@scacr.org"></a><span id="cloak58a90f0a65781ace738c99f
 5ba10b38a">This email address is being protected from spambots. You need Ja
 vaScript enabled to view it.</span><script type='text/javascript'>
				docu
 ment.getElementById('cloak58a90f0a65781ace738c99f5ba10b38a').innerHTML = ''
 ;
				var prefix = '&#109;a' + 'i&#108;' + '&#116;o';
				var path = 'hr' +
  'ef' + '=';
				var addy58a90f0a65781ace738c99f5ba10b38a = 's&#101;c-n&#11
 1;rth' + '&#64;';
				addy58a90f0a65781ace738c99f5ba10b38a = addy58a90f0a65
 781ace738c99f5ba10b38a + 'sc&#97;cr' + '&#46;' + '&#111;rg';
				var addy_t
 ext58a90f0a65781ace738c99f5ba10b38a = 's&#101;c-n&#111;rth' + '&#64;' + 'sc
 &#97;cr' + '&#46;' + '&#111;rg';document.getElementById('cloak58a90f0a65781
 ace738c99f5ba10b38a').innerHTML += '<a ' + path + '\'' + prefix + ':' + add
 y58a90f0a65781ace738c99f5ba10b38a + '\'>'+addy_text58a90f0a65781ace738c99f5
 ba10b38a+'<\/a>';
		</script>. We look forward to seeing you there!&nbsp;</
 div> <a href="https://www.scacr.org/news-events/calendar/1388/northern-dist
 rict-annual-district-meeting-adm?tmpl=component">This event was imported fr
 om: https://www.scacr.org/news-events/calendar/1388/northern-district-annua
 l-district-meeting-adm?tmpl=component</a>CONTACT:This email address is being protected from spambots. You need JavaScript enabled to view it.
				document.getElementById('cloakab1133c54a83b2a4bed553ca4756c92a').innerHTML = '';
				var prefix = '&#109;a' + 'i&#108;' + '&#116;o';
				var path = 'hr' + 'ef' + '=';
				var addyab1133c54a83b2a4bed553ca4756c92a = 's&#101;c-n&#111;rth' + '&#64;';
				addyab1133c54a83b2a4bed553ca4756c92a = addyab1133c54a83b2a4bed553ca4756c92a + 'sc&#97;cr' + '&#46;' + '&#111;rg';
				var addy_textab1133c54a83b2a4bed553ca4756c92a = 's&#101;c-n&#111;rth' + '&#64;' + 'sc&#97;cr' + '&#46;' + '&#111;rg';document.getElementById('cloakab1133c54a83b2a4bed553ca4756c92a').innerHTML += '<a ' + path + '\'' + prefix + ':' + addyab1133c54a83b2a4bed553ca4756c92a + '\'>'+addy_textab1133c54a83b2a4bed553ca4756c92a+'';
		
X-EXTRAINFO:Registration form here:\nhttps://forms.gle/bj1oVmDjqsT9BCWR9
DTSTAMP:20260424T134322
DTSTART;TZID=Europe/London:20250201T140000
DTEND;TZID=Europe/London:20250201T170000
SEQUENCE:0
TRANSP:OPAQUE
END:VEVENT
END:VCALENDAR