BEGIN:VCALENDAR
VERSION:2.0
PRODID:-//jEvents 2.0 for Joomla//EN
CALSCALE:GREGORIAN
METHOD:PUBLISH
BEGIN:VTIMEZONE
TZID:Europe/London
BEGIN:STANDARD
DTSTART:20231109T143000
RDATE:20240331T020000
TZOFFSETFROM:+0100
TZOFFSETTO:+0000
TZNAME:Europe/London GMT
END:STANDARD
BEGIN:STANDARD
DTSTART:20241027T010000
RDATE:20250330T020000
TZOFFSETFROM:+0100
TZOFFSETTO:+0000
TZNAME:Europe/London GMT
END:STANDARD
BEGIN:STANDARD
DTSTART:20251026T010000
RDATE:20260329T020000
TZOFFSETFROM:+0100
TZOFFSETTO:+0000
TZNAME:Europe/London GMT
END:STANDARD
BEGIN:STANDARD
DTSTART:20261025T010000
RDATE:20270328T020000
TZOFFSETFROM:+0100
TZOFFSETTO:+0000
TZNAME:Europe/London GMT
END:STANDARD
BEGIN:STANDARD
DTSTART:20271031T010000
RDATE:20280326T020000
TZOFFSETFROM:+0100
TZOFFSETTO:+0000
TZNAME:Europe/London GMT
END:STANDARD
BEGIN:STANDARD
DTSTART:20281029T010000
RDATE:20290325T020000
TZOFFSETFROM:+0100
TZOFFSETTO:+0000
TZNAME:Europe/London GMT
END:STANDARD
BEGIN:STANDARD
DTSTART:20291028T010000
RDATE:20300331T020000
TZOFFSETFROM:+0100
TZOFFSETTO:+0000
TZNAME:Europe/London GMT
END:STANDARD
BEGIN:STANDARD
DTSTART:20301027T010000
RDATE:20310330T020000
TZOFFSETFROM:+0100
TZOFFSETTO:+0000
TZNAME:Europe/London GMT
END:STANDARD
BEGIN:DAYLIGHT
DTSTART:20240331T020000
RDATE:20241027T010000
TZOFFSETFROM:+0000
TZOFFSETTO:+0100
TZNAME:Europe/London BST
END:DAYLIGHT
BEGIN:DAYLIGHT
DTSTART:20250330T020000
RDATE:20251026T010000
TZOFFSETFROM:+0000
TZOFFSETTO:+0100
TZNAME:Europe/London BST
END:DAYLIGHT
BEGIN:DAYLIGHT
DTSTART:20260329T020000
RDATE:20261025T010000
TZOFFSETFROM:+0000
TZOFFSETTO:+0100
TZNAME:Europe/London BST
END:DAYLIGHT
BEGIN:DAYLIGHT
DTSTART:20270328T020000
RDATE:20271031T010000
TZOFFSETFROM:+0000
TZOFFSETTO:+0100
TZNAME:Europe/London BST
END:DAYLIGHT
BEGIN:DAYLIGHT
DTSTART:20280326T020000
RDATE:20281029T010000
TZOFFSETFROM:+0000
TZOFFSETTO:+0100
TZNAME:Europe/London BST
END:DAYLIGHT
BEGIN:DAYLIGHT
DTSTART:20290325T020000
RDATE:20291028T010000
TZOFFSETFROM:+0000
TZOFFSETTO:+0100
TZNAME:Europe/London BST
END:DAYLIGHT
BEGIN:DAYLIGHT
DTSTART:20300331T020000
RDATE:20301027T010000
TZOFFSETFROM:+0000
TZOFFSETTO:+0100
TZNAME:Europe/London BST
END:DAYLIGHT
END:VTIMEZONE
BEGIN:VEVENT
UID:3ceabffd21e7574b595a2cd5b3218482
CATEGORIES:West
CREATED:20241011T181524
SUMMARY:Remembrance Ringing (half muffled)
LOCATION:St' John the Baptist Church\, Kirdford
URL;VALUE=URI:https://www.scacr.org/news-events/calendar/1358/remembrance-ringing-half-mu
 ffled?tmpl=component
DESCRIPTION:Come along to have a ring on half-muffled bells on this remembrance weekend
 .  There will be a short service following the ringing after which tea will
  be served.   Names for tea to Janice on 07890804339 or This email address 
 is being protected from spambots. You need JavaScript enabled to view it.
	
 			document.getElementById('cloak5c48240ecd4852fa1a11792a65667d7b').innerHT
 ML = '';
				var prefix = '&#109;a' + 'i&#108;' + '&#116;o';
				var path =
  'hr' + 'ef' + '=';
				var addy5c48240ecd4852fa1a11792a65667d7b = 's&#101;
 c-w&#101;st' + '&#64;';
				addy5c48240ecd4852fa1a11792a65667d7b = addy5c48
 240ecd4852fa1a11792a65667d7b + 'sc&#97;cr' + '&#46;' + '&#111;rg';
				var 
 addy_text5c48240ecd4852fa1a11792a65667d7b = 's&#101;c-w&#101;st' + '&#64;' 
 + 'sc&#97;cr' + '&#46;' + '&#111;rg';document.getElementById('cloak5c48240e
 cd4852fa1a11792a65667d7b').innerHTML += '<a ' + path + '\'' + prefix + ':' 
 + addy5c48240ecd4852fa1a11792a65667d7b + '\'>'+addy_text5c48240ecd4852fa1a1
 1792a65667d7b+'';
		  by end of day Thursday 7th November..   \n This event
  was imported from: https://www.scacr.org/news-events/calendar/1358/remembr
 ance-ringing-half-muffled?tmpl=component (https://www.scacr.org/news-events
 /calendar/1358/remembrance-ringing-half-muffled?tmpl=component)
X-ALT-DESC;FMTTYPE=text/html:<p>Come along to have a ring on half-muffled bells on this remembrance week
 end.&nbsp; There will be a short service following the ringing after which 
 tea will be served.&nbsp; &nbsp;Names for tea to Janice on 07890804339 or <
 span id="cloak5c48240ecd4852fa1a11792a65667d7b">This email address is being
  protected from spambots. You need JavaScript enabled to view it.</span><sc
 ript type='text/javascript'>
				document.getElementById('cloak5c48240ecd48
 52fa1a11792a65667d7b').innerHTML = '';
				var prefix = '&#109;a' + 'i&#108
 ;' + '&#116;o';
				var path = 'hr' + 'ef' + '=';
				var addy5c48240ecd485
 2fa1a11792a65667d7b = 's&#101;c-w&#101;st' + '&#64;';
				addy5c48240ecd485
 2fa1a11792a65667d7b = addy5c48240ecd4852fa1a11792a65667d7b + 'sc&#97;cr' + 
 '&#46;' + '&#111;rg';
				var addy_text5c48240ecd4852fa1a11792a65667d7b = '
 s&#101;c-w&#101;st' + '&#64;' + 'sc&#97;cr' + '&#46;' + '&#111;rg';document
 .getElementById('cloak5c48240ecd4852fa1a11792a65667d7b').innerHTML += '<a '
  + path + '\'' + prefix + ':' + addy5c48240ecd4852fa1a11792a65667d7b + '\'>
 '+addy_text5c48240ecd4852fa1a11792a65667d7b+'<\/a>';
		</script>&nbsp; by e
 nd of day Thursday 7th November..&nbsp; &nbsp;</p> <a href="https://www.sca
 cr.org/news-events/calendar/1358/remembrance-ringing-half-muffled?tmpl=comp
 onent">This event was imported from: https://www.scacr.org/news-events/cale
 ndar/1358/remembrance-ringing-half-muffled?tmpl=component</a>CONTACT:This email address is being protected from spambots. You need JavaScript enabled to view it.
				document.getElementById('cloak970e4f3b2516a7cc615f721fb283a956').innerHTML = '';
				var prefix = '&#109;a' + 'i&#108;' + '&#116;o';
				var path = 'hr' + 'ef' + '=';
				var addy970e4f3b2516a7cc615f721fb283a956 = 's&#101;c-w&#101;st' + '&#64;';
				addy970e4f3b2516a7cc615f721fb283a956 = addy970e4f3b2516a7cc615f721fb283a956 + 'sc&#97;cr' + '&#46;' + '&#111;rg';
				var addy_text970e4f3b2516a7cc615f721fb283a956 = 's&#101;c-w&#101;st' + '&#64;' + 'sc&#97;cr' + '&#46;' + '&#111;rg';document.getElementById('cloak970e4f3b2516a7cc615f721fb283a956').innerHTML += '<a ' + path + '\'' + prefix + ':' + addy970e4f3b2516a7cc615f721fb283a956 + '\'>'+addy_text970e4f3b2516a7cc615f721fb283a956+'';
		
DTSTAMP:20260423T053048
DTSTART;TZID=Europe/London:20241109T143000
SEQUENCE:0
TRANSP:OPAQUE
END:VEVENT
END:VCALENDAR