BEGIN:VCALENDAR
VERSION:2.0
PRODID:-//jEvents 2.0 for Joomla//EN
CALSCALE:GREGORIAN
METHOD:PUBLISH
BEGIN:VTIMEZONE
TZID:Europe/London
BEGIN:STANDARD
DTSTART:20231111T193000
RDATE:20240331T020000
TZOFFSETFROM:+0100
TZOFFSETTO:+0000
TZNAME:Europe/London GMT
END:STANDARD
BEGIN:STANDARD
DTSTART:20241027T010000
RDATE:20250330T020000
TZOFFSETFROM:+0100
TZOFFSETTO:+0000
TZNAME:Europe/London GMT
END:STANDARD
BEGIN:STANDARD
DTSTART:20251026T010000
RDATE:20260329T020000
TZOFFSETFROM:+0100
TZOFFSETTO:+0000
TZNAME:Europe/London GMT
END:STANDARD
BEGIN:STANDARD
DTSTART:20261025T010000
RDATE:20270328T020000
TZOFFSETFROM:+0100
TZOFFSETTO:+0000
TZNAME:Europe/London GMT
END:STANDARD
BEGIN:STANDARD
DTSTART:20271031T010000
RDATE:20280326T020000
TZOFFSETFROM:+0100
TZOFFSETTO:+0000
TZNAME:Europe/London GMT
END:STANDARD
BEGIN:STANDARD
DTSTART:20281029T010000
RDATE:20290325T020000
TZOFFSETFROM:+0100
TZOFFSETTO:+0000
TZNAME:Europe/London GMT
END:STANDARD
BEGIN:STANDARD
DTSTART:20291028T010000
RDATE:20300331T020000
TZOFFSETFROM:+0100
TZOFFSETTO:+0000
TZNAME:Europe/London GMT
END:STANDARD
BEGIN:STANDARD
DTSTART:20301027T010000
RDATE:20310330T020000
TZOFFSETFROM:+0100
TZOFFSETTO:+0000
TZNAME:Europe/London GMT
END:STANDARD
BEGIN:DAYLIGHT
DTSTART:20240331T020000
RDATE:20241027T010000
TZOFFSETFROM:+0000
TZOFFSETTO:+0100
TZNAME:Europe/London BST
END:DAYLIGHT
BEGIN:DAYLIGHT
DTSTART:20250330T020000
RDATE:20251026T010000
TZOFFSETFROM:+0000
TZOFFSETTO:+0100
TZNAME:Europe/London BST
END:DAYLIGHT
BEGIN:DAYLIGHT
DTSTART:20260329T020000
RDATE:20261025T010000
TZOFFSETFROM:+0000
TZOFFSETTO:+0100
TZNAME:Europe/London BST
END:DAYLIGHT
BEGIN:DAYLIGHT
DTSTART:20270328T020000
RDATE:20271031T010000
TZOFFSETFROM:+0000
TZOFFSETTO:+0100
TZNAME:Europe/London BST
END:DAYLIGHT
BEGIN:DAYLIGHT
DTSTART:20280326T020000
RDATE:20281029T010000
TZOFFSETFROM:+0000
TZOFFSETTO:+0100
TZNAME:Europe/London BST
END:DAYLIGHT
BEGIN:DAYLIGHT
DTSTART:20290325T020000
RDATE:20291028T010000
TZOFFSETFROM:+0000
TZOFFSETTO:+0100
TZNAME:Europe/London BST
END:DAYLIGHT
BEGIN:DAYLIGHT
DTSTART:20300331T020000
RDATE:20301027T010000
TZOFFSETFROM:+0000
TZOFFSETTO:+0100
TZNAME:Europe/London BST
END:DAYLIGHT
END:VTIMEZONE
BEGIN:VEVENT
UID:1a1f684d36b6b897819a89fee6d76272
CATEGORIES:North
CREATED:20240930T164125
SUMMARY:Northern Surprise Practice
LOCATION:Balcombe (confirmed)
URL;VALUE=URI:https://www.scacr.org/news-events/calendar/1348/northern-surprise-practice?
 tmpl=component
DESCRIPTION:<p>Method of the month/quarter: Jovium surprise major (<a href="https://rsw
 .me.uk/blueline/methods/view/Jovium_Surprise_Major">https://rsw.me.uk/bluel
 ine/methods/view/Jovium_Surprise_Major</a>)</p><p>The main focus of these p
 ractices remains the Core 7 methods either individually or spliced dependin
 g on attendance.</p><p>For those ringers with a wider repetoire, I would li
 ke to ensure Belfast and Glasgow are more regularly incorporated so please 
 do refresh these if you need to ahead of the practice. For those new to Bel
 fast, there will be an opportunity to ring three leads subject to attendanc
 e if you want to give it a shot (this can be rung so that many bells repeat
  the same lead three times).</p><p>Simon Linford's great book on the Core 7
  and beyond is found here&nbsp;<a href="https://www.ringingworld.co.uk/purc
 hase/shop/the-core-seven-and-beyond.html">https://www.ringingworld.co.uk/pu
 rchase/shop/the-core-seven-and-beyond.html</a></p><p>The idea is to try and
  improve the success rate and striking accuracy in the Core 7 methods and i
 t would be very much appreciated if where possible attendees do a little ex
 tra homework in advance, to help ensure we peform our best on the night. Th
 ere will also be an enhanced effort to ensure more optimal band placement. 
 Stedman triples will also be rung when appropriate.</p><p>Please get in tou
 ch (<span id="cloak77f627cd16a32728df2ab149c2d50859">This email address is 
 being protected from spambots. You need JavaScript enabled to view it.</spa
 n><script type='text/javascript'>
				document.getElementById('cloak77f627c
 d16a32728df2ab149c2d50859').innerHTML = '';
				var prefix = '&#109;a' + 'i
 &#108;' + '&#116;o';
				var path = 'hr' + 'ef' + '=';
				var addy77f627cd
 16a32728df2ab149c2d50859 = 'n&#101;ssr&#105;ng&#105;ng' + '&#64;';
				addy
 77f627cd16a32728df2ab149c2d50859 = addy77f627cd16a32728df2ab149c2d50859 + '
 &#105;cl&#111;&#117;d' + '&#46;' + 'c&#111;m';
				var addy_text77f627cd16a
 32728df2ab149c2d50859 = 'n&#101;ssr&#105;ng&#105;ng' + '&#64;' + '&#105;cl&
 #111;&#117;d' + '&#46;' + 'c&#111;m';document.getElementById('cloak77f627cd
 16a32728df2ab149c2d50859').innerHTML += '<a ' + path + '\'' + prefix + ':' 
 + addy77f627cd16a32728df2ab149c2d50859 + '\'>'+addy_text77f627cd16a32728df2
 ab149c2d50859+'<\/a>';
		</script>) if there is anything in particular you 
 would like to ring.</p><p>I appreciate there are a lot of methods mentioned
  here and the intention is not to overwhelm I promise! If you are taking yo
 ur first steps into ringing surprise major, you are most welcome, just let 
 me know what you are working on (Cornwall, go on, you know you want to!).</
 p><p>There won't be an opportunity to ring everything at each practice and 
 I will respond to emails in advance or requests on the night.</p><div><div>
 <div class="apple-rich-link" role="link" data-url="https://www.ringingworld
 .co.uk/purchase/shop/the-core-seven-and-beyond.html">Ringers from other div
 isions are welcome to attend although ideally please email in advance.</div
 ></div></div> <a href="https://www.scacr.org/news-events/calendar/1348/nort
 hern-surprise-practice?tmpl=component">This event was imported from: https:
 //www.scacr.org/news-events/calendar/1348/northern-surprise-practice?tmpl=c
 omponent</a>CONTACT:This email address is being protected from spambots. You need JavaScript enabled to view it.
				document.getElementById('cloaka9bcea612d740a0fe4130ecf367cc28f').innerHTML = '';
				var prefix = '&#109;a' + 'i&#108;' + '&#116;o';
				var path = 'hr' + 'ef' + '=';
				var addya9bcea612d740a0fe4130ecf367cc28f = 'n&#101;ssr&#105;ng&#105;ng' + '&#64;';
				addya9bcea612d740a0fe4130ecf367cc28f = addya9bcea612d740a0fe4130ecf367cc28f + '&#105;cl&#111;&#117;d' + '&#46;' + 'c&#111;m';
				var addy_texta9bcea612d740a0fe4130ecf367cc28f = 'n&#101;ssr&#105;ng&#105;ng' + '&#64;' + '&#105;cl&#111;&#117;d' + '&#46;' + 'c&#111;m';document.getElementById('cloaka9bcea612d740a0fe4130ecf367cc28f').innerHTML += '<a ' + path + '\'' + prefix + ':' + addya9bcea612d740a0fe4130ecf367cc28f + '\'>'+addy_texta9bcea612d740a0fe4130ecf367cc28f+'';
		
DTSTAMP:20260423T112521
DTSTART;TZID=Europe/London:20241111T193000
DTEND;TZID=Europe/London:20241111T210000
SEQUENCE:0
TRANSP:OPAQUE
END:VEVENT
END:VCALENDAR