BEGIN:VCALENDAR
VERSION:2.0
PRODID:-//jEvents 2.0 for Joomla//EN
CALSCALE:GREGORIAN
METHOD:PUBLISH
BEGIN:VTIMEZONE
TZID:Europe/London
BEGIN:STANDARD
DTSTART:20231029T010000
RDATE:20240331T020000
TZOFFSETFROM:+0100
TZOFFSETTO:+0000
TZNAME:Europe/London GMT
END:STANDARD
BEGIN:STANDARD
DTSTART:20241027T010000
RDATE:20250330T020000
TZOFFSETFROM:+0100
TZOFFSETTO:+0000
TZNAME:Europe/London GMT
END:STANDARD
BEGIN:STANDARD
DTSTART:20251026T010000
RDATE:20260329T020000
TZOFFSETFROM:+0100
TZOFFSETTO:+0000
TZNAME:Europe/London GMT
END:STANDARD
BEGIN:STANDARD
DTSTART:20261025T010000
RDATE:20270328T020000
TZOFFSETFROM:+0100
TZOFFSETTO:+0000
TZNAME:Europe/London GMT
END:STANDARD
BEGIN:STANDARD
DTSTART:20271031T010000
RDATE:20280326T020000
TZOFFSETFROM:+0100
TZOFFSETTO:+0000
TZNAME:Europe/London GMT
END:STANDARD
BEGIN:STANDARD
DTSTART:20281029T010000
RDATE:20290325T020000
TZOFFSETFROM:+0100
TZOFFSETTO:+0000
TZNAME:Europe/London GMT
END:STANDARD
BEGIN:STANDARD
DTSTART:20291028T010000
RDATE:20300331T020000
TZOFFSETFROM:+0100
TZOFFSETTO:+0000
TZNAME:Europe/London GMT
END:STANDARD
BEGIN:STANDARD
DTSTART:20301027T010000
RDATE:20310330T020000
TZOFFSETFROM:+0100
TZOFFSETTO:+0000
TZNAME:Europe/London GMT
END:STANDARD
BEGIN:DAYLIGHT
DTSTART:20230907T103000
RDATE:20231029T010000
TZOFFSETFROM:+0000
TZOFFSETTO:+0100
TZNAME:Europe/London BST
END:DAYLIGHT
BEGIN:DAYLIGHT
DTSTART:20240331T020000
RDATE:20241027T010000
TZOFFSETFROM:+0000
TZOFFSETTO:+0100
TZNAME:Europe/London BST
END:DAYLIGHT
BEGIN:DAYLIGHT
DTSTART:20250330T020000
RDATE:20251026T010000
TZOFFSETFROM:+0000
TZOFFSETTO:+0100
TZNAME:Europe/London BST
END:DAYLIGHT
BEGIN:DAYLIGHT
DTSTART:20260329T020000
RDATE:20261025T010000
TZOFFSETFROM:+0000
TZOFFSETTO:+0100
TZNAME:Europe/London BST
END:DAYLIGHT
BEGIN:DAYLIGHT
DTSTART:20270328T020000
RDATE:20271031T010000
TZOFFSETFROM:+0000
TZOFFSETTO:+0100
TZNAME:Europe/London BST
END:DAYLIGHT
BEGIN:DAYLIGHT
DTSTART:20280326T020000
RDATE:20281029T010000
TZOFFSETFROM:+0000
TZOFFSETTO:+0100
TZNAME:Europe/London BST
END:DAYLIGHT
BEGIN:DAYLIGHT
DTSTART:20290325T020000
RDATE:20291028T010000
TZOFFSETFROM:+0000
TZOFFSETTO:+0100
TZNAME:Europe/London BST
END:DAYLIGHT
BEGIN:DAYLIGHT
DTSTART:20300331T020000
RDATE:20301027T010000
TZOFFSETFROM:+0000
TZOFFSETTO:+0100
TZNAME:Europe/London BST
END:DAYLIGHT
END:VTIMEZONE
BEGIN:VEVENT
UID:8c9eddb93695e81495f068755ab00ca5
CATEGORIES:North
CREATED:20240815T124936
SUMMARY:Ringing and Bacon Butties
LOCATION:Slaugham\, St. Mary
URL;VALUE=URI:https://www.scacr.org/news-events/calendar/1324/ringing-and-bacon-butties?t
 mpl=component
DESCRIPTION:<p>Join us on&nbsp;<strong><em>Saturday 7th Sepember</em></strong>&nbsp;at&
 nbsp;<a href="towers/directory/115-slaugham-st-mary"><strong><em>Slaugham, 
 St. Mary</em></strong></a>&nbsp;<em>(11-1-20cwt)</em>&nbsp;from&nbsp;<stron
 g><em>10:30am - 12:30pm</em></strong>&nbsp;for general ringing and Bacon Bu
 tties! Ringing from rounds onwards to suit all - so please let us know what
  you'd like to ring at the end the short registration form below! If you're
  a new ringer unfamiliar with new towers, please feel welcome to bring a ri
 nging helper with you!&nbsp;</p><p>If you plan to join us, please fill in <
 a href="https://forms.gle/5h5MS47p4Fh6s1Ui8"><em>this short form</em></a> s
 o we can cater for all!&nbsp;</p><p>We look forward to seeing you there!&nb
 sp;</p> <a href="https://www.scacr.org/news-events/calendar/1324/ringing-an
 d-bacon-butties?tmpl=component">This event was imported from: https://www.s
 cacr.org/news-events/calendar/1324/ringing-and-bacon-butties?tmpl=component
 </a>
X-ALT-DESC;FMTTYPE=text/html:<p>Join us on&nbsp;<strong><em>Saturday 7th Sepember</em></strong>&nbsp;at&
 nbsp;<a href="https://www.scacr.org/towers/directory/115-slaugham-st-mary">
 <strong><em>Slaugham, St. Mary</em></strong></a>&nbsp;<em>(11-1-20cwt)</em>
 &nbsp;from&nbsp;<strong><em>10:30am - 12:30pm</em></strong>&nbsp;for genera
 l ringing and Bacon Butties! Ringing from rounds onwards to suit all - so p
 lease let us know what you'd like to ring at the end the short registration
  form below! If you're a new ringer unfamiliar with new towers, please feel
  welcome to bring a ringing helper with you!&nbsp;</p><p>If you plan to joi
 n us, please fill in <a href="https://forms.gle/5h5MS47p4Fh6s1Ui8"><em>this
  short form</em></a> so we can cater for all!&nbsp;</p><p>We look forward t
 o seeing you there!&nbsp;</p> <a href="https://www.scacr.org/news-events/ca
 lendar/1324/ringing-and-bacon-butties?tmpl=component">This event was import
 ed from: https://www.scacr.org/news-events/calendar/1324/ringing-and-bacon-
 butties?tmpl=component</a>CONTACT:This email address is being protected from spambots. You need JavaScript enabled to view it.
				document.getElementById('cloaka9f54cf76a2d3c00ddd27b58949f14da').innerHTML = '';
				var prefix = '&#109;a' + 'i&#108;' + '&#116;o';
				var path = 'hr' + 'ef' + '=';
				var addya9f54cf76a2d3c00ddd27b58949f14da = 's&#101;c-n&#111;rth' + '&#64;';
				addya9f54cf76a2d3c00ddd27b58949f14da = addya9f54cf76a2d3c00ddd27b58949f14da + 'sc&#97;cr' + '&#46;' + '&#111;rg';
				var addy_texta9f54cf76a2d3c00ddd27b58949f14da = 's&#101;c-n&#111;rth' + '&#64;' + 'sc&#97;cr' + '&#46;' + '&#111;rg';document.getElementById('cloaka9f54cf76a2d3c00ddd27b58949f14da').innerHTML += '<a ' + path + '\'' + prefix + ':' + addya9f54cf76a2d3c00ddd27b58949f14da + '\'>'+addy_texta9f54cf76a2d3c00ddd27b58949f14da+'';
		
DTSTAMP:20260423T155442
DTSTART;TZID=Europe/London:20240907T103000
DTEND;TZID=Europe/London:20240907T123000
SEQUENCE:0
TRANSP:OPAQUE
END:VEVENT
END:VCALENDAR