BEGIN:VCALENDAR
VERSION:2.0
PRODID:-//jEvents 2.0 for Joomla//EN
CALSCALE:GREGORIAN
METHOD:PUBLISH
BEGIN:VTIMEZONE
TZID:Europe/London
BEGIN:STANDARD
DTSTART:20231113T193000
RDATE:20240331T020000
TZOFFSETFROM:+0100
TZOFFSETTO:+0000
TZNAME:Europe/London GMT
END:STANDARD
BEGIN:STANDARD
DTSTART:20241027T010000
RDATE:20250330T020000
TZOFFSETFROM:+0100
TZOFFSETTO:+0000
TZNAME:Europe/London GMT
END:STANDARD
BEGIN:STANDARD
DTSTART:20251026T010000
RDATE:20260329T020000
TZOFFSETFROM:+0100
TZOFFSETTO:+0000
TZNAME:Europe/London GMT
END:STANDARD
BEGIN:STANDARD
DTSTART:20261025T010000
RDATE:20270328T020000
TZOFFSETFROM:+0100
TZOFFSETTO:+0000
TZNAME:Europe/London GMT
END:STANDARD
BEGIN:STANDARD
DTSTART:20271031T010000
RDATE:20280326T020000
TZOFFSETFROM:+0100
TZOFFSETTO:+0000
TZNAME:Europe/London GMT
END:STANDARD
BEGIN:STANDARD
DTSTART:20281029T010000
RDATE:20290325T020000
TZOFFSETFROM:+0100
TZOFFSETTO:+0000
TZNAME:Europe/London GMT
END:STANDARD
BEGIN:STANDARD
DTSTART:20291028T010000
RDATE:20300331T020000
TZOFFSETFROM:+0100
TZOFFSETTO:+0000
TZNAME:Europe/London GMT
END:STANDARD
BEGIN:STANDARD
DTSTART:20301027T010000
RDATE:20310330T020000
TZOFFSETFROM:+0100
TZOFFSETTO:+0000
TZNAME:Europe/London GMT
END:STANDARD
BEGIN:DAYLIGHT
DTSTART:20240331T020000
RDATE:20241027T010000
TZOFFSETFROM:+0000
TZOFFSETTO:+0100
TZNAME:Europe/London BST
END:DAYLIGHT
BEGIN:DAYLIGHT
DTSTART:20250330T020000
RDATE:20251026T010000
TZOFFSETFROM:+0000
TZOFFSETTO:+0100
TZNAME:Europe/London BST
END:DAYLIGHT
BEGIN:DAYLIGHT
DTSTART:20260329T020000
RDATE:20261025T010000
TZOFFSETFROM:+0000
TZOFFSETTO:+0100
TZNAME:Europe/London BST
END:DAYLIGHT
BEGIN:DAYLIGHT
DTSTART:20270328T020000
RDATE:20271031T010000
TZOFFSETFROM:+0000
TZOFFSETTO:+0100
TZNAME:Europe/London BST
END:DAYLIGHT
BEGIN:DAYLIGHT
DTSTART:20280326T020000
RDATE:20281029T010000
TZOFFSETFROM:+0000
TZOFFSETTO:+0100
TZNAME:Europe/London BST
END:DAYLIGHT
BEGIN:DAYLIGHT
DTSTART:20290325T020000
RDATE:20291028T010000
TZOFFSETFROM:+0000
TZOFFSETTO:+0100
TZNAME:Europe/London BST
END:DAYLIGHT
BEGIN:DAYLIGHT
DTSTART:20300331T020000
RDATE:20301027T010000
TZOFFSETFROM:+0000
TZOFFSETTO:+0100
TZNAME:Europe/London BST
END:DAYLIGHT
END:VTIMEZONE
BEGIN:VEVENT
UID:9ddad8967aae453e4b0e4b507b9e21b3
CATEGORIES:East
CREATED:20240808T153001
SUMMARY:Doubles Practice for All Abilities
LOCATION:Westham
URL;VALUE=URI:https://www.scacr.org/news-events/calendar/1317/doubles-practice-for-all-ab
 ilities?tmpl=component
DESCRIPTION:Doubles Practice at Westham near Eastbourne.\nMethod of the month will be: 
 Reverse Canterbury Pleasure Place Doubles\nJoin us for the monthly mid-week
  practice on this 10cwt ring of 6 for those learning Plain Hunt and learnin
 g to treble on Plain Bob/Grandsire, through to short touches of doubles met
 hods to suit the repertoire of those attending.\n\n - First steps from Roun
 ds to Plain Hunt\n - Learn to "Plain Hunt" the treble to methods\n - Take y
 our plain course of Bob Doubles or Grandsire to a touch\n - Stedman onwards
  for more experienced ringers (subject to having enough ringers that can ri
 ng your dream method!)\n - Try a new method*Experienced helpers to fill in 
 and "stand-behind" are essential to the ringing development of learners and
  of course are always welcome - you might even be able to sneak some minor 
 in at the end!\nRefreshments served. ☕️\n\n*Recent events have included Pla
 in Hunt, Plain Bob, Winchendon Place, St Simon's, Grandsire and Stedman too
 \n This event was imported from: https://www.scacr.org/news-events/calendar
 /1317/doubles-practice-for-all-abilities?tmpl=component (https://www.scacr.
 org/news-events/calendar/1317/doubles-practice-for-all-abilities?tmpl=compo
 nent)
X-ALT-DESC;FMTTYPE=text/html:<p><strong style="color: #000000;">Doubles Practice at Westham near Eastbou
 rne.</strong></p><p style="font-weight: bolder; color: #2441ff;">Method of 
 the month will be: Reverse Canterbury Pleasure Place Doubles</p><p>Join us 
 for the monthly mid-week practice on this 10cwt ring of 6 for those learnin
 g Plain Hunt and learning to treble on Plain Bob/Grandsire, through to shor
 t touches of doubles methods to suit the repertoire of those attending.</p>
 <ul><li>First steps from Rounds to Plain Hunt</li><li>Learn to "Plain Hunt"
  the treble to methods</li><li>Take your plain course of Bob Doubles or Gra
 ndsire to a touch</li><li>Stedman onwards for more experienced ringers (sub
 ject to having enough ringers that can ring your dream method!)</li><li>Try
  a new method*</li></ul><p>Experienced helpers to fill in and "stand-behind
 " are essential to the ringing development of learners and of course are al
 ways welcome - you might even be able to sneak some minor in at the end!</p
 ><p>Refreshments served.&nbsp;☕️<br /><br /><em>*Recent events have include
 d Plain Hunt, Plain Bob, Winchendon Place, St Simon's, Grandsire and Stedma
 n too</em></p> <a href="https://www.scacr.org/news-events/calendar/1317/dou
 bles-practice-for-all-abilities?tmpl=component">This event was imported fro
 m: https://www.scacr.org/news-events/calendar/1317/doubles-practice-for-all
 -abilities?tmpl=component</a>CONTACT:This email address is being protected from spambots. You need JavaScript enabled to view it.
				document.getElementById('cloak6d610fc080adfdb178e265dda4a384bd').innerHTML = '';
				var prefix = '&#109;a' + 'i&#108;' + '&#116;o';
				var path = 'hr' + 'ef' + '=';
				var addy6d610fc080adfdb178e265dda4a384bd = 'st&#101;v&#101;.p&#105;lf&#111;ld' + '&#64;';
				addy6d610fc080adfdb178e265dda4a384bd = addy6d610fc080adfdb178e265dda4a384bd + 'wh&#101;r&#101;&#105;ns&#117;ss&#101;x' + '&#46;' + '&#111;rg' + '&#46;' + '&#117;k';
				var addy_text6d610fc080adfdb178e265dda4a384bd = 'st&#101;v&#101;.p&#105;lf&#111;ld' + '&#64;' + 'wh&#101;r&#101;&#105;ns&#117;ss&#101;x' + '&#46;' + '&#111;rg' + '&#46;' + '&#117;k';document.getElementById('cloak6d610fc080adfdb178e265dda4a384bd').innerHTML += '<a ' + path + '\'' + prefix + ':' + addy6d610fc080adfdb178e265dda4a384bd + '\'>'+addy_text6d610fc080adfdb178e265dda4a384bd+'';
		
DTSTAMP:20260423T053048
DTSTART;TZID=Europe/London:20241113T193000
DTEND;TZID=Europe/London:20241113T210000
SEQUENCE:0
TRANSP:OPAQUE
END:VEVENT
END:VCALENDAR