BEGIN:VCALENDAR
VERSION:2.0
PRODID:-//jEvents 2.0 for Joomla//EN
CALSCALE:GREGORIAN
METHOD:PUBLISH
BEGIN:VTIMEZONE
TZID:Europe/London
BEGIN:STANDARD
DTSTART:20231029T010000
RDATE:20240331T020000
TZOFFSETFROM:+0100
TZOFFSETTO:+0000
TZNAME:Europe/London GMT
END:STANDARD
BEGIN:STANDARD
DTSTART:20241027T010000
RDATE:20250330T020000
TZOFFSETFROM:+0100
TZOFFSETTO:+0000
TZNAME:Europe/London GMT
END:STANDARD
BEGIN:STANDARD
DTSTART:20251026T010000
RDATE:20260329T020000
TZOFFSETFROM:+0100
TZOFFSETTO:+0000
TZNAME:Europe/London GMT
END:STANDARD
BEGIN:STANDARD
DTSTART:20261025T010000
RDATE:20270328T020000
TZOFFSETFROM:+0100
TZOFFSETTO:+0000
TZNAME:Europe/London GMT
END:STANDARD
BEGIN:STANDARD
DTSTART:20271031T010000
RDATE:20280326T020000
TZOFFSETFROM:+0100
TZOFFSETTO:+0000
TZNAME:Europe/London GMT
END:STANDARD
BEGIN:STANDARD
DTSTART:20281029T010000
RDATE:20290325T020000
TZOFFSETFROM:+0100
TZOFFSETTO:+0000
TZNAME:Europe/London GMT
END:STANDARD
BEGIN:STANDARD
DTSTART:20291028T010000
RDATE:20300331T020000
TZOFFSETFROM:+0100
TZOFFSETTO:+0000
TZNAME:Europe/London GMT
END:STANDARD
BEGIN:STANDARD
DTSTART:20301027T010000
RDATE:20310330T020000
TZOFFSETFROM:+0100
TZOFFSETTO:+0000
TZNAME:Europe/London GMT
END:STANDARD
BEGIN:DAYLIGHT
DTSTART:20230921T140000
RDATE:20231029T010000
TZOFFSETFROM:+0000
TZOFFSETTO:+0100
TZNAME:Europe/London BST
END:DAYLIGHT
BEGIN:DAYLIGHT
DTSTART:20240331T020000
RDATE:20241027T010000
TZOFFSETFROM:+0000
TZOFFSETTO:+0100
TZNAME:Europe/London BST
END:DAYLIGHT
BEGIN:DAYLIGHT
DTSTART:20250330T020000
RDATE:20251026T010000
TZOFFSETFROM:+0000
TZOFFSETTO:+0100
TZNAME:Europe/London BST
END:DAYLIGHT
BEGIN:DAYLIGHT
DTSTART:20260329T020000
RDATE:20261025T010000
TZOFFSETFROM:+0000
TZOFFSETTO:+0100
TZNAME:Europe/London BST
END:DAYLIGHT
BEGIN:DAYLIGHT
DTSTART:20270328T020000
RDATE:20271031T010000
TZOFFSETFROM:+0000
TZOFFSETTO:+0100
TZNAME:Europe/London BST
END:DAYLIGHT
BEGIN:DAYLIGHT
DTSTART:20280326T020000
RDATE:20281029T010000
TZOFFSETFROM:+0000
TZOFFSETTO:+0100
TZNAME:Europe/London BST
END:DAYLIGHT
BEGIN:DAYLIGHT
DTSTART:20290325T020000
RDATE:20291028T010000
TZOFFSETFROM:+0000
TZOFFSETTO:+0100
TZNAME:Europe/London BST
END:DAYLIGHT
BEGIN:DAYLIGHT
DTSTART:20300331T020000
RDATE:20301027T010000
TZOFFSETFROM:+0000
TZOFFSETTO:+0100
TZNAME:Europe/London BST
END:DAYLIGHT
END:VTIMEZONE
BEGIN:VEVENT
UID:143cc10c4ba6dd0b3493f85ee63695d6
CATEGORIES:South
CREATED:20240802T170629
SUMMARY:10 Bell Practice not at St Nic' now at St Peter's Brighton
LOCATION:St Peter's Brighton
URL;VALUE=URI:https://www.scacr.org/news-events/calendar/1312/10-bell-practice-not-at-st-
 nic-now-at-st-peter-s-brighton?tmpl=component
DESCRIPTION:<p><em>You’re invited to the Southern District practice that has been moved
  from St Nic’s Brighton to St Peters Brighton due to a broken stay. The aft
 ernoon will be a general practice focusing on gaining confidence with ringi
 ng on 10 bells. Novice/learners are welcome particularly if you attend with
  your tutor.</em></p><p><em>The bell chamber is accessed via a spiral stair
 case. Parking is available in the centre of Brighton but it would probably 
 be easier to use public transport.&nbsp;</em></p><p><em>Please come along a
 nd if possible let me know &nbsp;you will be attending.&nbsp; </em></p><p><
 em>Thank you.</em></p><p><em>Richard Neal (</em><strong><em><a href="mailto
 :sec-south@scacr.org"></a><a href="mailto:sec-south@scacr.org"></a><span id
 ="cloak640b3b22df47785ad2e98165423151d9">This email address is being protec
 ted from spambots. You need JavaScript enabled to view it.</span><script ty
 pe='text/javascript'>
				document.getElementById('cloak640b3b22df47785ad2e
 98165423151d9').innerHTML = '';
				var prefix = '&#109;a' + 'i&#108;' + '&
 #116;o';
				var path = 'hr' + 'ef' + '=';
				var addy640b3b22df47785ad2e9
 8165423151d9 = 's&#101;c-s&#111;&#117;th' + '&#64;';
				addy640b3b22df4778
 5ad2e98165423151d9 = addy640b3b22df47785ad2e98165423151d9 + 'sc&#97;cr' + '
 &#46;' + '&#111;rg';
				var addy_text640b3b22df47785ad2e98165423151d9 = 's
 &#101;c-s&#111;&#117;th' + '&#64;' + 'sc&#97;cr' + '&#46;' + '&#111;rg';doc
 ument.getElementById('cloak640b3b22df47785ad2e98165423151d9').innerHTML += 
 '<a ' + path + '\'' + prefix + ':' + addy640b3b22df47785ad2e98165423151d9 +
  '\'>'+addy_text640b3b22df47785ad2e98165423151d9+'<\/a>';
		</script></em><
 /strong><em>)<br /> Southern District Secretary</em></p> <a href="https://w
 ww.scacr.org/news-events/calendar/1312/10-bell-practice-not-at-st-nic-now-a
 t-st-peter-s-brighton?tmpl=component">This event was imported from: https:/
 /www.scacr.org/news-events/calendar/1312/10-bell-practice-not-at-st-nic-now
 -at-st-peter-s-brighton?tmpl=component</a>CONTACT:Richard Neal (This email address is being protected from spambots. You need JavaScript enabled to view it.
				document.getElementById('cloakd18e7024c8956ee8b51bcd0e538f8ba5').innerHTML = '';
				var prefix = '&#109;a' + 'i&#108;' + '&#116;o';
				var path = 'hr' + 'ef' + '=';
				var addyd18e7024c8956ee8b51bcd0e538f8ba5 = 's&#101;c-s&#111;&#117;th' + '&#64;';
				addyd18e7024c8956ee8b51bcd0e538f8ba5 = addyd18e7024c8956ee8b51bcd0e538f8ba5 + 'sc&#97;cr' + '&#46;' + '&#111;rg';
				var addy_textd18e7024c8956ee8b51bcd0e538f8ba5 = 's&#101;c-s&#111;&#117;th' + '&#64;' + 'sc&#97;cr' + '&#46;' + '&#111;rg';document.getElementById('cloakd18e7024c8956ee8b51bcd0e538f8ba5').innerHTML += '<a ' + path + '\'' + prefix + ':' + addyd18e7024c8956ee8b51bcd0e538f8ba5 + '\'>'+addy_textd18e7024c8956ee8b51bcd0e538f8ba5+'';
		)
DTSTAMP:20260423T192719
DTSTART;TZID=Europe/London:20240921T140000
DTEND;TZID=Europe/London:20240921T160000
SEQUENCE:0
TRANSP:OPAQUE
END:VEVENT
END:VCALENDAR