BEGIN:VCALENDAR
VERSION:2.0
PRODID:-//jEvents 2.0 for Joomla//EN
CALSCALE:GREGORIAN
METHOD:PUBLISH
BEGIN:VTIMEZONE
TZID:Europe/London
BEGIN:STANDARD
DTSTART:20231029T010000
RDATE:20240331T020000
TZOFFSETFROM:+0100
TZOFFSETTO:+0000
TZNAME:Europe/London GMT
END:STANDARD
BEGIN:STANDARD
DTSTART:20241027T010000
RDATE:20250330T020000
TZOFFSETFROM:+0100
TZOFFSETTO:+0000
TZNAME:Europe/London GMT
END:STANDARD
BEGIN:STANDARD
DTSTART:20251026T010000
RDATE:20260329T020000
TZOFFSETFROM:+0100
TZOFFSETTO:+0000
TZNAME:Europe/London GMT
END:STANDARD
BEGIN:STANDARD
DTSTART:20261025T010000
RDATE:20270328T020000
TZOFFSETFROM:+0100
TZOFFSETTO:+0000
TZNAME:Europe/London GMT
END:STANDARD
BEGIN:STANDARD
DTSTART:20271031T010000
RDATE:20280326T020000
TZOFFSETFROM:+0100
TZOFFSETTO:+0000
TZNAME:Europe/London GMT
END:STANDARD
BEGIN:STANDARD
DTSTART:20281029T010000
RDATE:20290325T020000
TZOFFSETFROM:+0100
TZOFFSETTO:+0000
TZNAME:Europe/London GMT
END:STANDARD
BEGIN:STANDARD
DTSTART:20291028T010000
RDATE:20300331T020000
TZOFFSETFROM:+0100
TZOFFSETTO:+0000
TZNAME:Europe/London GMT
END:STANDARD
BEGIN:STANDARD
DTSTART:20301027T010000
RDATE:20310330T020000
TZOFFSETFROM:+0100
TZOFFSETTO:+0000
TZNAME:Europe/London GMT
END:STANDARD
BEGIN:DAYLIGHT
DTSTART:20230727T101500
RDATE:20231029T010000
TZOFFSETFROM:+0000
TZOFFSETTO:+0100
TZNAME:Europe/London BST
END:DAYLIGHT
BEGIN:DAYLIGHT
DTSTART:20240331T020000
RDATE:20241027T010000
TZOFFSETFROM:+0000
TZOFFSETTO:+0100
TZNAME:Europe/London BST
END:DAYLIGHT
BEGIN:DAYLIGHT
DTSTART:20250330T020000
RDATE:20251026T010000
TZOFFSETFROM:+0000
TZOFFSETTO:+0100
TZNAME:Europe/London BST
END:DAYLIGHT
BEGIN:DAYLIGHT
DTSTART:20260329T020000
RDATE:20261025T010000
TZOFFSETFROM:+0000
TZOFFSETTO:+0100
TZNAME:Europe/London BST
END:DAYLIGHT
BEGIN:DAYLIGHT
DTSTART:20270328T020000
RDATE:20271031T010000
TZOFFSETFROM:+0000
TZOFFSETTO:+0100
TZNAME:Europe/London BST
END:DAYLIGHT
BEGIN:DAYLIGHT
DTSTART:20280326T020000
RDATE:20281029T010000
TZOFFSETFROM:+0000
TZOFFSETTO:+0100
TZNAME:Europe/London BST
END:DAYLIGHT
BEGIN:DAYLIGHT
DTSTART:20290325T020000
RDATE:20291028T010000
TZOFFSETFROM:+0000
TZOFFSETTO:+0100
TZNAME:Europe/London BST
END:DAYLIGHT
BEGIN:DAYLIGHT
DTSTART:20300331T020000
RDATE:20301027T010000
TZOFFSETFROM:+0000
TZOFFSETTO:+0100
TZNAME:Europe/London BST
END:DAYLIGHT
END:VTIMEZONE
BEGIN:VEVENT
UID:0833499369881bceab52b14c8fdbdc38
CATEGORIES:West
CREATED:20240609T124300
SUMMARY:Surprise Minor Practice
LOCATION:St Mary's Church\, Walberton
URL;VALUE=URI:https://www.scacr.org/news-events/calendar/1298/surprise-minor-practice?tmp
 l=component
DESCRIPTION:This is a regular monthly event giving ringers the opportunity to ring  met
 hods such as Plain courses and touches of Cambridge and Norwich and Plain c
 ourses of Beverley, London, Carlisle and Pure Treble Bob Hunt!!   Refreshme
 nts are provided.  Please contact This email address is being protected fro
 m spambots. You need JavaScript enabled to view it.
				document.getElement
 ById('cloak5274a6c870deb66edc8f07939c54a915').innerHTML = '';
				var prefi
 x = '&#109;a' + 'i&#108;' + '&#116;o';
				var path = 'hr' + 'ef' + '=';
		
 		var addy5274a6c870deb66edc8f07939c54a915 = 's&#101;c-w&#101;st' + '&#64;'
 ;
				addy5274a6c870deb66edc8f07939c54a915 = addy5274a6c870deb66edc8f07939c
 54a915 + 'sc&#97;cr' + '&#46;' + '&#111;rg';
				var addy_text5274a6c870deb
 66edc8f07939c54a915 = 's&#101;c-w&#101;st' + '&#64;' + 'sc&#97;cr' + '&#46;
 ' + '&#111;rg';document.getElementById('cloak5274a6c870deb66edc8f07939c54a9
 15').innerHTML += '<a ' + path + '\'' + prefix + ':' + addy5274a6c870deb66e
 dc8f07939c54a915 + '\'>'+addy_text5274a6c870deb66edc8f07939c54a915+'';
		 i
 f you would like refreshments.\nThe 'method of the month'  is yet to be ann
 ounced - watch this space!!\n This event was imported from: https://www.sca
 cr.org/news-events/calendar/1298/surprise-minor-practice?tmpl=component (ht
 tps://www.scacr.org/news-events/calendar/1298/surprise-minor-practice?tmpl=
 component)
X-ALT-DESC;FMTTYPE=text/html:<p>This is a regular monthly event giving ringers the opportunity to ring&n
 bsp; methods such as Plain courses and touches of Cambridge and Norwich and
  Plain courses of Beverley, London, Carlisle and Pure Treble Bob Hunt!!&nbs
 p; &nbsp;Refreshments are provided.&nbsp; Please contact <span id="cloak527
 4a6c870deb66edc8f07939c54a915">This email address is being protected from s
 pambots. You need JavaScript enabled to view it.</span><script type='text/j
 avascript'>
				document.getElementById('cloak5274a6c870deb66edc8f07939c54a
 915').innerHTML = '';
				var prefix = '&#109;a' + 'i&#108;' + '&#116;o';
	
 			var path = 'hr' + 'ef' + '=';
				var addy5274a6c870deb66edc8f07939c54a9
 15 = 's&#101;c-w&#101;st' + '&#64;';
				addy5274a6c870deb66edc8f07939c54a9
 15 = addy5274a6c870deb66edc8f07939c54a915 + 'sc&#97;cr' + '&#46;' + '&#111;
 rg';
				var addy_text5274a6c870deb66edc8f07939c54a915 = 's&#101;c-w&#101;s
 t' + '&#64;' + 'sc&#97;cr' + '&#46;' + '&#111;rg';document.getElementById('
 cloak5274a6c870deb66edc8f07939c54a915').innerHTML += '<a ' + path + '\'' + 
 prefix + ':' + addy5274a6c870deb66edc8f07939c54a915 + '\'>'+addy_text5274a6
 c870deb66edc8f07939c54a915+'<\/a>';
		</script>&nbsp;if you would like refr
 eshments.</p><p>The 'method of the month'&nbsp; is yet to be announced - wa
 tch this space!!</p> <a href="https://www.scacr.org/news-events/calendar/12
 98/surprise-minor-practice?tmpl=component">This event was imported from: ht
 tps://www.scacr.org/news-events/calendar/1298/surprise-minor-practice?tmpl=
 component</a>CONTACT:This email address is being protected from spambots. You need JavaScript enabled to view it.
				document.getElementById('cloakda862be6a891c312c645f90dd64534bc').innerHTML = '';
				var prefix = '&#109;a' + 'i&#108;' + '&#116;o';
				var path = 'hr' + 'ef' + '=';
				var addyda862be6a891c312c645f90dd64534bc = 's&#101;c-w&#101;st' + '&#64;';
				addyda862be6a891c312c645f90dd64534bc = addyda862be6a891c312c645f90dd64534bc + 'sc&#97;cr' + '&#46;' + '&#111;rg';
				var addy_textda862be6a891c312c645f90dd64534bc = 's&#101;c-w&#101;st' + '&#64;' + 'sc&#97;cr' + '&#46;' + '&#111;rg';document.getElementById('cloakda862be6a891c312c645f90dd64534bc').innerHTML += '<a ' + path + '\'' + prefix + ':' + addyda862be6a891c312c645f90dd64534bc + '\'>'+addy_textda862be6a891c312c645f90dd64534bc+'';
		
DTSTAMP:20260422T173952
DTSTART;TZID=Europe/London:20240727T101500
DTEND;TZID=Europe/London:20240727T120000
SEQUENCE:0
TRANSP:OPAQUE
END:VEVENT
END:VCALENDAR