BEGIN:VCALENDAR
VERSION:2.0
PRODID:-//jEvents 2.0 for Joomla//EN
CALSCALE:GREGORIAN
METHOD:PUBLISH
BEGIN:VTIMEZONE
TZID:Europe/London
BEGIN:STANDARD
DTSTART:20231029T010000
RDATE:20240331T020000
TZOFFSETFROM:+0100
TZOFFSETTO:+0000
TZNAME:Europe/London GMT
END:STANDARD
BEGIN:STANDARD
DTSTART:20241027T010000
RDATE:20250330T020000
TZOFFSETFROM:+0100
TZOFFSETTO:+0000
TZNAME:Europe/London GMT
END:STANDARD
BEGIN:STANDARD
DTSTART:20251026T010000
RDATE:20260329T020000
TZOFFSETFROM:+0100
TZOFFSETTO:+0000
TZNAME:Europe/London GMT
END:STANDARD
BEGIN:STANDARD
DTSTART:20261025T010000
RDATE:20270328T020000
TZOFFSETFROM:+0100
TZOFFSETTO:+0000
TZNAME:Europe/London GMT
END:STANDARD
BEGIN:STANDARD
DTSTART:20271031T010000
RDATE:20280326T020000
TZOFFSETFROM:+0100
TZOFFSETTO:+0000
TZNAME:Europe/London GMT
END:STANDARD
BEGIN:STANDARD
DTSTART:20281029T010000
RDATE:20290325T020000
TZOFFSETFROM:+0100
TZOFFSETTO:+0000
TZNAME:Europe/London GMT
END:STANDARD
BEGIN:STANDARD
DTSTART:20291028T010000
RDATE:20300331T020000
TZOFFSETFROM:+0100
TZOFFSETTO:+0000
TZNAME:Europe/London GMT
END:STANDARD
BEGIN:STANDARD
DTSTART:20301027T010000
RDATE:20310330T020000
TZOFFSETFROM:+0100
TZOFFSETTO:+0000
TZNAME:Europe/London GMT
END:STANDARD
BEGIN:DAYLIGHT
DTSTART:20230720T100000
RDATE:20231029T010000
TZOFFSETFROM:+0000
TZOFFSETTO:+0100
TZNAME:Europe/London BST
END:DAYLIGHT
BEGIN:DAYLIGHT
DTSTART:20240331T020000
RDATE:20241027T010000
TZOFFSETFROM:+0000
TZOFFSETTO:+0100
TZNAME:Europe/London BST
END:DAYLIGHT
BEGIN:DAYLIGHT
DTSTART:20250330T020000
RDATE:20251026T010000
TZOFFSETFROM:+0000
TZOFFSETTO:+0100
TZNAME:Europe/London BST
END:DAYLIGHT
BEGIN:DAYLIGHT
DTSTART:20260329T020000
RDATE:20261025T010000
TZOFFSETFROM:+0000
TZOFFSETTO:+0100
TZNAME:Europe/London BST
END:DAYLIGHT
BEGIN:DAYLIGHT
DTSTART:20270328T020000
RDATE:20271031T010000
TZOFFSETFROM:+0000
TZOFFSETTO:+0100
TZNAME:Europe/London BST
END:DAYLIGHT
BEGIN:DAYLIGHT
DTSTART:20280326T020000
RDATE:20281029T010000
TZOFFSETFROM:+0000
TZOFFSETTO:+0100
TZNAME:Europe/London BST
END:DAYLIGHT
BEGIN:DAYLIGHT
DTSTART:20290325T020000
RDATE:20291028T010000
TZOFFSETFROM:+0000
TZOFFSETTO:+0100
TZNAME:Europe/London BST
END:DAYLIGHT
BEGIN:DAYLIGHT
DTSTART:20300331T020000
RDATE:20301027T010000
TZOFFSETFROM:+0000
TZOFFSETTO:+0100
TZNAME:Europe/London BST
END:DAYLIGHT
END:VTIMEZONE
BEGIN:VEVENT
UID:98d5287c63dfb66b2b972e165c306c93
CATEGORIES:West
CREATED:20240609T124106
SUMMARY:Rounds to Plain Hunt
LOCATION:St Mary's Church\, Storrington
URL;VALUE=URI:https://www.scacr.org/news-events/calendar/1297/rounds-to-plain-hunt?tmpl=c
 omponent
DESCRIPTION:This is a great opportunity for those who are able to handle a bell indepen
 dently and are ready to ring rounds, call changes and plain hunt!  You will
  handle the bell in the usual way and will be ringing with a supportive ban
 d  with the simulator up and running!  It is imperative that you book throu
 gh Christine Butterfield on 01903 872623  in order to monitor numbers to gi
 ve everyone the best experience.  Refreshments will be provided for a donat
 ion.  Look forward to seeing you there!!\n \nUpdate - places are available 
 on this practice as many ringers have progressed to the 'Beyond Plain Hunt'
  session at Washington which is a great achievemnt!  So, if you are ready f
 or rounds and plain hunt  - then do please come along.  Please book with Ch
 ristine Butterfield!!\n This event was imported from: https://www.scacr.org
 /news-events/calendar/1297/rounds-to-plain-hunt?tmpl=component (https://www
 .scacr.org/news-events/calendar/1297/rounds-to-plain-hunt?tmpl=component)
X-ALT-DESC;FMTTYPE=text/html:<p>This is a great opportunity for those who are able to handle a bell inde
 pendently and are ready to ring rounds, call changes and plain hunt!&nbsp; 
 You will handle the bell in the usual way and will be ringing with a suppor
 tive band&nbsp; with the simulator up and running!&nbsp; It is <strong>impe
 rative</strong> that you book through Christine Butterfield on 01903 872623
 &nbsp; in order to monitor numbers to give everyone the best experience.&nb
 sp; Refreshments will be provided for a donation.&nbsp; Look forward to see
 ing you there!!</p><p>&nbsp;</p><p>Update - places are available on this pr
 actice as many ringers have progressed to the 'Beyond Plain Hunt' session a
 t Washington which is a great achievemnt!&nbsp; So, if you are ready for ro
 unds and plain hunt&nbsp; - then do please come along.&nbsp; Please book wi
 th Christine Butterfield!!</p> <a href="https://www.scacr.org/news-events/c
 alendar/1297/rounds-to-plain-hunt?tmpl=component">This event was imported f
 rom: https://www.scacr.org/news-events/calendar/1297/rounds-to-plain-hunt?t
 mpl=component</a>CONTACT:Christine Butterfield 01903 872623
DTSTAMP:20260422T112339
DTSTART;TZID=Europe/London:20240720T100000
DTEND;TZID=Europe/London:20240720T120000
SEQUENCE:0
TRANSP:OPAQUE
END:VEVENT
END:VCALENDAR