BEGIN:VCALENDAR
VERSION:2.0
PRODID:-//jEvents 2.0 for Joomla//EN
CALSCALE:GREGORIAN
METHOD:PUBLISH
BEGIN:VTIMEZONE
TZID:Europe/London
BEGIN:STANDARD
DTSTART:20231029T010000
RDATE:20240331T020000
TZOFFSETFROM:+0100
TZOFFSETTO:+0000
TZNAME:Europe/London GMT
END:STANDARD
BEGIN:STANDARD
DTSTART:20241027T010000
RDATE:20250330T020000
TZOFFSETFROM:+0100
TZOFFSETTO:+0000
TZNAME:Europe/London GMT
END:STANDARD
BEGIN:STANDARD
DTSTART:20251026T010000
RDATE:20260329T020000
TZOFFSETFROM:+0100
TZOFFSETTO:+0000
TZNAME:Europe/London GMT
END:STANDARD
BEGIN:STANDARD
DTSTART:20261025T010000
RDATE:20270328T020000
TZOFFSETFROM:+0100
TZOFFSETTO:+0000
TZNAME:Europe/London GMT
END:STANDARD
BEGIN:STANDARD
DTSTART:20271031T010000
RDATE:20280326T020000
TZOFFSETFROM:+0100
TZOFFSETTO:+0000
TZNAME:Europe/London GMT
END:STANDARD
BEGIN:STANDARD
DTSTART:20281029T010000
RDATE:20290325T020000
TZOFFSETFROM:+0100
TZOFFSETTO:+0000
TZNAME:Europe/London GMT
END:STANDARD
BEGIN:STANDARD
DTSTART:20291028T010000
RDATE:20300331T020000
TZOFFSETFROM:+0100
TZOFFSETTO:+0000
TZNAME:Europe/London GMT
END:STANDARD
BEGIN:STANDARD
DTSTART:20301027T010000
RDATE:20310330T020000
TZOFFSETFROM:+0100
TZOFFSETTO:+0000
TZNAME:Europe/London GMT
END:STANDARD
BEGIN:DAYLIGHT
DTSTART:20230713T140000
RDATE:20231029T010000
TZOFFSETFROM:+0000
TZOFFSETTO:+0100
TZNAME:Europe/London BST
END:DAYLIGHT
BEGIN:DAYLIGHT
DTSTART:20240331T020000
RDATE:20241027T010000
TZOFFSETFROM:+0000
TZOFFSETTO:+0100
TZNAME:Europe/London BST
END:DAYLIGHT
BEGIN:DAYLIGHT
DTSTART:20250330T020000
RDATE:20251026T010000
TZOFFSETFROM:+0000
TZOFFSETTO:+0100
TZNAME:Europe/London BST
END:DAYLIGHT
BEGIN:DAYLIGHT
DTSTART:20260329T020000
RDATE:20261025T010000
TZOFFSETFROM:+0000
TZOFFSETTO:+0100
TZNAME:Europe/London BST
END:DAYLIGHT
BEGIN:DAYLIGHT
DTSTART:20270328T020000
RDATE:20271031T010000
TZOFFSETFROM:+0000
TZOFFSETTO:+0100
TZNAME:Europe/London BST
END:DAYLIGHT
BEGIN:DAYLIGHT
DTSTART:20280326T020000
RDATE:20281029T010000
TZOFFSETFROM:+0000
TZOFFSETTO:+0100
TZNAME:Europe/London BST
END:DAYLIGHT
BEGIN:DAYLIGHT
DTSTART:20290325T020000
RDATE:20291028T010000
TZOFFSETFROM:+0000
TZOFFSETTO:+0100
TZNAME:Europe/London BST
END:DAYLIGHT
BEGIN:DAYLIGHT
DTSTART:20300331T020000
RDATE:20301027T010000
TZOFFSETFROM:+0000
TZOFFSETTO:+0100
TZNAME:Europe/London BST
END:DAYLIGHT
END:VTIMEZONE
BEGIN:VEVENT
UID:9efb70cce0bd49e4a8dcd8077358390a
CATEGORIES:West
CREATED:20240609T122653
SUMMARY:Monthly 'Get Together'
LOCATION:St Mary's Church\, Fittleworth
URL;VALUE=URI:https://www.scacr.org/news-events/calendar/1295/monthly-get-together?tmpl=c
 omponent
DESCRIPTION:Come along for some ringing and tea!  Everyone welcome!  The intention is t
 o have a raffle in aid of BRF so please bring some change!!  Any donations 
 of prizes would also be welcome!  Look forward to seeing you there.  If you
  need tea - please let Janice know on sec=This email address is being prote
 cted from spambots. You need JavaScript enabled to view it.
				document.ge
 tElementById('cloak0ea788a4d0e44664140a35931fc58b47').innerHTML = '';
				v
 ar prefix = '&#109;a' + 'i&#108;' + '&#116;o';
				var path = 'hr' + 'ef' +
  '=';
				var addy0ea788a4d0e44664140a35931fc58b47 = 'w&#101;st' + '&#64;';
 
				addy0ea788a4d0e44664140a35931fc58b47 = addy0ea788a4d0e44664140a35931fc
 58b47 + 'sc&#97;cr' + '&#46;' + '&#111;rg';
				var addy_text0ea788a4d0e446
 64140a35931fc58b47 = 'w&#101;st' + '&#64;' + 'sc&#97;cr' + '&#46;' + '&#111
 ;rg';document.getElementById('cloak0ea788a4d0e44664140a35931fc58b47').inner
 HTML += '<a ' + path + '\'' + prefix + ':' + addy0ea788a4d0e44664140a35931f
 c58b47 + '\'>'+addy_text0ea788a4d0e44664140a35931fc58b47+'';
		  by end of 
 day on Thursday 11th July..\nThere are no toilet facilities at this church!
  - There is a Gsrden Centre on the Fittleworth/Pulborough Road about 2 mile
 s away (RH20 1DS)  - it may be worth using the facilities before arriving!!
 !!\n \n \n This event was imported from: https://www.scacr.org/news-events/
 calendar/1295/monthly-get-together?tmpl=component (https://www.scacr.org/ne
 ws-events/calendar/1295/monthly-get-together?tmpl=component)
X-ALT-DESC;FMTTYPE=text/html:<p>Come along for some ringing and tea!&nbsp; Everyone welcome!&nbsp; The i
 ntention is to have a raffle in aid of BRF so please bring some change!!&nb
 sp; Any donations of prizes would also be welcome!&nbsp; Look forward to se
 eing you there.&nbsp; If you need tea - please let Janice know on sec=<span
  id="cloak0ea788a4d0e44664140a35931fc58b47">This email address is being pro
 tected from spambots. You need JavaScript enabled to view it.</span><script
  type='text/javascript'>
				document.getElementById('cloak0ea788a4d0e44664
 140a35931fc58b47').innerHTML = '';
				var prefix = '&#109;a' + 'i&#108;' +
  '&#116;o';
				var path = 'hr' + 'ef' + '=';
				var addy0ea788a4d0e446641
 40a35931fc58b47 = 'w&#101;st' + '&#64;';
				addy0ea788a4d0e44664140a35931f
 c58b47 = addy0ea788a4d0e44664140a35931fc58b47 + 'sc&#97;cr' + '&#46;' + '&#
 111;rg';
				var addy_text0ea788a4d0e44664140a35931fc58b47 = 'w&#101;st' + 
 '&#64;' + 'sc&#97;cr' + '&#46;' + '&#111;rg';document.getElementById('cloak
 0ea788a4d0e44664140a35931fc58b47').innerHTML += '<a ' + path + '\'' + prefi
 x + ':' + addy0ea788a4d0e44664140a35931fc58b47 + '\'>'+addy_text0ea788a4d0e
 44664140a35931fc58b47+'<\/a>';
		</script>&nbsp; by end of day on Thursday 
 11th July..</p><p>There are no toilet facilities at this church! - There is
  a Gsrden Centre on the Fittleworth/Pulborough Road about 2 miles away (RH2
 0 1DS)&nbsp; - it may be worth using the facilities before arriving!!!!</p>
 <p>&nbsp;</p><p>&nbsp;</p> <a href="https://www.scacr.org/news-events/calen
 dar/1295/monthly-get-together?tmpl=component">This event was imported from:
  https://www.scacr.org/news-events/calendar/1295/monthly-get-together?tmpl=
 component</a>CONTACT:This email address is being protected from spambots. You need JavaScript enabled to view it.
				document.getElementById('cloake2d0611b06b0b4db4aac512439c81434').innerHTML = '';
				var prefix = '&#109;a' + 'i&#108;' + '&#116;o';
				var path = 'hr' + 'ef' + '=';
				var addye2d0611b06b0b4db4aac512439c81434 = 's&#101;c-w&#101;st' + '&#64;';
				addye2d0611b06b0b4db4aac512439c81434 = addye2d0611b06b0b4db4aac512439c81434 + 'sc&#97;cr' + '&#46;' + '&#111;rg';
				var addy_texte2d0611b06b0b4db4aac512439c81434 = 's&#101;c-w&#101;st' + '&#64;' + 'sc&#97;cr' + '&#46;' + '&#111;rg';document.getElementById('cloake2d0611b06b0b4db4aac512439c81434').innerHTML += '<a ' + path + '\'' + prefix + ':' + addye2d0611b06b0b4db4aac512439c81434 + '\'>'+addy_texte2d0611b06b0b4db4aac512439c81434+'';
		
DTSTAMP:20260422T112829
DTSTART;TZID=Europe/London:20240713T140000
DTEND;TZID=Europe/London:20240713T160000
SEQUENCE:0
TRANSP:OPAQUE
END:VEVENT
END:VCALENDAR