BEGIN:VCALENDAR
VERSION:2.0
PRODID:-//jEvents 2.0 for Joomla//EN
CALSCALE:GREGORIAN
METHOD:PUBLISH
BEGIN:VTIMEZONE
TZID:Europe/London
BEGIN:STANDARD
DTSTART:20231029T010000
RDATE:20240331T020000
TZOFFSETFROM:+0100
TZOFFSETTO:+0000
TZNAME:Europe/London GMT
END:STANDARD
BEGIN:STANDARD
DTSTART:20241027T010000
RDATE:20250330T020000
TZOFFSETFROM:+0100
TZOFFSETTO:+0000
TZNAME:Europe/London GMT
END:STANDARD
BEGIN:STANDARD
DTSTART:20251026T010000
RDATE:20260329T020000
TZOFFSETFROM:+0100
TZOFFSETTO:+0000
TZNAME:Europe/London GMT
END:STANDARD
BEGIN:STANDARD
DTSTART:20261025T010000
RDATE:20270328T020000
TZOFFSETFROM:+0100
TZOFFSETTO:+0000
TZNAME:Europe/London GMT
END:STANDARD
BEGIN:STANDARD
DTSTART:20271031T010000
RDATE:20280326T020000
TZOFFSETFROM:+0100
TZOFFSETTO:+0000
TZNAME:Europe/London GMT
END:STANDARD
BEGIN:STANDARD
DTSTART:20281029T010000
RDATE:20290325T020000
TZOFFSETFROM:+0100
TZOFFSETTO:+0000
TZNAME:Europe/London GMT
END:STANDARD
BEGIN:STANDARD
DTSTART:20291028T010000
RDATE:20300331T020000
TZOFFSETFROM:+0100
TZOFFSETTO:+0000
TZNAME:Europe/London GMT
END:STANDARD
BEGIN:STANDARD
DTSTART:20301027T010000
RDATE:20310330T020000
TZOFFSETFROM:+0100
TZOFFSETTO:+0000
TZNAME:Europe/London GMT
END:STANDARD
BEGIN:DAYLIGHT
DTSTART:20230629T000000
RDATE:20231029T010000
TZOFFSETFROM:+0000
TZOFFSETTO:+0100
TZNAME:Europe/London BST
END:DAYLIGHT
BEGIN:DAYLIGHT
DTSTART:20240331T020000
RDATE:20241027T010000
TZOFFSETFROM:+0000
TZOFFSETTO:+0100
TZNAME:Europe/London BST
END:DAYLIGHT
BEGIN:DAYLIGHT
DTSTART:20250330T020000
RDATE:20251026T010000
TZOFFSETFROM:+0000
TZOFFSETTO:+0100
TZNAME:Europe/London BST
END:DAYLIGHT
BEGIN:DAYLIGHT
DTSTART:20260329T020000
RDATE:20261025T010000
TZOFFSETFROM:+0000
TZOFFSETTO:+0100
TZNAME:Europe/London BST
END:DAYLIGHT
BEGIN:DAYLIGHT
DTSTART:20270328T020000
RDATE:20271031T010000
TZOFFSETFROM:+0000
TZOFFSETTO:+0100
TZNAME:Europe/London BST
END:DAYLIGHT
BEGIN:DAYLIGHT
DTSTART:20280326T020000
RDATE:20281029T010000
TZOFFSETFROM:+0000
TZOFFSETTO:+0100
TZNAME:Europe/London BST
END:DAYLIGHT
BEGIN:DAYLIGHT
DTSTART:20290325T020000
RDATE:20291028T010000
TZOFFSETFROM:+0000
TZOFFSETTO:+0100
TZNAME:Europe/London BST
END:DAYLIGHT
BEGIN:DAYLIGHT
DTSTART:20300331T020000
RDATE:20301027T010000
TZOFFSETFROM:+0000
TZOFFSETTO:+0100
TZNAME:Europe/London BST
END:DAYLIGHT
END:VTIMEZONE
BEGIN:VEVENT
UID:73c3da75f346e142bf3f3cd5a10226c8
CATEGORIES:West, Association Event
CREATED:20240406T164209
SUMMARY: CROYDON TRAMLINE OUTING!
LOCATION:Croydon.
URL;VALUE=URI:https://www.scacr.org/news-events/calendar/1274/croydon-tramline-outing?tmp
 l=component
DESCRIPTION:<p>&nbsp;The Western District are having an Association outing on Saturday,
  29th June. We are going to let the train and tram take the strain on our v
 isit to the Croydon area. Four towers have been included as follows;</p><p>
 Mitcham, St Peter &amp; St Paul. 8 bells.<br />Merton Park, St Mary. 6 bell
 s.<br />Collier’s Wood, Christ Church. 6 bells.<br />South Croydon, St Pete
 r. 12 bells.</p><p>Although this is a Western District event all are welcom
 e, as long as you are competent ringing rounds and call changes. Full detai
 ls will be circulated in early June to include directions to individual tow
 ers.</p><p>If you are interested in coming along then please let either Jan
 ice Crawford; Western District Secretary, <span id="cloaka2e8b707cf25fa359c
 471ba85dbf279f">This email address is being protected from spambots. You ne
 ed JavaScript enabled to view it.</span><script type='text/javascript'>
			
 	document.getElementById('cloaka2e8b707cf25fa359c471ba85dbf279f').innerHTML
  = '';
				var prefix = '&#109;a' + 'i&#108;' + '&#116;o';
				var path = '
 hr' + 'ef' + '=';
				var addya2e8b707cf25fa359c471ba85dbf279f = 's&#101;c-
 w&#101;st' + '&#64;';
				addya2e8b707cf25fa359c471ba85dbf279f = addya2e8b7
 07cf25fa359c471ba85dbf279f + 'sc&#97;cr' + '&#46;' + '&#111;rg';
				var ad
 dy_texta2e8b707cf25fa359c471ba85dbf279f = 's&#101;c-w&#101;st' + '&#64;' + 
 'sc&#97;cr' + '&#46;' + '&#111;rg';document.getElementById('cloaka2e8b707cf
 25fa359c471ba85dbf279f').innerHTML += '<a ' + path + '\'' + prefix + ':' + 
 addya2e8b707cf25fa359c471ba85dbf279f + '\'>'+addy_texta2e8b707cf25fa359c471
 ba85dbf279f+'<\/a>';
		</script> or David Kirkcaldy <span id="cloak458658ba
 e7ea45434f78ae68711f4dc1">This email address is being protected from spambo
 ts. You need JavaScript enabled to view it.</span><script type='text/javasc
 ript'>
				document.getElementById('cloak458658bae7ea45434f78ae68711f4dc1')
 .innerHTML = '';
				var prefix = '&#109;a' + 'i&#108;' + '&#116;o';
				va
 r path = 'hr' + 'ef' + '=';
				var addy458658bae7ea45434f78ae68711f4dc1 = 
 'd&#97;v&#105;d.k&#105;rky' + '&#64;';
				addy458658bae7ea45434f78ae68711f
 4dc1 = addy458658bae7ea45434f78ae68711f4dc1 + 'gm&#97;&#105;l' + '&#46;' + 
 'c&#111;m';
				var addy_text458658bae7ea45434f78ae68711f4dc1 = 'd&#97;v&#1
 05;d.k&#105;rky' + '&#64;' + 'gm&#97;&#105;l' + '&#46;' + 'c&#111;m';docume
 nt.getElementById('cloak458658bae7ea45434f78ae68711f4dc1').innerHTML += '<a
  ' + path + '\'' + prefix + ':' + addy458658bae7ea45434f78ae68711f4dc1 + '\
 '>'+addy_text458658bae7ea45434f78ae68711f4dc1+'<\/a>';
		</script> know.</p
 ><p>This is an association event with everyone welcome!&nbsp; &nbsp;Look fo
 rward to seeing you there!</p><p>Please see attached itinerary!!</p><p>&nbs
 p;</p><p>&nbsp;</p><div>&nbsp;</div><div><div>&nbsp;</div><div>&nbsp;</div>
 <div>&nbsp;<br /><div>&nbsp;</div><div>&nbsp;<div>&nbsp;</div></div></div><
 /div> <a href="https://www.scacr.org/news-events/calendar/1274/croydon-tram
 line-outing?tmpl=component">This event was imported from: https://www.scacr
 .org/news-events/calendar/1274/croydon-tramline-outing?tmpl=component</a>CONTACT:This email address is being protected from spambots. You need JavaScript enabled to view it.
				document.getElementById('cloakcaec7bf4e71ee3785f9afa1820a5f875').innerHTML = '';
				var prefix = '&#109;a' + 'i&#108;' + '&#116;o';
				var path = 'hr' + 'ef' + '=';
				var addycaec7bf4e71ee3785f9afa1820a5f875 = 's&#101;c-w&#101;st' + '&#64;';
				addycaec7bf4e71ee3785f9afa1820a5f875 = addycaec7bf4e71ee3785f9afa1820a5f875 + 'sc&#97;cr' + '&#46;' + '&#111;rg';
				var addy_textcaec7bf4e71ee3785f9afa1820a5f875 = 's&#101;c-w&#101;st' + '&#64;' + 'sc&#97;cr' + '&#46;' + '&#111;rg';document.getElementById('cloakcaec7bf4e71ee3785f9afa1820a5f875').innerHTML += '<a ' + path + '\'' + prefix + ':' + addycaec7bf4e71ee3785f9afa1820a5f875 + '\'>'+addy_textcaec7bf4e71ee3785f9afa1820a5f875+'';
		
DTSTAMP:20260423T065912
DTSTART;TZID=Europe/London;VALUE=DATE:20240629
DTEND;TZID=Europe/London;VALUE=DATE:20240630
SEQUENCE:0
TRANSP:OPAQUE
END:VEVENT
END:VCALENDAR