BEGIN:VCALENDAR
VERSION:2.0
PRODID:-//jEvents 2.0 for Joomla//EN
CALSCALE:GREGORIAN
METHOD:PUBLISH
BEGIN:VTIMEZONE
TZID:Europe/London
BEGIN:STANDARD
DTSTART:20231029T010000
RDATE:20240331T020000
TZOFFSETFROM:+0100
TZOFFSETTO:+0000
TZNAME:Europe/London GMT
END:STANDARD
BEGIN:STANDARD
DTSTART:20241027T010000
RDATE:20250330T020000
TZOFFSETFROM:+0100
TZOFFSETTO:+0000
TZNAME:Europe/London GMT
END:STANDARD
BEGIN:STANDARD
DTSTART:20251026T010000
RDATE:20260329T020000
TZOFFSETFROM:+0100
TZOFFSETTO:+0000
TZNAME:Europe/London GMT
END:STANDARD
BEGIN:STANDARD
DTSTART:20261025T010000
RDATE:20270328T020000
TZOFFSETFROM:+0100
TZOFFSETTO:+0000
TZNAME:Europe/London GMT
END:STANDARD
BEGIN:STANDARD
DTSTART:20271031T010000
RDATE:20280326T020000
TZOFFSETFROM:+0100
TZOFFSETTO:+0000
TZNAME:Europe/London GMT
END:STANDARD
BEGIN:STANDARD
DTSTART:20281029T010000
RDATE:20290325T020000
TZOFFSETFROM:+0100
TZOFFSETTO:+0000
TZNAME:Europe/London GMT
END:STANDARD
BEGIN:STANDARD
DTSTART:20291028T010000
RDATE:20300331T020000
TZOFFSETFROM:+0100
TZOFFSETTO:+0000
TZNAME:Europe/London GMT
END:STANDARD
BEGIN:STANDARD
DTSTART:20301027T010000
RDATE:20310330T020000
TZOFFSETFROM:+0100
TZOFFSETTO:+0000
TZNAME:Europe/London GMT
END:STANDARD
BEGIN:DAYLIGHT
DTSTART:20230420T140000
RDATE:20231029T010000
TZOFFSETFROM:+0000
TZOFFSETTO:+0100
TZNAME:Europe/London BST
END:DAYLIGHT
BEGIN:DAYLIGHT
DTSTART:20240331T020000
RDATE:20241027T010000
TZOFFSETFROM:+0000
TZOFFSETTO:+0100
TZNAME:Europe/London BST
END:DAYLIGHT
BEGIN:DAYLIGHT
DTSTART:20250330T020000
RDATE:20251026T010000
TZOFFSETFROM:+0000
TZOFFSETTO:+0100
TZNAME:Europe/London BST
END:DAYLIGHT
BEGIN:DAYLIGHT
DTSTART:20260329T020000
RDATE:20261025T010000
TZOFFSETFROM:+0000
TZOFFSETTO:+0100
TZNAME:Europe/London BST
END:DAYLIGHT
BEGIN:DAYLIGHT
DTSTART:20270328T020000
RDATE:20271031T010000
TZOFFSETFROM:+0000
TZOFFSETTO:+0100
TZNAME:Europe/London BST
END:DAYLIGHT
BEGIN:DAYLIGHT
DTSTART:20280326T020000
RDATE:20281029T010000
TZOFFSETFROM:+0000
TZOFFSETTO:+0100
TZNAME:Europe/London BST
END:DAYLIGHT
BEGIN:DAYLIGHT
DTSTART:20290325T020000
RDATE:20291028T010000
TZOFFSETFROM:+0000
TZOFFSETTO:+0100
TZNAME:Europe/London BST
END:DAYLIGHT
BEGIN:DAYLIGHT
DTSTART:20300331T020000
RDATE:20301027T010000
TZOFFSETFROM:+0000
TZOFFSETTO:+0100
TZNAME:Europe/London BST
END:DAYLIGHT
END:VTIMEZONE
BEGIN:VEVENT
UID:eaf0166d0cd68bf5b0111c6f53d578a2
CATEGORIES:South
CREATED:20240302T124550
SUMMARY:General Ringing at Piddinghoe and Rodmell
LOCATION:Piddinghoe and Rodmell
URL;VALUE=URI:https://www.scacr.org/news-events/calendar/1253/general-ringing-at-piddingh
 oe-and-rodmell?tmpl=component
DESCRIPTION:You’re invited to the Southern District practice at Piddinghoe and Rodmell.
  The afternoon will be a general practice including rounds, call changes, P
 lain Hunt, Plain Bob and Grandsire and if possible more advanced methods. N
 ovice/learners are welcome particularly if you attend with your tutor.\n2.0
 0-3.00pm Piddinghoe\n3.30-4.30 Rodmell\nBoth towers have ground floor rings
  of six bells. Parking is accessible in the nearby surface level car parks.
   The church’s do not have toilet facilities. \nPlease come along and if po
 ssible let Richard Neal, Southern District Secretary (mailto: (mailto:sec-s
 outh@scacr.org)This email address is being protected from spambots. You nee
 d JavaScript enabled to view it.
				document.getElementById('cloak69798518
 e9936e04f66fac1323d4c85a').innerHTML = '';
				var prefix = '&#109;a' + 'i&
 #108;' + '&#116;o';
				var path = 'hr' + 'ef' + '=';
				var addy69798518e
 9936e04f66fac1323d4c85a = 's&#101;c-s&#111;&#117;th' + '&#64;';
				addy697
 98518e9936e04f66fac1323d4c85a = addy69798518e9936e04f66fac1323d4c85a + 'sc&
 #97;cr' + '&#46;' + '&#111;rg';
				var addy_text69798518e9936e04f66fac1323
 d4c85a = 's&#101;c-s&#111;&#117;th' + '&#64;' + 'sc&#97;cr' + '&#46;' + '&#
 111;rg';document.getElementById('cloak69798518e9936e04f66fac1323d4c85a').in
 nerHTML += '<a ' + path + '\'' + prefix + ':' + addy69798518e9936e04f66fac1
 323d4c85a + '\'>'+addy_text69798518e9936e04f66fac1323d4c85a+'';
		) know yo
 u will be attending.  \nThank you.\nRichard Neal ( (mailto:sec-south@scacr.
 org) (mailto:sec-south@scacr.org)This email address is being protected from
  spambots. You need JavaScript enabled to view it.
				document.getElementB
 yId('cloakc733bb1dff96c235ca2068379d6e356d').innerHTML = '';
				var prefix
  = '&#109;a' + 'i&#108;' + '&#116;o';
				var path = 'hr' + 'ef' + '=';
			
 	var addyc733bb1dff96c235ca2068379d6e356d = 's&#101;c-s&#111;&#117;th' + '&
 #64;';
				addyc733bb1dff96c235ca2068379d6e356d = addyc733bb1dff96c235ca206
 8379d6e356d + 'sc&#97;cr' + '&#46;' + '&#111;rg';
				var addy_textc733bb1d
 ff96c235ca2068379d6e356d = 's&#101;c-s&#111;&#117;th' + '&#64;' + 'sc&#97;c
 r' + '&#46;' + '&#111;rg';document.getElementById('cloakc733bb1dff96c235ca2
 068379d6e356d').innerHTML += '<a ' + path + '\'' + prefix + ':' + addyc733b
 b1dff96c235ca2068379d6e356d + '\'>'+addy_textc733bb1dff96c235ca2068379d6e35
 6d+'';
		)\n Southern District Secretary\n This event was imported from: ht
 tps://www.scacr.org/news-events/calendar/1253/general-ringing-at-piddinghoe
 -and-rodmell?tmpl=component (https://www.scacr.org/news-events/calendar/125
 3/general-ringing-at-piddinghoe-and-rodmell?tmpl=component)
X-ALT-DESC;FMTTYPE=text/html:<p><em>You’re invited to the Southern District practice at Piddinghoe and R
 odmell. The afternoon will be a general practice including rounds, call cha
 nges, Plain Hunt, Plain Bob and Grandsire and if possible more advanced met
 hods. Novice/learners are welcome particularly if you attend with your tuto
 r.</em></p><p><em>2.00-3.00pm Piddinghoe</em></p><p><em>3.30-4.30 Rodmell</
 em></p><p><em>Both towers have ground floor rings of six bells. Parking is 
 accessible in the nearby surface level car parks.&nbsp; The church’s do not
  have toilet facilities. </em></p><p><em>Please come along and if possible 
 let Richard Neal, Southern District Secretary (mailto:<a href="mailto:sec-s
 outh@scacr.org"></a><span id="cloak69798518e9936e04f66fac1323d4c85a">This e
 mail address is being protected from spambots. You need JavaScript enabled 
 to view it.</span><script type='text/javascript'>
				document.getElementBy
 Id('cloak69798518e9936e04f66fac1323d4c85a').innerHTML = '';
				var prefix 
 = '&#109;a' + 'i&#108;' + '&#116;o';
				var path = 'hr' + 'ef' + '=';
				
 var addy69798518e9936e04f66fac1323d4c85a = 's&#101;c-s&#111;&#117;th' + '&#
 64;';
				addy69798518e9936e04f66fac1323d4c85a = addy69798518e9936e04f66fac
 1323d4c85a + 'sc&#97;cr' + '&#46;' + '&#111;rg';
				var addy_text69798518e
 9936e04f66fac1323d4c85a = 's&#101;c-s&#111;&#117;th' + '&#64;' + 'sc&#97;cr
 ' + '&#46;' + '&#111;rg';document.getElementById('cloak69798518e9936e04f66f
 ac1323d4c85a').innerHTML += '<a ' + path + '\'' + prefix + ':' + addy697985
 18e9936e04f66fac1323d4c85a + '\'>'+addy_text69798518e9936e04f66fac1323d4c85
 a+'<\/a>';
		</script>) know you will be attending.&nbsp; </em></p><p><em>T
 hank you.</em></p><p><em>Richard Neal (</em><a href="mailto:sec-south@scacr
 .org"><em></em></a><strong><em><a href="mailto:sec-south@scacr.org"></a><sp
 an id="cloakc733bb1dff96c235ca2068379d6e356d">This email address is being p
 rotected from spambots. You need JavaScript enabled to view it.</span><scri
 pt type='text/javascript'>
				document.getElementById('cloakc733bb1dff96c2
 35ca2068379d6e356d').innerHTML = '';
				var prefix = '&#109;a' + 'i&#108;'
  + '&#116;o';
				var path = 'hr' + 'ef' + '=';
				var addyc733bb1dff96c23
 5ca2068379d6e356d = 's&#101;c-s&#111;&#117;th' + '&#64;';
				addyc733bb1df
 f96c235ca2068379d6e356d = addyc733bb1dff96c235ca2068379d6e356d + 'sc&#97;cr
 ' + '&#46;' + '&#111;rg';
				var addy_textc733bb1dff96c235ca2068379d6e356d
  = 's&#101;c-s&#111;&#117;th' + '&#64;' + 'sc&#97;cr' + '&#46;' + '&#111;rg
 ';document.getElementById('cloakc733bb1dff96c235ca2068379d6e356d').innerHTM
 L += '<a ' + path + '\'' + prefix + ':' + addyc733bb1dff96c235ca2068379d6e3
 56d + '\'>'+addy_textc733bb1dff96c235ca2068379d6e356d+'<\/a>';
		</script><
 /em></strong><em>)<br /> Southern District Secretary</em></p> <a href="http
 s://www.scacr.org/news-events/calendar/1253/general-ringing-at-piddinghoe-a
 nd-rodmell?tmpl=component">This event was imported from: https://www.scacr.
 org/news-events/calendar/1253/general-ringing-at-piddinghoe-and-rodmell?tmp
 l=component</a>CONTACT:Richard Neal (This email address is being protected from spambots. You need JavaScript enabled to view it.
				document.getElementById('cloak9aa89cb7d0d3404d70f1027f6371a15f').innerHTML = '';
				var prefix = '&#109;a' + 'i&#108;' + '&#116;o';
				var path = 'hr' + 'ef' + '=';
				var addy9aa89cb7d0d3404d70f1027f6371a15f = 's&#101;c-s&#111;&#117;th' + '&#64;';
				addy9aa89cb7d0d3404d70f1027f6371a15f = addy9aa89cb7d0d3404d70f1027f6371a15f + 'sc&#97;cr' + '&#46;' + '&#111;rg';
				var addy_text9aa89cb7d0d3404d70f1027f6371a15f = 's&#101;c-s&#111;&#117;th' + '&#64;' + 'sc&#97;cr' + '&#46;' + '&#111;rg';document.getElementById('cloak9aa89cb7d0d3404d70f1027f6371a15f').innerHTML += '<a ' + path + '\'' + prefix + ':' + addy9aa89cb7d0d3404d70f1027f6371a15f + '\'>'+addy_text9aa89cb7d0d3404d70f1027f6371a15f+'';
		)
DTSTAMP:20260422T173954
DTSTART;TZID=Europe/London:20240420T140000
DTEND;TZID=Europe/London:20240420T163000
SEQUENCE:0
TRANSP:OPAQUE
END:VEVENT
END:VCALENDAR