BEGIN:VCALENDAR
VERSION:2.0
PRODID:-//jEvents 2.0 for Joomla//EN
CALSCALE:GREGORIAN
METHOD:PUBLISH
BEGIN:VTIMEZONE
TZID:Europe/London
BEGIN:STANDARD
DTSTART:20230215T193000
RDATE:20230326T020000
TZOFFSETFROM:+0100
TZOFFSETTO:+0000
TZNAME:Europe/London GMT
END:STANDARD
BEGIN:STANDARD
DTSTART:20231029T010000
RDATE:20240331T020000
TZOFFSETFROM:+0100
TZOFFSETTO:+0000
TZNAME:Europe/London GMT
END:STANDARD
BEGIN:STANDARD
DTSTART:20241027T010000
RDATE:20250330T020000
TZOFFSETFROM:+0100
TZOFFSETTO:+0000
TZNAME:Europe/London GMT
END:STANDARD
BEGIN:STANDARD
DTSTART:20251026T010000
RDATE:20260329T020000
TZOFFSETFROM:+0100
TZOFFSETTO:+0000
TZNAME:Europe/London GMT
END:STANDARD
BEGIN:STANDARD
DTSTART:20261025T010000
RDATE:20270328T020000
TZOFFSETFROM:+0100
TZOFFSETTO:+0000
TZNAME:Europe/London GMT
END:STANDARD
BEGIN:STANDARD
DTSTART:20271031T010000
RDATE:20280326T020000
TZOFFSETFROM:+0100
TZOFFSETTO:+0000
TZNAME:Europe/London GMT
END:STANDARD
BEGIN:STANDARD
DTSTART:20281029T010000
RDATE:20290325T020000
TZOFFSETFROM:+0100
TZOFFSETTO:+0000
TZNAME:Europe/London GMT
END:STANDARD
BEGIN:STANDARD
DTSTART:20291028T010000
RDATE:20300331T020000
TZOFFSETFROM:+0100
TZOFFSETTO:+0000
TZNAME:Europe/London GMT
END:STANDARD
BEGIN:STANDARD
DTSTART:20301027T010000
RDATE:20310330T020000
TZOFFSETFROM:+0100
TZOFFSETTO:+0000
TZNAME:Europe/London GMT
END:STANDARD
BEGIN:DAYLIGHT
DTSTART:20230326T020000
RDATE:20231029T010000
TZOFFSETFROM:+0000
TZOFFSETTO:+0100
TZNAME:Europe/London BST
END:DAYLIGHT
BEGIN:DAYLIGHT
DTSTART:20240331T020000
RDATE:20241027T010000
TZOFFSETFROM:+0000
TZOFFSETTO:+0100
TZNAME:Europe/London BST
END:DAYLIGHT
BEGIN:DAYLIGHT
DTSTART:20250330T020000
RDATE:20251026T010000
TZOFFSETFROM:+0000
TZOFFSETTO:+0100
TZNAME:Europe/London BST
END:DAYLIGHT
BEGIN:DAYLIGHT
DTSTART:20260329T020000
RDATE:20261025T010000
TZOFFSETFROM:+0000
TZOFFSETTO:+0100
TZNAME:Europe/London BST
END:DAYLIGHT
BEGIN:DAYLIGHT
DTSTART:20270328T020000
RDATE:20271031T010000
TZOFFSETFROM:+0000
TZOFFSETTO:+0100
TZNAME:Europe/London BST
END:DAYLIGHT
BEGIN:DAYLIGHT
DTSTART:20280326T020000
RDATE:20281029T010000
TZOFFSETFROM:+0000
TZOFFSETTO:+0100
TZNAME:Europe/London BST
END:DAYLIGHT
BEGIN:DAYLIGHT
DTSTART:20290325T020000
RDATE:20291028T010000
TZOFFSETFROM:+0000
TZOFFSETTO:+0100
TZNAME:Europe/London BST
END:DAYLIGHT
BEGIN:DAYLIGHT
DTSTART:20300331T020000
RDATE:20301027T010000
TZOFFSETFROM:+0000
TZOFFSETTO:+0100
TZNAME:Europe/London BST
END:DAYLIGHT
END:VTIMEZONE
BEGIN:VEVENT
UID:24a7e9cad8f7d10b7bd1bee6dbca9a78
CATEGORIES:East
CREATED:20240105T131526
SUMMARY:Doubles Practice for All
LOCATION:Westham
URL;VALUE=URI:https://www.scacr.org/news-events/calendar/1223/doubles-practice-for-all?tm
 pl=component
DESCRIPTION:<p><strong style="color: #000000;">Doubles Practice at Westham near Eastbou
 rne.</strong></p><p>Join us for the monthly mid-week practice on this 10cwt
  ring of 6 for those learning Plain Hunt and learning to treble on Plain Bo
 b/Grandsire, through to short touches of doubles methods to suit the repert
 oire of those attending.</p><ul><li>First steps from Rounds to Plain Hunt</
 li><li>Learn to "Plain Hunt" the treble to methods</li><li>Take your plain 
 course of Bob Doubles or Grandsire to a touch</li><li>Try a new method*</li
 ></ul><p>Experienced helpers to fill in and "stand-behind" are essential to
  the ringing development of learners and of course are always welcome - you
  might even be able to sneak some minor in at the end!</p><p>Refreshments s
 erved.&nbsp;☕️</p><p>Due to the Ash Wednesday "Quiet Communion" in the chur
 ch, this event cannot take place on the usual 2nd Wednesday so will happen 
 on Friday 16th February.</p><p>(please don't enter the ringing room before 
 7:30pm as there is a beginners' handling session before)<br /><br /><em>*Re
 cent events have included Plain Hunt, Plain Bob, St Simon's, Grandsire and 
 Stedman too</em></p> <a href="https://www.scacr.org/news-events/calendar/12
 23/doubles-practice-for-all?tmpl=component">This event was imported from: h
 ttps://www.scacr.org/news-events/calendar/1223/doubles-practice-for-all?tmp
 l=component</a>CONTACT:This email address is being protected from spambots. You need JavaScript enabled to view it.
				document.getElementById('cloak357b1a43f7ff5055e5a2064d5289f4c1').innerHTML = '';
				var prefix = '&#109;a' + 'i&#108;' + '&#116;o';
				var path = 'hr' + 'ef' + '=';
				var addy357b1a43f7ff5055e5a2064d5289f4c1 = 's&#101;c-&#101;&#97;st' + '&#64;';
				addy357b1a43f7ff5055e5a2064d5289f4c1 = addy357b1a43f7ff5055e5a2064d5289f4c1 + 'sc&#97;cr' + '&#46;' + '&#111;rg';
				var addy_text357b1a43f7ff5055e5a2064d5289f4c1 = 's&#101;c-&#101;&#97;st' + '&#64;' + 'sc&#97;cr' + '&#46;' + '&#111;rg';document.getElementById('cloak357b1a43f7ff5055e5a2064d5289f4c1').innerHTML += '<a ' + path + '\'' + prefix + ':' + addy357b1a43f7ff5055e5a2064d5289f4c1 + '\'>'+addy_text357b1a43f7ff5055e5a2064d5289f4c1+'';
		
DTSTAMP:20260421T173602
DTSTART;TZID=Europe/London:20240216T193000
DTEND;TZID=Europe/London:20240216T210000
SEQUENCE:0
TRANSP:OPAQUE
END:VEVENT
END:VCALENDAR