BEGIN:VCALENDAR
VERSION:2.0
PRODID:-//jEvents 2.0 for Joomla//EN
CALSCALE:GREGORIAN
METHOD:PUBLISH
BEGIN:VTIMEZONE
TZID:Europe/London
BEGIN:STANDARD
DTSTART:20230316T140000
RDATE:20230326T020000
TZOFFSETFROM:+0100
TZOFFSETTO:+0000
TZNAME:Europe/London GMT
END:STANDARD
BEGIN:STANDARD
DTSTART:20231029T010000
RDATE:20240331T020000
TZOFFSETFROM:+0100
TZOFFSETTO:+0000
TZNAME:Europe/London GMT
END:STANDARD
BEGIN:STANDARD
DTSTART:20241027T010000
RDATE:20250330T020000
TZOFFSETFROM:+0100
TZOFFSETTO:+0000
TZNAME:Europe/London GMT
END:STANDARD
BEGIN:STANDARD
DTSTART:20251026T010000
RDATE:20260329T020000
TZOFFSETFROM:+0100
TZOFFSETTO:+0000
TZNAME:Europe/London GMT
END:STANDARD
BEGIN:STANDARD
DTSTART:20261025T010000
RDATE:20270328T020000
TZOFFSETFROM:+0100
TZOFFSETTO:+0000
TZNAME:Europe/London GMT
END:STANDARD
BEGIN:STANDARD
DTSTART:20271031T010000
RDATE:20280326T020000
TZOFFSETFROM:+0100
TZOFFSETTO:+0000
TZNAME:Europe/London GMT
END:STANDARD
BEGIN:STANDARD
DTSTART:20281029T010000
RDATE:20290325T020000
TZOFFSETFROM:+0100
TZOFFSETTO:+0000
TZNAME:Europe/London GMT
END:STANDARD
BEGIN:STANDARD
DTSTART:20291028T010000
RDATE:20300331T020000
TZOFFSETFROM:+0100
TZOFFSETTO:+0000
TZNAME:Europe/London GMT
END:STANDARD
BEGIN:STANDARD
DTSTART:20301027T010000
RDATE:20310330T020000
TZOFFSETFROM:+0100
TZOFFSETTO:+0000
TZNAME:Europe/London GMT
END:STANDARD
BEGIN:DAYLIGHT
DTSTART:20230326T020000
RDATE:20231029T010000
TZOFFSETFROM:+0000
TZOFFSETTO:+0100
TZNAME:Europe/London BST
END:DAYLIGHT
BEGIN:DAYLIGHT
DTSTART:20240331T020000
RDATE:20241027T010000
TZOFFSETFROM:+0000
TZOFFSETTO:+0100
TZNAME:Europe/London BST
END:DAYLIGHT
BEGIN:DAYLIGHT
DTSTART:20250330T020000
RDATE:20251026T010000
TZOFFSETFROM:+0000
TZOFFSETTO:+0100
TZNAME:Europe/London BST
END:DAYLIGHT
BEGIN:DAYLIGHT
DTSTART:20260329T020000
RDATE:20261025T010000
TZOFFSETFROM:+0000
TZOFFSETTO:+0100
TZNAME:Europe/London BST
END:DAYLIGHT
BEGIN:DAYLIGHT
DTSTART:20270328T020000
RDATE:20271031T010000
TZOFFSETFROM:+0000
TZOFFSETTO:+0100
TZNAME:Europe/London BST
END:DAYLIGHT
BEGIN:DAYLIGHT
DTSTART:20280326T020000
RDATE:20281029T010000
TZOFFSETFROM:+0000
TZOFFSETTO:+0100
TZNAME:Europe/London BST
END:DAYLIGHT
BEGIN:DAYLIGHT
DTSTART:20290325T020000
RDATE:20291028T010000
TZOFFSETFROM:+0000
TZOFFSETTO:+0100
TZNAME:Europe/London BST
END:DAYLIGHT
BEGIN:DAYLIGHT
DTSTART:20300331T020000
RDATE:20301027T010000
TZOFFSETFROM:+0000
TZOFFSETTO:+0100
TZNAME:Europe/London BST
END:DAYLIGHT
END:VTIMEZONE
BEGIN:VEVENT
UID:094555d76fd8ede89434c057f2f522f5
CATEGORIES:South
CREATED:20240103T151533
SUMMARY:Shoreham 8 Bell Practice
LOCATION:Shoreham-by-Sea
URL;VALUE=URI:https://www.scacr.org/news-events/calendar/1221/shoreham-8-bell-practice?tm
 pl=component
DESCRIPTION:A chance to enjoy this easy going ring of 8 bells.  The practice will be fo
 cused on basic 8 bell ringing from rounds and call changes to Grandsire Tri
 ples. \nMost of you will know that Shoreham has quite a large ringing room 
 accessed up a stone spiral staircase.  The church is located near the centr
 e of Shoreham with shopper car parks nearby.\n This event was imported from
 : https://www.scacr.org/news-events/calendar/1221/shoreham-8-bell-practice?
 tmpl=component (https://www.scacr.org/news-events/calendar/1221/shoreham-8-
 bell-practice?tmpl=component)
X-ALT-DESC;FMTTYPE=text/html:<p>A chance to enjoy this easy going ring of 8 bells.&nbsp; The practice wi
 ll be focused on basic 8 bell ringing from rounds and call changes to Grand
 sire Triples.&nbsp;</p><p>Most of you will know that Shoreham has quite a l
 arge ringing room accessed up a stone spiral staircase.&nbsp; The church is
  located near the centre of Shoreham with shopper car parks nearby.</p> <a 
 href="https://www.scacr.org/news-events/calendar/1221/shoreham-8-bell-pract
 ice?tmpl=component">This event was imported from: https://www.scacr.org/new
 s-events/calendar/1221/shoreham-8-bell-practice?tmpl=component</a>CONTACT:Richard Neal (District Secretary)  This email address is being protected from spambots. You need JavaScript enabled to view it.
				document.getElementById('cloak38c6cbb5e85bff797acfddcab0f585d2').innerHTML = '';
				var prefix = '&#109;a' + 'i&#108;' + '&#116;o';
				var path = 'hr' + 'ef' + '=';
				var addy38c6cbb5e85bff797acfddcab0f585d2 = 's&#101;c-s&#111;&#117;th' + '&#64;';
				addy38c6cbb5e85bff797acfddcab0f585d2 = addy38c6cbb5e85bff797acfddcab0f585d2 + 'sc&#97;cr' + '&#46;' + '&#111;rg';
				var addy_text38c6cbb5e85bff797acfddcab0f585d2 = 's&#101;c-s&#111;&#117;th' + '&#64;' + 'sc&#97;cr' + '&#46;' + '&#111;rg';document.getElementById('cloak38c6cbb5e85bff797acfddcab0f585d2').innerHTML += '<a ' + path + '\'' + prefix + ':' + addy38c6cbb5e85bff797acfddcab0f585d2 + '\'>'+addy_text38c6cbb5e85bff797acfddcab0f585d2+'';
		
DTSTAMP:20260422T112851
DTSTART;TZID=Europe/London:20240316T140000
DTEND;TZID=Europe/London:20240316T160000
SEQUENCE:0
TRANSP:OPAQUE
END:VEVENT
END:VCALENDAR