BEGIN:VCALENDAR
VERSION:2.0
PRODID:-//jEvents 2.0 for Joomla//EN
CALSCALE:GREGORIAN
METHOD:PUBLISH
BEGIN:VTIMEZONE
TZID:Europe/London
BEGIN:STANDARD
DTSTART:20230223T101500
RDATE:20230326T020000
TZOFFSETFROM:+0100
TZOFFSETTO:+0000
TZNAME:Europe/London GMT
END:STANDARD
BEGIN:STANDARD
DTSTART:20231029T010000
RDATE:20240331T020000
TZOFFSETFROM:+0100
TZOFFSETTO:+0000
TZNAME:Europe/London GMT
END:STANDARD
BEGIN:STANDARD
DTSTART:20241027T010000
RDATE:20250330T020000
TZOFFSETFROM:+0100
TZOFFSETTO:+0000
TZNAME:Europe/London GMT
END:STANDARD
BEGIN:STANDARD
DTSTART:20251026T010000
RDATE:20260329T020000
TZOFFSETFROM:+0100
TZOFFSETTO:+0000
TZNAME:Europe/London GMT
END:STANDARD
BEGIN:STANDARD
DTSTART:20261025T010000
RDATE:20270328T020000
TZOFFSETFROM:+0100
TZOFFSETTO:+0000
TZNAME:Europe/London GMT
END:STANDARD
BEGIN:STANDARD
DTSTART:20271031T010000
RDATE:20280326T020000
TZOFFSETFROM:+0100
TZOFFSETTO:+0000
TZNAME:Europe/London GMT
END:STANDARD
BEGIN:STANDARD
DTSTART:20281029T010000
RDATE:20290325T020000
TZOFFSETFROM:+0100
TZOFFSETTO:+0000
TZNAME:Europe/London GMT
END:STANDARD
BEGIN:STANDARD
DTSTART:20291028T010000
RDATE:20300331T020000
TZOFFSETFROM:+0100
TZOFFSETTO:+0000
TZNAME:Europe/London GMT
END:STANDARD
BEGIN:STANDARD
DTSTART:20301027T010000
RDATE:20310330T020000
TZOFFSETFROM:+0100
TZOFFSETTO:+0000
TZNAME:Europe/London GMT
END:STANDARD
BEGIN:DAYLIGHT
DTSTART:20230326T020000
RDATE:20231029T010000
TZOFFSETFROM:+0000
TZOFFSETTO:+0100
TZNAME:Europe/London BST
END:DAYLIGHT
BEGIN:DAYLIGHT
DTSTART:20240331T020000
RDATE:20241027T010000
TZOFFSETFROM:+0000
TZOFFSETTO:+0100
TZNAME:Europe/London BST
END:DAYLIGHT
BEGIN:DAYLIGHT
DTSTART:20250330T020000
RDATE:20251026T010000
TZOFFSETFROM:+0000
TZOFFSETTO:+0100
TZNAME:Europe/London BST
END:DAYLIGHT
BEGIN:DAYLIGHT
DTSTART:20260329T020000
RDATE:20261025T010000
TZOFFSETFROM:+0000
TZOFFSETTO:+0100
TZNAME:Europe/London BST
END:DAYLIGHT
BEGIN:DAYLIGHT
DTSTART:20270328T020000
RDATE:20271031T010000
TZOFFSETFROM:+0000
TZOFFSETTO:+0100
TZNAME:Europe/London BST
END:DAYLIGHT
BEGIN:DAYLIGHT
DTSTART:20280326T020000
RDATE:20281029T010000
TZOFFSETFROM:+0000
TZOFFSETTO:+0100
TZNAME:Europe/London BST
END:DAYLIGHT
BEGIN:DAYLIGHT
DTSTART:20290325T020000
RDATE:20291028T010000
TZOFFSETFROM:+0000
TZOFFSETTO:+0100
TZNAME:Europe/London BST
END:DAYLIGHT
BEGIN:DAYLIGHT
DTSTART:20300331T020000
RDATE:20301027T010000
TZOFFSETFROM:+0000
TZOFFSETTO:+0100
TZNAME:Europe/London BST
END:DAYLIGHT
END:VTIMEZONE
BEGIN:VEVENT
UID:e7787bbc1265fa8aea15fd7e5740441d
CATEGORIES:West
CREATED:20231207T160427
SUMMARY:Surprise Minor Practice
LOCATION:St Mary's Church\, Walberton
URL;VALUE=URI:https://www.scacr.org/news-events/calendar/1210/surprise-minor-practice?tmp
 l=component
DESCRIPTION:<p></p><p>This is a regular monthly event giving ringers the opportunity to
  ring&nbsp; methods such as Plain courses and touches of Cambridge and Norw
 ich and Plain courses of Beverley, London, Carlisle and Pure Treble Bob Hun
 t!!&nbsp; &nbsp;Refreshments are provided.&nbsp; Please contact <span id="c
 loakb7281f3eda7ac8c29f72de2e022a81e2">This email address is being protected
  from spambots. You need JavaScript enabled to view it.</span><script type=
 'text/javascript'>
				document.getElementById('cloakb7281f3eda7ac8c29f72de
 2e022a81e2').innerHTML = '';
				var prefix = '&#109;a' + 'i&#108;' + '&#11
 6;o';
				var path = 'hr' + 'ef' + '=';
				var addyb7281f3eda7ac8c29f72de2
 e022a81e2 = 's&#101;c-w&#101;st' + '&#64;';
				addyb7281f3eda7ac8c29f72de2
 e022a81e2 = addyb7281f3eda7ac8c29f72de2e022a81e2 + 'sc&#97;cr' + '&#46;' + 
 '&#111;rg';
				var addy_textb7281f3eda7ac8c29f72de2e022a81e2 = 's&#101;c-w
 &#101;st' + '&#64;' + 'sc&#97;cr' + '&#46;' + '&#111;rg';document.getElemen
 tById('cloakb7281f3eda7ac8c29f72de2e022a81e2').innerHTML += '<a ' + path + 
 '\'' + prefix + ':' + addyb7281f3eda7ac8c29f72de2e022a81e2 + '\'>'+addy_tex
 tb7281f3eda7ac8c29f72de2e022a81e2+'<\/a>';
		</script>&nbsp;if you would li
 ke refreshments.</p><p>The 'method of the month'&nbsp; is yet to be announc
 ed - watch this space!!</p> <a href="https://www.scacr.org/news-events/cale
 ndar/1210/surprise-minor-practice?tmpl=component">This event was imported f
 rom: https://www.scacr.org/news-events/calendar/1210/surprise-minor-practic
 e?tmpl=component</a>CONTACT:This email address is being protected from spambots. You need JavaScript enabled to view it.
				document.getElementById('cloak3ab864cc5b2217dc0597c52b7fef97c3').innerHTML = '';
				var prefix = '&#109;a' + 'i&#108;' + '&#116;o';
				var path = 'hr' + 'ef' + '=';
				var addy3ab864cc5b2217dc0597c52b7fef97c3 = 's&#101;c-w&#101;st' + '&#64;';
				addy3ab864cc5b2217dc0597c52b7fef97c3 = addy3ab864cc5b2217dc0597c52b7fef97c3 + 'sc&#97;cr' + '&#46;' + '&#111;rg';
				var addy_text3ab864cc5b2217dc0597c52b7fef97c3 = 's&#101;c-w&#101;st' + '&#64;' + 'sc&#97;cr' + '&#46;' + '&#111;rg';document.getElementById('cloak3ab864cc5b2217dc0597c52b7fef97c3').innerHTML += '<a ' + path + '\'' + prefix + ':' + addy3ab864cc5b2217dc0597c52b7fef97c3 + '\'>'+addy_text3ab864cc5b2217dc0597c52b7fef97c3+'';
		
DTSTAMP:20260422T033720
DTSTART;TZID=Europe/London:20240224T101500
DTEND;TZID=Europe/London:20240224T120000
SEQUENCE:0
TRANSP:OPAQUE
END:VEVENT
END:VCALENDAR