BEGIN:VCALENDAR
VERSION:2.0
PRODID:-//jEvents 2.0 for Joomla//EN
CALSCALE:GREGORIAN
METHOD:PUBLISH
BEGIN:VTIMEZONE
TZID:Europe/London
BEGIN:STANDARD
DTSTART:20230126T101500
RDATE:20230326T020000
TZOFFSETFROM:+0100
TZOFFSETTO:+0000
TZNAME:Europe/London GMT
END:STANDARD
BEGIN:STANDARD
DTSTART:20231029T010000
RDATE:20240331T020000
TZOFFSETFROM:+0100
TZOFFSETTO:+0000
TZNAME:Europe/London GMT
END:STANDARD
BEGIN:STANDARD
DTSTART:20241027T010000
RDATE:20250330T020000
TZOFFSETFROM:+0100
TZOFFSETTO:+0000
TZNAME:Europe/London GMT
END:STANDARD
BEGIN:STANDARD
DTSTART:20251026T010000
RDATE:20260329T020000
TZOFFSETFROM:+0100
TZOFFSETTO:+0000
TZNAME:Europe/London GMT
END:STANDARD
BEGIN:STANDARD
DTSTART:20261025T010000
RDATE:20270328T020000
TZOFFSETFROM:+0100
TZOFFSETTO:+0000
TZNAME:Europe/London GMT
END:STANDARD
BEGIN:STANDARD
DTSTART:20271031T010000
RDATE:20280326T020000
TZOFFSETFROM:+0100
TZOFFSETTO:+0000
TZNAME:Europe/London GMT
END:STANDARD
BEGIN:STANDARD
DTSTART:20281029T010000
RDATE:20290325T020000
TZOFFSETFROM:+0100
TZOFFSETTO:+0000
TZNAME:Europe/London GMT
END:STANDARD
BEGIN:STANDARD
DTSTART:20291028T010000
RDATE:20300331T020000
TZOFFSETFROM:+0100
TZOFFSETTO:+0000
TZNAME:Europe/London GMT
END:STANDARD
BEGIN:STANDARD
DTSTART:20301027T010000
RDATE:20310330T020000
TZOFFSETFROM:+0100
TZOFFSETTO:+0000
TZNAME:Europe/London GMT
END:STANDARD
BEGIN:DAYLIGHT
DTSTART:20230326T020000
RDATE:20231029T010000
TZOFFSETFROM:+0000
TZOFFSETTO:+0100
TZNAME:Europe/London BST
END:DAYLIGHT
BEGIN:DAYLIGHT
DTSTART:20240331T020000
RDATE:20241027T010000
TZOFFSETFROM:+0000
TZOFFSETTO:+0100
TZNAME:Europe/London BST
END:DAYLIGHT
BEGIN:DAYLIGHT
DTSTART:20250330T020000
RDATE:20251026T010000
TZOFFSETFROM:+0000
TZOFFSETTO:+0100
TZNAME:Europe/London BST
END:DAYLIGHT
BEGIN:DAYLIGHT
DTSTART:20260329T020000
RDATE:20261025T010000
TZOFFSETFROM:+0000
TZOFFSETTO:+0100
TZNAME:Europe/London BST
END:DAYLIGHT
BEGIN:DAYLIGHT
DTSTART:20270328T020000
RDATE:20271031T010000
TZOFFSETFROM:+0000
TZOFFSETTO:+0100
TZNAME:Europe/London BST
END:DAYLIGHT
BEGIN:DAYLIGHT
DTSTART:20280326T020000
RDATE:20281029T010000
TZOFFSETFROM:+0000
TZOFFSETTO:+0100
TZNAME:Europe/London BST
END:DAYLIGHT
BEGIN:DAYLIGHT
DTSTART:20290325T020000
RDATE:20291028T010000
TZOFFSETFROM:+0000
TZOFFSETTO:+0100
TZNAME:Europe/London BST
END:DAYLIGHT
BEGIN:DAYLIGHT
DTSTART:20300331T020000
RDATE:20301027T010000
TZOFFSETFROM:+0000
TZOFFSETTO:+0100
TZNAME:Europe/London BST
END:DAYLIGHT
END:VTIMEZONE
BEGIN:VEVENT
UID:52ff3eff29b7f43357f07e0f92e225df
CATEGORIES:West
CREATED:20231207T160340
SUMMARY:Surprise Minor Practice
LOCATION:St Mary's Church\, Walberton
URL;VALUE=URI:https://www.scacr.org/news-events/calendar/1209/surprise-minor-practice?tmp
 l=component
DESCRIPTION:This is a regular monthly event giving ringers the opportunity to ring  met
 hods such as Plain courses and touches of Cambridge and Norwich and Plain c
 ourses of Beverley, London, Carlisle and Pure Treble Bob Hunt!!   Refreshme
 nts are provided.  Please contact This email address is being protected fro
 m spambots. You need JavaScript enabled to view it.
				document.getElement
 ById('cloakcb91f0a6d7cd7b225254565520be67c9').innerHTML = '';
				var prefi
 x = '&#109;a' + 'i&#108;' + '&#116;o';
				var path = 'hr' + 'ef' + '=';
		
 		var addycb91f0a6d7cd7b225254565520be67c9 = 's&#101;c-w&#101;st' + '&#64;'
 ;
				addycb91f0a6d7cd7b225254565520be67c9 = addycb91f0a6d7cd7b225254565520
 be67c9 + 'sc&#97;cr' + '&#46;' + '&#111;rg';
				var addy_textcb91f0a6d7cd7
 b225254565520be67c9 = 's&#101;c-w&#101;st' + '&#64;' + 'sc&#97;cr' + '&#46;
 ' + '&#111;rg';document.getElementById('cloakcb91f0a6d7cd7b225254565520be67
 c9').innerHTML += '<a ' + path + '\'' + prefix + ':' + addycb91f0a6d7cd7b22
 5254565520be67c9 + '\'>'+addy_textcb91f0a6d7cd7b225254565520be67c9+'';
		 i
 f you would like refreshments.\nThe 'method of the month'  is yet to be ann
 ounced - watch this space!!\n This event was imported from: https://www.sca
 cr.org/news-events/calendar/1209/surprise-minor-practice?tmpl=component (ht
 tps://www.scacr.org/news-events/calendar/1209/surprise-minor-practice?tmpl=
 component)
X-ALT-DESC;FMTTYPE=text/html:<p>This is a regular monthly event giving ringers the opportunity to ring&n
 bsp; methods such as Plain courses and touches of Cambridge and Norwich and
  Plain courses of Beverley, London, Carlisle and Pure Treble Bob Hunt!!&nbs
 p; &nbsp;Refreshments are provided.&nbsp; Please contact <span id="cloakcb9
 1f0a6d7cd7b225254565520be67c9">This email address is being protected from s
 pambots. You need JavaScript enabled to view it.</span><script type='text/j
 avascript'>
				document.getElementById('cloakcb91f0a6d7cd7b225254565520be6
 7c9').innerHTML = '';
				var prefix = '&#109;a' + 'i&#108;' + '&#116;o';
	
 			var path = 'hr' + 'ef' + '=';
				var addycb91f0a6d7cd7b225254565520be67
 c9 = 's&#101;c-w&#101;st' + '&#64;';
				addycb91f0a6d7cd7b225254565520be67
 c9 = addycb91f0a6d7cd7b225254565520be67c9 + 'sc&#97;cr' + '&#46;' + '&#111;
 rg';
				var addy_textcb91f0a6d7cd7b225254565520be67c9 = 's&#101;c-w&#101;s
 t' + '&#64;' + 'sc&#97;cr' + '&#46;' + '&#111;rg';document.getElementById('
 cloakcb91f0a6d7cd7b225254565520be67c9').innerHTML += '<a ' + path + '\'' + 
 prefix + ':' + addycb91f0a6d7cd7b225254565520be67c9 + '\'>'+addy_textcb91f0
 a6d7cd7b225254565520be67c9+'<\/a>';
		</script>&nbsp;if you would like refr
 eshments.</p><p>The 'method of the month'&nbsp; is yet to be announced - wa
 tch this space!!</p> <a href="https://www.scacr.org/news-events/calendar/12
 09/surprise-minor-practice?tmpl=component">This event was imported from: ht
 tps://www.scacr.org/news-events/calendar/1209/surprise-minor-practice?tmpl=
 component</a>CONTACT:This email address is being protected from spambots. You need JavaScript enabled to view it.
				document.getElementById('cloak214ed7e4cbcf3710e879df217a6644f9').innerHTML = '';
				var prefix = '&#109;a' + 'i&#108;' + '&#116;o';
				var path = 'hr' + 'ef' + '=';
				var addy214ed7e4cbcf3710e879df217a6644f9 = 's&#101;c-w&#101;st' + '&#64;';
				addy214ed7e4cbcf3710e879df217a6644f9 = addy214ed7e4cbcf3710e879df217a6644f9 + 'sc&#97;cr' + '&#46;' + '&#111;rg';
				var addy_text214ed7e4cbcf3710e879df217a6644f9 = 's&#101;c-w&#101;st' + '&#64;' + 'sc&#97;cr' + '&#46;' + '&#111;rg';document.getElementById('cloak214ed7e4cbcf3710e879df217a6644f9').innerHTML += '<a ' + path + '\'' + prefix + ':' + addy214ed7e4cbcf3710e879df217a6644f9 + '\'>'+addy_text214ed7e4cbcf3710e879df217a6644f9+'';
		
DTSTAMP:20260422T112343
DTSTART;TZID=Europe/London:20240127T101500
DTEND;TZID=Europe/London:20240127T120000
SEQUENCE:0
TRANSP:OPAQUE
END:VEVENT
END:VCALENDAR