BEGIN:VCALENDAR
VERSION:2.0
PRODID:-//jEvents 2.0 for Joomla//EN
CALSCALE:GREGORIAN
METHOD:PUBLISH
BEGIN:VTIMEZONE
TZID:Europe/London
BEGIN:STANDARD
DTSTART:20221217T140000
RDATE:20230326T020000
TZOFFSETFROM:+0100
TZOFFSETTO:+0000
TZNAME:Europe/London GMT
END:STANDARD
BEGIN:STANDARD
DTSTART:20231029T010000
RDATE:20240331T020000
TZOFFSETFROM:+0100
TZOFFSETTO:+0000
TZNAME:Europe/London GMT
END:STANDARD
BEGIN:STANDARD
DTSTART:20241027T010000
RDATE:20250330T020000
TZOFFSETFROM:+0100
TZOFFSETTO:+0000
TZNAME:Europe/London GMT
END:STANDARD
BEGIN:STANDARD
DTSTART:20251026T010000
RDATE:20260329T020000
TZOFFSETFROM:+0100
TZOFFSETTO:+0000
TZNAME:Europe/London GMT
END:STANDARD
BEGIN:STANDARD
DTSTART:20261025T010000
RDATE:20270328T020000
TZOFFSETFROM:+0100
TZOFFSETTO:+0000
TZNAME:Europe/London GMT
END:STANDARD
BEGIN:STANDARD
DTSTART:20271031T010000
RDATE:20280326T020000
TZOFFSETFROM:+0100
TZOFFSETTO:+0000
TZNAME:Europe/London GMT
END:STANDARD
BEGIN:STANDARD
DTSTART:20281029T010000
RDATE:20290325T020000
TZOFFSETFROM:+0100
TZOFFSETTO:+0000
TZNAME:Europe/London GMT
END:STANDARD
BEGIN:STANDARD
DTSTART:20291028T010000
RDATE:20300331T020000
TZOFFSETFROM:+0100
TZOFFSETTO:+0000
TZNAME:Europe/London GMT
END:STANDARD
BEGIN:STANDARD
DTSTART:20301027T010000
RDATE:20310330T020000
TZOFFSETFROM:+0100
TZOFFSETTO:+0000
TZNAME:Europe/London GMT
END:STANDARD
BEGIN:DAYLIGHT
DTSTART:20230326T020000
RDATE:20231029T010000
TZOFFSETFROM:+0000
TZOFFSETTO:+0100
TZNAME:Europe/London BST
END:DAYLIGHT
BEGIN:DAYLIGHT
DTSTART:20240331T020000
RDATE:20241027T010000
TZOFFSETFROM:+0000
TZOFFSETTO:+0100
TZNAME:Europe/London BST
END:DAYLIGHT
BEGIN:DAYLIGHT
DTSTART:20250330T020000
RDATE:20251026T010000
TZOFFSETFROM:+0000
TZOFFSETTO:+0100
TZNAME:Europe/London BST
END:DAYLIGHT
BEGIN:DAYLIGHT
DTSTART:20260329T020000
RDATE:20261025T010000
TZOFFSETFROM:+0000
TZOFFSETTO:+0100
TZNAME:Europe/London BST
END:DAYLIGHT
BEGIN:DAYLIGHT
DTSTART:20270328T020000
RDATE:20271031T010000
TZOFFSETFROM:+0000
TZOFFSETTO:+0100
TZNAME:Europe/London BST
END:DAYLIGHT
BEGIN:DAYLIGHT
DTSTART:20280326T020000
RDATE:20281029T010000
TZOFFSETFROM:+0000
TZOFFSETTO:+0100
TZNAME:Europe/London BST
END:DAYLIGHT
BEGIN:DAYLIGHT
DTSTART:20290325T020000
RDATE:20291028T010000
TZOFFSETFROM:+0000
TZOFFSETTO:+0100
TZNAME:Europe/London BST
END:DAYLIGHT
BEGIN:DAYLIGHT
DTSTART:20300331T020000
RDATE:20301027T010000
TZOFFSETFROM:+0000
TZOFFSETTO:+0100
TZNAME:Europe/London BST
END:DAYLIGHT
END:VTIMEZONE
BEGIN:VEVENT
UID:f64bf10ad6c873fb98c7787d30fa9112
CATEGORIES:Young Ringers Event
CREATED:20231204T201605
SUMMARY:Young Ringers Festive Meet Up
LOCATION:Southover\, Lewes
URL;VALUE=URI:https://www.scacr.org/news-events/calendar/1204/young-ringers-festive-meet-
 up?tmpl=component
DESCRIPTION:Ho Ho Ho\nChristmas jumpers and silly headgear welcome (but not essential) 
 at our last gathering of 2023. \nWe'll be at Southover, Lewes - an easy goi
 ng 10 bell tower - suitable for all abilities. Bring friends and family for
  ringing and festive fun and treats. \nLocation:    ///musically.bolt.turke
 y\nWe'll need to know you're coming so that we can provide enough food and 
 treats: Get in touch with Marisa for more details.\n This event was importe
 d from: https://www.scacr.org/news-events/calendar/1204/young-ringers-festi
 ve-meet-up?tmpl=component (https://www.scacr.org/news-events/calendar/1204/
 young-ringers-festive-meet-up?tmpl=component)
X-ALT-DESC;FMTTYPE=text/html:<p>Ho Ho Ho</p><p>Christmas jumpers and silly headgear welcome (but not ess
 ential) at our last gathering of 2023.&nbsp;</p><p>We'll be at Southover, L
 ewes - an easy going 10 bell tower - suitable for all abilities. Bring frie
 nds and family for ringing and festive fun and treats.&nbsp;</p><p>Location
 :&nbsp; &nbsp; ///musically.bolt.turkey</p><p>We'll need to know you're com
 ing so that we can provide enough food and treats:&nbsp;Get in touch with M
 arisa for more details.</p> <a href="https://www.scacr.org/news-events/cale
 ndar/1204/young-ringers-festive-meet-up?tmpl=component">This event was impo
 rted from: https://www.scacr.org/news-events/calendar/1204/young-ringers-fe
 stive-meet-up?tmpl=component</a>CONTACT:Marisa Hayes 07796 145464 (text / whatsapp)
X-EXTRAINFO:A short walk from the station. Parking possibly available in Southover Scho
 ol car park (opposite Southover Grange) or cheap parking at the end of Cock
 shut Road (beside the church and under the railway bridge)
DTSTAMP:20260421T023426
DTSTART;TZID=Europe/London:20231218T140000
DTEND;TZID=Europe/London:20231218T160000
SEQUENCE:0
TRANSP:OPAQUE
END:VEVENT
END:VCALENDAR