BEGIN:VCALENDAR
VERSION:2.0
PRODID:-//jEvents 2.0 for Joomla//EN
CALSCALE:GREGORIAN
METHOD:PUBLISH
BEGIN:VTIMEZONE
TZID:Europe/London
BEGIN:STANDARD
DTSTART:20221103T093000
RDATE:20230326T020000
TZOFFSETFROM:+0100
TZOFFSETTO:+0000
TZNAME:Europe/London GMT
END:STANDARD
BEGIN:STANDARD
DTSTART:20231029T010000
RDATE:20240331T020000
TZOFFSETFROM:+0100
TZOFFSETTO:+0000
TZNAME:Europe/London GMT
END:STANDARD
BEGIN:STANDARD
DTSTART:20241027T010000
RDATE:20250330T020000
TZOFFSETFROM:+0100
TZOFFSETTO:+0000
TZNAME:Europe/London GMT
END:STANDARD
BEGIN:STANDARD
DTSTART:20251026T010000
RDATE:20260329T020000
TZOFFSETFROM:+0100
TZOFFSETTO:+0000
TZNAME:Europe/London GMT
END:STANDARD
BEGIN:STANDARD
DTSTART:20261025T010000
RDATE:20270328T020000
TZOFFSETFROM:+0100
TZOFFSETTO:+0000
TZNAME:Europe/London GMT
END:STANDARD
BEGIN:STANDARD
DTSTART:20271031T010000
RDATE:20280326T020000
TZOFFSETFROM:+0100
TZOFFSETTO:+0000
TZNAME:Europe/London GMT
END:STANDARD
BEGIN:STANDARD
DTSTART:20281029T010000
RDATE:20290325T020000
TZOFFSETFROM:+0100
TZOFFSETTO:+0000
TZNAME:Europe/London GMT
END:STANDARD
BEGIN:STANDARD
DTSTART:20291028T010000
RDATE:20300331T020000
TZOFFSETFROM:+0100
TZOFFSETTO:+0000
TZNAME:Europe/London GMT
END:STANDARD
BEGIN:STANDARD
DTSTART:20301027T010000
RDATE:20310330T020000
TZOFFSETFROM:+0100
TZOFFSETTO:+0000
TZNAME:Europe/London GMT
END:STANDARD
BEGIN:DAYLIGHT
DTSTART:20230326T020000
RDATE:20231029T010000
TZOFFSETFROM:+0000
TZOFFSETTO:+0100
TZNAME:Europe/London BST
END:DAYLIGHT
BEGIN:DAYLIGHT
DTSTART:20240331T020000
RDATE:20241027T010000
TZOFFSETFROM:+0000
TZOFFSETTO:+0100
TZNAME:Europe/London BST
END:DAYLIGHT
BEGIN:DAYLIGHT
DTSTART:20250330T020000
RDATE:20251026T010000
TZOFFSETFROM:+0000
TZOFFSETTO:+0100
TZNAME:Europe/London BST
END:DAYLIGHT
BEGIN:DAYLIGHT
DTSTART:20260329T020000
RDATE:20261025T010000
TZOFFSETFROM:+0000
TZOFFSETTO:+0100
TZNAME:Europe/London BST
END:DAYLIGHT
BEGIN:DAYLIGHT
DTSTART:20270328T020000
RDATE:20271031T010000
TZOFFSETFROM:+0000
TZOFFSETTO:+0100
TZNAME:Europe/London BST
END:DAYLIGHT
BEGIN:DAYLIGHT
DTSTART:20280326T020000
RDATE:20281029T010000
TZOFFSETFROM:+0000
TZOFFSETTO:+0100
TZNAME:Europe/London BST
END:DAYLIGHT
BEGIN:DAYLIGHT
DTSTART:20290325T020000
RDATE:20291028T010000
TZOFFSETFROM:+0000
TZOFFSETTO:+0100
TZNAME:Europe/London BST
END:DAYLIGHT
BEGIN:DAYLIGHT
DTSTART:20300331T020000
RDATE:20301027T010000
TZOFFSETFROM:+0000
TZOFFSETTO:+0100
TZNAME:Europe/London BST
END:DAYLIGHT
END:VTIMEZONE
BEGIN:VEVENT
UID:cd67920505f840a8d2f613f0b27b6eb8
CATEGORIES:West
CREATED:20231009T172537
SUMMARY:Beginners & Improvers Practice
LOCATION:St Mary's Washington
URL;VALUE=URI:https://www.scacr.org/news-events/calendar/1186/beginners-improvers-practic
 e?tmpl=component
DESCRIPTION:<p>A great opportunity to ring on this ground floor tower with a supportive
  band.&nbsp; This is a regular monthly event.&nbsp; Refreshments are also p
 rovided.&nbsp;</p><p>It is imperative that you contact Christine Butterfeld
  on 01903 872623 so that she can monitor numbers.&nbsp; E mail <span id="cl
 oak414e5d81b9687017fc4c2853571cfd44">This email address is being protected 
 from spambots. You need JavaScript enabled to view it.</span><script type='
 text/javascript'>
				document.getElementById('cloak414e5d81b9687017fc4c285
 3571cfd44').innerHTML = '';
				var prefix = '&#109;a' + 'i&#108;' + '&#116
 ;o';
				var path = 'hr' + 'ef' + '=';
				var addy414e5d81b9687017fc4c2853
 571cfd44 = 's&#101;c-w&#101;st' + '&#64;';
				addy414e5d81b9687017fc4c2853
 571cfd44 = addy414e5d81b9687017fc4c2853571cfd44 + 'sc&#97;cr' + '&#46;' + '
 &#111;rg';
				var addy_text414e5d81b9687017fc4c2853571cfd44 = 's&#101;c-w&
 #101;st' + '&#64;' + 'sc&#97;cr' + '&#46;' + '&#111;rg';document.getElement
 ById('cloak414e5d81b9687017fc4c2853571cfd44').innerHTML += '<a ' + path + '
 \'' + prefix + ':' + addy414e5d81b9687017fc4c2853571cfd44 + '\'>'+addy_text
 414e5d81b9687017fc4c2853571cfd44+'<\/a>';
		</script>&nbsp;if you require r
 efreshments.</p><p>Look forward to seeing you there!</p> <a href="https://w
 ww.scacr.org/news-events/calendar/1186/beginners-improvers-practice?tmpl=co
 mponent">This event was imported from: https://www.scacr.org/news-events/ca
 lendar/1186/beginners-improvers-practice?tmpl=component</a>CONTACT:Christine Butterfield 01903 872623
DTSTAMP:20260420T143909
DTSTART;TZID=Europe/London:20231104T093000
DTEND;TZID=Europe/London:20231104T120000
SEQUENCE:0
TRANSP:OPAQUE
END:VEVENT
END:VCALENDAR