BEGIN:VCALENDAR
VERSION:2.0
PRODID:-//jEvents 2.0 for Joomla//EN
CALSCALE:GREGORIAN
METHOD:PUBLISH
BEGIN:VTIMEZONE
TZID:Europe/London
BEGIN:STANDARD
DTSTART:20221106T193000
RDATE:20230326T020000
TZOFFSETFROM:+0100
TZOFFSETTO:+0000
TZNAME:Europe/London GMT
END:STANDARD
BEGIN:STANDARD
DTSTART:20231029T010000
RDATE:20240331T020000
TZOFFSETFROM:+0100
TZOFFSETTO:+0000
TZNAME:Europe/London GMT
END:STANDARD
BEGIN:STANDARD
DTSTART:20241027T010000
RDATE:20250330T020000
TZOFFSETFROM:+0100
TZOFFSETTO:+0000
TZNAME:Europe/London GMT
END:STANDARD
BEGIN:STANDARD
DTSTART:20251026T010000
RDATE:20260329T020000
TZOFFSETFROM:+0100
TZOFFSETTO:+0000
TZNAME:Europe/London GMT
END:STANDARD
BEGIN:STANDARD
DTSTART:20261025T010000
RDATE:20270328T020000
TZOFFSETFROM:+0100
TZOFFSETTO:+0000
TZNAME:Europe/London GMT
END:STANDARD
BEGIN:STANDARD
DTSTART:20271031T010000
RDATE:20280326T020000
TZOFFSETFROM:+0100
TZOFFSETTO:+0000
TZNAME:Europe/London GMT
END:STANDARD
BEGIN:STANDARD
DTSTART:20281029T010000
RDATE:20290325T020000
TZOFFSETFROM:+0100
TZOFFSETTO:+0000
TZNAME:Europe/London GMT
END:STANDARD
BEGIN:STANDARD
DTSTART:20291028T010000
RDATE:20300331T020000
TZOFFSETFROM:+0100
TZOFFSETTO:+0000
TZNAME:Europe/London GMT
END:STANDARD
BEGIN:STANDARD
DTSTART:20301027T010000
RDATE:20310330T020000
TZOFFSETFROM:+0100
TZOFFSETTO:+0000
TZNAME:Europe/London GMT
END:STANDARD
BEGIN:DAYLIGHT
DTSTART:20230326T020000
RDATE:20231029T010000
TZOFFSETFROM:+0000
TZOFFSETTO:+0100
TZNAME:Europe/London BST
END:DAYLIGHT
BEGIN:DAYLIGHT
DTSTART:20240331T020000
RDATE:20241027T010000
TZOFFSETFROM:+0000
TZOFFSETTO:+0100
TZNAME:Europe/London BST
END:DAYLIGHT
BEGIN:DAYLIGHT
DTSTART:20250330T020000
RDATE:20251026T010000
TZOFFSETFROM:+0000
TZOFFSETTO:+0100
TZNAME:Europe/London BST
END:DAYLIGHT
BEGIN:DAYLIGHT
DTSTART:20260329T020000
RDATE:20261025T010000
TZOFFSETFROM:+0000
TZOFFSETTO:+0100
TZNAME:Europe/London BST
END:DAYLIGHT
BEGIN:DAYLIGHT
DTSTART:20270328T020000
RDATE:20271031T010000
TZOFFSETFROM:+0000
TZOFFSETTO:+0100
TZNAME:Europe/London BST
END:DAYLIGHT
BEGIN:DAYLIGHT
DTSTART:20280326T020000
RDATE:20281029T010000
TZOFFSETFROM:+0000
TZOFFSETTO:+0100
TZNAME:Europe/London BST
END:DAYLIGHT
BEGIN:DAYLIGHT
DTSTART:20290325T020000
RDATE:20291028T010000
TZOFFSETFROM:+0000
TZOFFSETTO:+0100
TZNAME:Europe/London BST
END:DAYLIGHT
BEGIN:DAYLIGHT
DTSTART:20300331T020000
RDATE:20301027T010000
TZOFFSETFROM:+0000
TZOFFSETTO:+0100
TZNAME:Europe/London BST
END:DAYLIGHT
END:VTIMEZONE
BEGIN:VEVENT
UID:c3c63c7deec2ed83cad602c309237e6d
CATEGORIES:East
CREATED:20230929T181137
SUMMARY:Eastbourne Monthly Combined Practice
LOCATION:Christ Church Eastbourne
URL;VALUE=URI:https://www.scacr.org/news-events/calendar/1181/eastbourne-monthly-combined
 -practice?tmpl=component
DESCRIPTION:Eastbourne to hold monthly combined practises at Tuesday towers\nEastbourne
  has 3 towers that have historically practised on Tuesdays, St Mary’s (8), 
 Christ Church (8) and St Saviour’s (10).\nThese towers have agreed to combi
 ne forces on a monthly basis to enhance the range and quality of ringing av
 ailable and so to further develop the bands.\nThe first practice will be at
  Christ Church on 7th November. It will be followed on 5th December at St M
 ary’s and 2nd January at St Saviour’s.\nRinging starts at 7.30 and all ring
 ers are most welcome to come along and join in.\n This event was imported f
 rom: https://www.scacr.org/news-events/calendar/1181/eastbourne-monthly-com
 bined-practice?tmpl=component (https://www.scacr.org/news-events/calendar/1
 181/eastbourne-monthly-combined-practice?tmpl=component)
X-ALT-DESC;FMTTYPE=text/html:<p><strong>Eastbourne to hold monthly combined practises at Tuesday towers<
 /strong></p><p>Eastbourne has 3 towers that have historically practised on 
 Tuesdays, St Mary’s (8), Christ Church (8) and St Saviour’s (10).</p><p>The
 se towers have agreed to combine forces on a monthly basis to enhance the r
 ange and quality of ringing available and so to further develop the bands.<
 /p><p>The first practice will be at Christ Church on 7th November. It will 
 be followed on 5th December at St Mary’s and 2nd January at St Saviour’s.</
 p><p>Ringing starts at 7.30 and all ringers are most welcome to come along 
 and join in.</p> <a href="https://www.scacr.org/news-events/calendar/1181/e
 astbourne-monthly-combined-practice?tmpl=component">This event was imported
  from: https://www.scacr.org/news-events/calendar/1181/eastbourne-monthly-c
 ombined-practice?tmpl=component</a>CONTACT:This email address is being protected from spambots. You need JavaScript enabled to view it.
				document.getElementById('cloak1eeaeac3b9de85b68c2b2770854995c6').innerHTML = '';
				var prefix = '&#109;a' + 'i&#108;' + '&#116;o';
				var path = 'hr' + 'ef' + '=';
				var addy1eeaeac3b9de85b68c2b2770854995c6 = 's&#101;c-&#101;&#97;st' + '&#64;';
				addy1eeaeac3b9de85b68c2b2770854995c6 = addy1eeaeac3b9de85b68c2b2770854995c6 + 'sc&#97;cr' + '&#46;' + '&#111;rg';
				var addy_text1eeaeac3b9de85b68c2b2770854995c6 = 's&#101;c-&#101;&#97;st' + '&#64;' + 'sc&#97;cr' + '&#46;' + '&#111;rg';document.getElementById('cloak1eeaeac3b9de85b68c2b2770854995c6').innerHTML += '<a ' + path + '\'' + prefix + ':' + addy1eeaeac3b9de85b68c2b2770854995c6 + '\'>'+addy_text1eeaeac3b9de85b68c2b2770854995c6+'';
		
DTSTAMP:20260421T004103
DTSTART;TZID=Europe/London:20231107T193000
DTEND;TZID=Europe/London:20231107T210000
SEQUENCE:0
TRANSP:OPAQUE
END:VEVENT
END:VCALENDAR