BEGIN:VCALENDAR
VERSION:2.0
PRODID:-//jEvents 2.0 for Joomla//EN
CALSCALE:GREGORIAN
METHOD:PUBLISH
BEGIN:VTIMEZONE
TZID:Europe/London
BEGIN:STANDARD
DTSTART:20221107T194500
RDATE:20230326T020000
TZOFFSETFROM:+0100
TZOFFSETTO:+0000
TZNAME:Europe/London GMT
END:STANDARD
BEGIN:STANDARD
DTSTART:20231029T010000
RDATE:20240331T020000
TZOFFSETFROM:+0100
TZOFFSETTO:+0000
TZNAME:Europe/London GMT
END:STANDARD
BEGIN:STANDARD
DTSTART:20241027T010000
RDATE:20250330T020000
TZOFFSETFROM:+0100
TZOFFSETTO:+0000
TZNAME:Europe/London GMT
END:STANDARD
BEGIN:STANDARD
DTSTART:20251026T010000
RDATE:20260329T020000
TZOFFSETFROM:+0100
TZOFFSETTO:+0000
TZNAME:Europe/London GMT
END:STANDARD
BEGIN:STANDARD
DTSTART:20261025T010000
RDATE:20270328T020000
TZOFFSETFROM:+0100
TZOFFSETTO:+0000
TZNAME:Europe/London GMT
END:STANDARD
BEGIN:STANDARD
DTSTART:20271031T010000
RDATE:20280326T020000
TZOFFSETFROM:+0100
TZOFFSETTO:+0000
TZNAME:Europe/London GMT
END:STANDARD
BEGIN:STANDARD
DTSTART:20281029T010000
RDATE:20290325T020000
TZOFFSETFROM:+0100
TZOFFSETTO:+0000
TZNAME:Europe/London GMT
END:STANDARD
BEGIN:STANDARD
DTSTART:20291028T010000
RDATE:20300331T020000
TZOFFSETFROM:+0100
TZOFFSETTO:+0000
TZNAME:Europe/London GMT
END:STANDARD
BEGIN:STANDARD
DTSTART:20301027T010000
RDATE:20310330T020000
TZOFFSETFROM:+0100
TZOFFSETTO:+0000
TZNAME:Europe/London GMT
END:STANDARD
BEGIN:DAYLIGHT
DTSTART:20230326T020000
RDATE:20231029T010000
TZOFFSETFROM:+0000
TZOFFSETTO:+0100
TZNAME:Europe/London BST
END:DAYLIGHT
BEGIN:DAYLIGHT
DTSTART:20240331T020000
RDATE:20241027T010000
TZOFFSETFROM:+0000
TZOFFSETTO:+0100
TZNAME:Europe/London BST
END:DAYLIGHT
BEGIN:DAYLIGHT
DTSTART:20250330T020000
RDATE:20251026T010000
TZOFFSETFROM:+0000
TZOFFSETTO:+0100
TZNAME:Europe/London BST
END:DAYLIGHT
BEGIN:DAYLIGHT
DTSTART:20260329T020000
RDATE:20261025T010000
TZOFFSETFROM:+0000
TZOFFSETTO:+0100
TZNAME:Europe/London BST
END:DAYLIGHT
BEGIN:DAYLIGHT
DTSTART:20270328T020000
RDATE:20271031T010000
TZOFFSETFROM:+0000
TZOFFSETTO:+0100
TZNAME:Europe/London BST
END:DAYLIGHT
BEGIN:DAYLIGHT
DTSTART:20280326T020000
RDATE:20281029T010000
TZOFFSETFROM:+0000
TZOFFSETTO:+0100
TZNAME:Europe/London BST
END:DAYLIGHT
BEGIN:DAYLIGHT
DTSTART:20290325T020000
RDATE:20291028T010000
TZOFFSETFROM:+0000
TZOFFSETTO:+0100
TZNAME:Europe/London BST
END:DAYLIGHT
BEGIN:DAYLIGHT
DTSTART:20300331T020000
RDATE:20301027T010000
TZOFFSETFROM:+0000
TZOFFSETTO:+0100
TZNAME:Europe/London BST
END:DAYLIGHT
END:VTIMEZONE
BEGIN:VEVENT
UID:10fd4a5087ad1b534d4041515f3d542e
CATEGORIES:East
CREATED:20230810T091043
SUMMARY:Doubles Practice  **Change to Start Time November**
LOCATION:Westham
URL;VALUE=URI:https://www.scacr.org/news-events/calendar/1172/doubles-practice-change-to-
 start-time-november?tmpl=component
DESCRIPTION:<p><strong>Eastern District Doubles Practice at Westham near Eastbourne.</s
 trong></p><p style="color: #ff981a;"><strong>2nd Wednesday of the month - n
 ote the November start time has been changed due to a fireworks event at P&
 amp;W School next door, which ends with the ringing of the bells.&nbsp; Onc
 e this has ended around 7:45pm the Doubles Practice will start.</strong></p
 ><p>Join us for the monthly mid-week practice on this 10cwt ring of 6 for t
 hose learning Plain Hunt and learning to treble on Plain Bob/Grandsire, thr
 ough to short touches of doubles methods to suit the repertoire of those at
 tending*.<br /><br />Experienced helpers to fill in and "stand-behind" alwa
 ys welcome.</p><p>Refreshments served.&nbsp;☕️<br /><br /><em>*The October 
 meeting included Plain Hunt, Plain Bob, Grandsire and Winchendon Place, pre
 vious months have included St Simon's and Stedman too</em></p> <a href="htt
 ps://www.scacr.org/news-events/calendar/1172/doubles-practice-change-to-sta
 rt-time-november?tmpl=component">This event was imported from: https://www.
 scacr.org/news-events/calendar/1172/doubles-practice-change-to-start-time-n
 ovember?tmpl=component</a>CONTACT:This email address is being protected from spambots. You need JavaScript enabled to view it.
				document.getElementById('cloak2066ab091c24f29855944cd12ff4738a').innerHTML = '';
				var prefix = '&#109;a' + 'i&#108;' + '&#116;o';
				var path = 'hr' + 'ef' + '=';
				var addy2066ab091c24f29855944cd12ff4738a = 's&#101;c-&#101;&#97;st' + '&#64;';
				addy2066ab091c24f29855944cd12ff4738a = addy2066ab091c24f29855944cd12ff4738a + 'sc&#97;cr' + '&#46;' + '&#111;rg';
				var addy_text2066ab091c24f29855944cd12ff4738a = 's&#101;c-&#101;&#97;st' + '&#64;' + 'sc&#97;cr' + '&#46;' + '&#111;rg';document.getElementById('cloak2066ab091c24f29855944cd12ff4738a').innerHTML += '<a ' + path + '\'' + prefix + ':' + addy2066ab091c24f29855944cd12ff4738a + '\'>'+addy_text2066ab091c24f29855944cd12ff4738a+'';
		
DTSTAMP:20260420T143909
DTSTART;TZID=Europe/London:20231108T194500
DTEND;TZID=Europe/London:20231108T210000
SEQUENCE:0
TRANSP:OPAQUE
END:VEVENT
END:VCALENDAR