BEGIN:VCALENDAR
VERSION:2.0
PRODID:-//jEvents 2.0 for Joomla//EN
CALSCALE:GREGORIAN
METHOD:PUBLISH
BEGIN:VTIMEZONE
TZID:Europe/London
BEGIN:STANDARD
DTSTART:20221030T010000
RDATE:20230326T020000
TZOFFSETFROM:+0100
TZOFFSETTO:+0000
TZNAME:Europe/London GMT
END:STANDARD
BEGIN:STANDARD
DTSTART:20231029T010000
RDATE:20240331T020000
TZOFFSETFROM:+0100
TZOFFSETTO:+0000
TZNAME:Europe/London GMT
END:STANDARD
BEGIN:STANDARD
DTSTART:20241027T010000
RDATE:20250330T020000
TZOFFSETFROM:+0100
TZOFFSETTO:+0000
TZNAME:Europe/London GMT
END:STANDARD
BEGIN:STANDARD
DTSTART:20251026T010000
RDATE:20260329T020000
TZOFFSETFROM:+0100
TZOFFSETTO:+0000
TZNAME:Europe/London GMT
END:STANDARD
BEGIN:STANDARD
DTSTART:20261025T010000
RDATE:20270328T020000
TZOFFSETFROM:+0100
TZOFFSETTO:+0000
TZNAME:Europe/London GMT
END:STANDARD
BEGIN:STANDARD
DTSTART:20271031T010000
RDATE:20280326T020000
TZOFFSETFROM:+0100
TZOFFSETTO:+0000
TZNAME:Europe/London GMT
END:STANDARD
BEGIN:STANDARD
DTSTART:20281029T010000
RDATE:20290325T020000
TZOFFSETFROM:+0100
TZOFFSETTO:+0000
TZNAME:Europe/London GMT
END:STANDARD
BEGIN:STANDARD
DTSTART:20291028T010000
RDATE:20300331T020000
TZOFFSETFROM:+0100
TZOFFSETTO:+0000
TZNAME:Europe/London GMT
END:STANDARD
BEGIN:STANDARD
DTSTART:20301027T010000
RDATE:20310330T020000
TZOFFSETFROM:+0100
TZOFFSETTO:+0000
TZNAME:Europe/London GMT
END:STANDARD
BEGIN:DAYLIGHT
DTSTART:20220818T090000
RDATE:20221030T010000
TZOFFSETFROM:+0000
TZOFFSETTO:+0100
TZNAME:Europe/London BST
END:DAYLIGHT
BEGIN:DAYLIGHT
DTSTART:20230326T020000
RDATE:20231029T010000
TZOFFSETFROM:+0000
TZOFFSETTO:+0100
TZNAME:Europe/London BST
END:DAYLIGHT
BEGIN:DAYLIGHT
DTSTART:20240331T020000
RDATE:20241027T010000
TZOFFSETFROM:+0000
TZOFFSETTO:+0100
TZNAME:Europe/London BST
END:DAYLIGHT
BEGIN:DAYLIGHT
DTSTART:20250330T020000
RDATE:20251026T010000
TZOFFSETFROM:+0000
TZOFFSETTO:+0100
TZNAME:Europe/London BST
END:DAYLIGHT
BEGIN:DAYLIGHT
DTSTART:20260329T020000
RDATE:20261025T010000
TZOFFSETFROM:+0000
TZOFFSETTO:+0100
TZNAME:Europe/London BST
END:DAYLIGHT
BEGIN:DAYLIGHT
DTSTART:20270328T020000
RDATE:20271031T010000
TZOFFSETFROM:+0000
TZOFFSETTO:+0100
TZNAME:Europe/London BST
END:DAYLIGHT
BEGIN:DAYLIGHT
DTSTART:20280326T020000
RDATE:20281029T010000
TZOFFSETFROM:+0000
TZOFFSETTO:+0100
TZNAME:Europe/London BST
END:DAYLIGHT
BEGIN:DAYLIGHT
DTSTART:20290325T020000
RDATE:20291028T010000
TZOFFSETFROM:+0000
TZOFFSETTO:+0100
TZNAME:Europe/London BST
END:DAYLIGHT
BEGIN:DAYLIGHT
DTSTART:20300331T020000
RDATE:20301027T010000
TZOFFSETFROM:+0000
TZOFFSETTO:+0100
TZNAME:Europe/London BST
END:DAYLIGHT
END:VTIMEZONE
BEGIN:VEVENT
UID:2f044e661eaf9e49e8bf3789600efb4e
CATEGORIES:Association Event
CREATED:20230807T141256
SUMMARY:Teaching Course,  ART accredited. Module 1
LOCATION:St Mary's Church\, Billingshurst.
URL;VALUE=URI:https://www.scacr.org/news-events/calendar/1169/teaching-course-art-accredi
 ted-module-1?tmpl=component
DESCRIPTION:<p>This is an association event.</p><p>This is a fantastic opportunity for 
 those who already teach bell handling and want to update their skills AND f
 or those who have never taught anyone to handle a bell .&nbsp; This module 
 provides you with the skills and techniques necessary to take a ringer from
  their first lesson to having competent bell control.&nbsp; This is an all 
 day event consisitng of practical and classroom sessions!</p><p>You must be
  14 or above and&nbsp; have sufficient bell control to be able to inspire c
 onfidence in others and have the ability to comfortabley raise and lower a 
 bell.&nbsp; You do not need to be a method ringer!&nbsp; You will need a me
 ntor who will suppoort you following the course whlist using your newly acq
 uired skills with a learner!</p><p>How to book - go into the Association of
 &nbsp; Ringing Teachers website and click on the events list and then follo
 w the instructions to book.&nbsp; The fee is £25.00 and payable on line.&nb
 sp; &nbsp;The closing date for booking on line is midayt on Friday 11th Aug
 ust.&nbsp; However, if anyone wishes to register after this - it is not a p
 roblem,&nbsp; just&nbsp; contact Janice Crawford on 07890804339 or <span id
 ="cloake5ae2d3a5777957fefa09c92f59f2b4d">This email address is being protec
 ted from spambots. You need JavaScript enabled to view it.</span><script ty
 pe='text/javascript'>
				document.getElementById('cloake5ae2d3a5777957fefa
 09c92f59f2b4d').innerHTML = '';
				var prefix = '&#109;a' + 'i&#108;' + '&
 #116;o';
				var path = 'hr' + 'ef' + '=';
				var addye5ae2d3a5777957fefa0
 9c92f59f2b4d = 's&#101;c-w&#101;sr' + '&#64;';
				addye5ae2d3a5777957fefa0
 9c92f59f2b4d = addye5ae2d3a5777957fefa09c92f59f2b4d + 'sc&#97;cr' + '&#46;'
  + '&#111;rg';
				var addy_texte5ae2d3a5777957fefa09c92f59f2b4d = 's&#101;
 c-w&#101;st' + '&#64;' + 'sc&#97;cr' + '&#46;' + '&#111;rg';document.getEle
 mentById('cloake5ae2d3a5777957fefa09c92f59f2b4d').innerHTML += '<a ' + path
  + '\'' + prefix + ':' + addye5ae2d3a5777957fefa09c92f59f2b4d + '\'>'+addy_
 texte5ae2d3a5777957fefa09c92f59f2b4d+'<\/a>';
		</script></p><p>Bring a pic
 nic and tea and cake will be provided!!!</p><p>&nbsp;</p><p>&nbsp;</p> <a h
 ref="https://www.scacr.org/news-events/calendar/1169/teaching-course-art-ac
 credited-module-1?tmpl=component">This event was imported from: https://www
 .scacr.org/news-events/calendar/1169/teaching-course-art-accredited-module-
 1?tmpl=component</a>CONTACT:This email address is being protected from spambots. You need JavaScript enabled to view it.
				document.getElementById('cloak0f1ca8dfd62260b51ae1a6ac64ecd967').innerHTML = '';
				var prefix = '&#109;a' + 'i&#108;' + '&#116;o';
				var path = 'hr' + 'ef' + '=';
				var addy0f1ca8dfd62260b51ae1a6ac64ecd967 = 's&#101;c-w&#101;st' + '&#64;';
				addy0f1ca8dfd62260b51ae1a6ac64ecd967 = addy0f1ca8dfd62260b51ae1a6ac64ecd967 + 'sc&#97;cr' + '&#46;' + '&#111;rg';
				var addy_text0f1ca8dfd62260b51ae1a6ac64ecd967 = 's&#101;c-w&#101;st' + '&#64;' + 'sc&#97;cr' + '&#46;' + '&#111;rg';document.getElementById('cloak0f1ca8dfd62260b51ae1a6ac64ecd967').innerHTML += '<a ' + path + '\'' + prefix + ':' + addy0f1ca8dfd62260b51ae1a6ac64ecd967 + '\'>'+addy_text0f1ca8dfd62260b51ae1a6ac64ecd967+'';
		
X-EXTRAINFO:The closing date for booking on line is midday on Friday 11th August.  Howe
 ver, if anyone wishes to register after this - it is not a problem,  just  
 contact Janice Crawford on 07890804339 or This email address is being prote
 cted from spambots. You need JavaScript enabled to view it.
				document.ge
 tElementById('cloake84ecf319b67e9073e328a14205813e6').innerHTML = '';
				v
 ar prefix = '&#109;a' + 'i&#108;' + '&#116;o';
				var path = 'hr' + 'ef' +
  '=';
				var addye84ecf319b67e9073e328a14205813e6 = 's&#101;c-w&#101;st' +
  '&#64;';
				addye84ecf319b67e9073e328a14205813e6 = addye84ecf319b67e9073e
 328a14205813e6 + 'sc&#97;cr' + '&#46;' + '&#111;rg';
				var addy_texte84ec
 f319b67e9073e328a14205813e6 = 's&#101;c-w&#101;st' + '&#64;' + 'sc&#97;cr' 
 + '&#46;' + '&#111;rg';document.getElementById('cloake84ecf319b67e9073e328a
 14205813e6').innerHTML += '<a ' + path + '\'' + prefix + ':' + addye84ecf31
 9b67e9073e328a14205813e6 + '\'>'+addy_texte84ecf319b67e9073e328a14205813e6+
 '';
		
DTSTAMP:20260421T025601
DTSTART;TZID=Europe/London:20230819T090000
DTEND;TZID=Europe/London:20230819T170000
SEQUENCE:0
TRANSP:OPAQUE
END:VEVENT
END:VCALENDAR