BEGIN:VCALENDAR
VERSION:2.0
PRODID:-//jEvents 2.0 for Joomla//EN
CALSCALE:GREGORIAN
METHOD:PUBLISH
BEGIN:VTIMEZONE
TZID:Europe/London
BEGIN:STANDARD
DTSTART:20221030T010000
RDATE:20230326T020000
TZOFFSETFROM:+0100
TZOFFSETTO:+0000
TZNAME:Europe/London GMT
END:STANDARD
BEGIN:STANDARD
DTSTART:20231029T010000
RDATE:20240331T020000
TZOFFSETFROM:+0100
TZOFFSETTO:+0000
TZNAME:Europe/London GMT
END:STANDARD
BEGIN:STANDARD
DTSTART:20241027T010000
RDATE:20250330T020000
TZOFFSETFROM:+0100
TZOFFSETTO:+0000
TZNAME:Europe/London GMT
END:STANDARD
BEGIN:STANDARD
DTSTART:20251026T010000
RDATE:20260329T020000
TZOFFSETFROM:+0100
TZOFFSETTO:+0000
TZNAME:Europe/London GMT
END:STANDARD
BEGIN:STANDARD
DTSTART:20261025T010000
RDATE:20270328T020000
TZOFFSETFROM:+0100
TZOFFSETTO:+0000
TZNAME:Europe/London GMT
END:STANDARD
BEGIN:STANDARD
DTSTART:20271031T010000
RDATE:20280326T020000
TZOFFSETFROM:+0100
TZOFFSETTO:+0000
TZNAME:Europe/London GMT
END:STANDARD
BEGIN:STANDARD
DTSTART:20281029T010000
RDATE:20290325T020000
TZOFFSETFROM:+0100
TZOFFSETTO:+0000
TZNAME:Europe/London GMT
END:STANDARD
BEGIN:STANDARD
DTSTART:20291028T010000
RDATE:20300331T020000
TZOFFSETFROM:+0100
TZOFFSETTO:+0000
TZNAME:Europe/London GMT
END:STANDARD
BEGIN:STANDARD
DTSTART:20301027T010000
RDATE:20310330T020000
TZOFFSETFROM:+0100
TZOFFSETTO:+0000
TZNAME:Europe/London GMT
END:STANDARD
BEGIN:DAYLIGHT
DTSTART:20221019T193000
RDATE:20221030T010000
TZOFFSETFROM:+0000
TZOFFSETTO:+0100
TZNAME:Europe/London BST
END:DAYLIGHT
BEGIN:DAYLIGHT
DTSTART:20230326T020000
RDATE:20231029T010000
TZOFFSETFROM:+0000
TZOFFSETTO:+0100
TZNAME:Europe/London BST
END:DAYLIGHT
BEGIN:DAYLIGHT
DTSTART:20240331T020000
RDATE:20241027T010000
TZOFFSETFROM:+0000
TZOFFSETTO:+0100
TZNAME:Europe/London BST
END:DAYLIGHT
BEGIN:DAYLIGHT
DTSTART:20250330T020000
RDATE:20251026T010000
TZOFFSETFROM:+0000
TZOFFSETTO:+0100
TZNAME:Europe/London BST
END:DAYLIGHT
BEGIN:DAYLIGHT
DTSTART:20260329T020000
RDATE:20261025T010000
TZOFFSETFROM:+0000
TZOFFSETTO:+0100
TZNAME:Europe/London BST
END:DAYLIGHT
BEGIN:DAYLIGHT
DTSTART:20270328T020000
RDATE:20271031T010000
TZOFFSETFROM:+0000
TZOFFSETTO:+0100
TZNAME:Europe/London BST
END:DAYLIGHT
BEGIN:DAYLIGHT
DTSTART:20280326T020000
RDATE:20281029T010000
TZOFFSETFROM:+0000
TZOFFSETTO:+0100
TZNAME:Europe/London BST
END:DAYLIGHT
BEGIN:DAYLIGHT
DTSTART:20290325T020000
RDATE:20291028T010000
TZOFFSETFROM:+0000
TZOFFSETTO:+0100
TZNAME:Europe/London BST
END:DAYLIGHT
BEGIN:DAYLIGHT
DTSTART:20300331T020000
RDATE:20301027T010000
TZOFFSETFROM:+0000
TZOFFSETTO:+0100
TZNAME:Europe/London BST
END:DAYLIGHT
END:VTIMEZONE
BEGIN:VEVENT
UID:2cbe186b2aa9b931a4913ea859ade71d
CATEGORIES:West
CREATED:20230728T183123
SUMMARY:Beginners 8 Bell Practice
LOCATION:St Nicholas Church\, Arundel. 
URL;VALUE=URI:https://www.scacr.org/news-events/calendar/1165/beginners-8-bell-practice?t
 mpl=component
DESCRIPTION: \nPlease note that this practice has been cancelled due to events occurrin
 g in the Church.\n This event was imported from: https://www.scacr.org/news
 -events/calendar/1165/beginners-8-bell-practice?tmpl=component (https://www
 .scacr.org/news-events/calendar/1165/beginners-8-bell-practice?tmpl=compone
 nt)
X-ALT-DESC;FMTTYPE=text/html:<p>&nbsp;</p><p>Please note that this<strong>&nbsp;practice has been cancel
 led</strong> due to events occurring in the Church.</p> <a href="https://ww
 w.scacr.org/news-events/calendar/1165/beginners-8-bell-practice?tmpl=compon
 ent">This event was imported from: https://www.scacr.org/news-events/calend
 ar/1165/beginners-8-bell-practice?tmpl=component</a>CONTACT:This email address is being protected from spambots. You need JavaScript enabled to view it.
				document.getElementById('cloak4e8f68da5e1a13987215c0d1a5852e6c').innerHTML = '';
				var prefix = '&#109;a' + 'i&#108;' + '&#116;o';
				var path = 'hr' + 'ef' + '=';
				var addy4e8f68da5e1a13987215c0d1a5852e6c = 's&#101;c-w&#101;st' + '&#64;';
				addy4e8f68da5e1a13987215c0d1a5852e6c = addy4e8f68da5e1a13987215c0d1a5852e6c + 'sc&#97;cr' + '&#46;' + '&#111;rg';
				var addy_text4e8f68da5e1a13987215c0d1a5852e6c = 's&#101;c-w&#101;st' + '&#64;' + 'sc&#97;cr' + '&#46;' + '&#111;rg';document.getElementById('cloak4e8f68da5e1a13987215c0d1a5852e6c').innerHTML += '<a ' + path + '\'' + prefix + ':' + addy4e8f68da5e1a13987215c0d1a5852e6c + '\'>'+addy_text4e8f68da5e1a13987215c0d1a5852e6c+'';
		
DTSTAMP:20260421T004110
DTSTART;TZID=Europe/London:20231020T193000
DTEND;TZID=Europe/London:20231020T210000
SEQUENCE:0
TRANSP:OPAQUE
END:VEVENT
END:VCALENDAR