BEGIN:VCALENDAR
VERSION:2.0
PRODID:-//jEvents 2.0 for Joomla//EN
CALSCALE:GREGORIAN
METHOD:PUBLISH
BEGIN:VTIMEZONE
TZID:Europe/London
BEGIN:STANDARD
DTSTART:20221030T010000
RDATE:20230326T020000
TZOFFSETFROM:+0100
TZOFFSETTO:+0000
TZNAME:Europe/London GMT
END:STANDARD
BEGIN:STANDARD
DTSTART:20231029T010000
RDATE:20240331T020000
TZOFFSETFROM:+0100
TZOFFSETTO:+0000
TZNAME:Europe/London GMT
END:STANDARD
BEGIN:STANDARD
DTSTART:20241027T010000
RDATE:20250330T020000
TZOFFSETFROM:+0100
TZOFFSETTO:+0000
TZNAME:Europe/London GMT
END:STANDARD
BEGIN:STANDARD
DTSTART:20251026T010000
RDATE:20260329T020000
TZOFFSETFROM:+0100
TZOFFSETTO:+0000
TZNAME:Europe/London GMT
END:STANDARD
BEGIN:STANDARD
DTSTART:20261025T010000
RDATE:20270328T020000
TZOFFSETFROM:+0100
TZOFFSETTO:+0000
TZNAME:Europe/London GMT
END:STANDARD
BEGIN:STANDARD
DTSTART:20271031T010000
RDATE:20280326T020000
TZOFFSETFROM:+0100
TZOFFSETTO:+0000
TZNAME:Europe/London GMT
END:STANDARD
BEGIN:STANDARD
DTSTART:20281029T010000
RDATE:20290325T020000
TZOFFSETFROM:+0100
TZOFFSETTO:+0000
TZNAME:Europe/London GMT
END:STANDARD
BEGIN:STANDARD
DTSTART:20291028T010000
RDATE:20300331T020000
TZOFFSETFROM:+0100
TZOFFSETTO:+0000
TZNAME:Europe/London GMT
END:STANDARD
BEGIN:STANDARD
DTSTART:20301027T010000
RDATE:20310330T020000
TZOFFSETFROM:+0100
TZOFFSETTO:+0000
TZNAME:Europe/London GMT
END:STANDARD
BEGIN:DAYLIGHT
DTSTART:20220908T140000
RDATE:20221030T010000
TZOFFSETFROM:+0000
TZOFFSETTO:+0100
TZNAME:Europe/London BST
END:DAYLIGHT
BEGIN:DAYLIGHT
DTSTART:20230326T020000
RDATE:20231029T010000
TZOFFSETFROM:+0000
TZOFFSETTO:+0100
TZNAME:Europe/London BST
END:DAYLIGHT
BEGIN:DAYLIGHT
DTSTART:20240331T020000
RDATE:20241027T010000
TZOFFSETFROM:+0000
TZOFFSETTO:+0100
TZNAME:Europe/London BST
END:DAYLIGHT
BEGIN:DAYLIGHT
DTSTART:20250330T020000
RDATE:20251026T010000
TZOFFSETFROM:+0000
TZOFFSETTO:+0100
TZNAME:Europe/London BST
END:DAYLIGHT
BEGIN:DAYLIGHT
DTSTART:20260329T020000
RDATE:20261025T010000
TZOFFSETFROM:+0000
TZOFFSETTO:+0100
TZNAME:Europe/London BST
END:DAYLIGHT
BEGIN:DAYLIGHT
DTSTART:20270328T020000
RDATE:20271031T010000
TZOFFSETFROM:+0000
TZOFFSETTO:+0100
TZNAME:Europe/London BST
END:DAYLIGHT
BEGIN:DAYLIGHT
DTSTART:20280326T020000
RDATE:20281029T010000
TZOFFSETFROM:+0000
TZOFFSETTO:+0100
TZNAME:Europe/London BST
END:DAYLIGHT
BEGIN:DAYLIGHT
DTSTART:20290325T020000
RDATE:20291028T010000
TZOFFSETFROM:+0000
TZOFFSETTO:+0100
TZNAME:Europe/London BST
END:DAYLIGHT
BEGIN:DAYLIGHT
DTSTART:20300331T020000
RDATE:20301027T010000
TZOFFSETFROM:+0000
TZOFFSETTO:+0100
TZNAME:Europe/London BST
END:DAYLIGHT
END:VTIMEZONE
BEGIN:VEVENT
UID:b48b9cabf4cfbbbfdf5ff9cb01e672a0
CATEGORIES:West
CREATED:20230728T114025
SUMMARY:Monthly 'Get Together'
LOCATION:St Mary's\, Stoughton\, SS Mary &amp; Gabriel\, South Harting
URL;VALUE=URI:https://www.scacr.org/news-events/calendar/1159/monthly-get-together?tmpl=c
 omponent
DESCRIPTION:<p>The opportunity to ring at two towers in one afternoon!&nbsp; Starting a
 t St Mary's STOUGHTON from 2 PM - 3 15 then over to SS Mary and Gabriel, SO
 UTH HARTING&nbsp; for tea followed by ringing until about 5.15.&nbsp; &nbsp
 ;A raffle in aid of BRF will also take place and any donations of prizes wo
 uld be most welcome! Look forward to seeing you there!&nbsp; Names for teas
  please by the end of day Wednesday 6th September to <span id="cloak34126c0
 010d549f38389ac05a650cae8">This email address is being protected from spamb
 ots. You need JavaScript enabled to view it.</span><script type='text/javas
 cript'>
				document.getElementById('cloak34126c0010d549f38389ac05a650cae8'
 ).innerHTML = '';
				var prefix = '&#109;a' + 'i&#108;' + '&#116;o';
				v
 ar path = 'hr' + 'ef' + '=';
				var addy34126c0010d549f38389ac05a650cae8 =
  's&#101;c-w&#101;st' + '&#64;';
				addy34126c0010d549f38389ac05a650cae8 =
  addy34126c0010d549f38389ac05a650cae8 + 'sc&#97;cr' + '&#46;' + '&#111;rg';
 
				var addy_text34126c0010d549f38389ac05a650cae8 = 's&#101;c-w&#101;st' +
  '&#64;' + 'sc&#97;cr' + '&#46;' + '&#111;rg';document.getElementById('cloa
 k34126c0010d549f38389ac05a650cae8').innerHTML += '<a ' + path + '\'' + pref
 ix + ':' + addy34126c0010d549f38389ac05a650cae8 + '\'>'+addy_text34126c0010
 d549f38389ac05a650cae8+'<\/a>';
		</script></p> <a href="https://www.scacr.
 org/news-events/calendar/1159/monthly-get-together?tmpl=component">This eve
 nt was imported from: https://www.scacr.org/news-events/calendar/1159/month
 ly-get-together?tmpl=component</a>CONTACT:This email address is being protected from spambots. You need JavaScript enabled to view it.
				document.getElementById('cloak9206e0720a14bfd86a2d6d8e6e254e36').innerHTML = '';
				var prefix = '&#109;a' + 'i&#108;' + '&#116;o';
				var path = 'hr' + 'ef' + '=';
				var addy9206e0720a14bfd86a2d6d8e6e254e36 = 's&#101;c-w&#101;st' + '&#64;';
				addy9206e0720a14bfd86a2d6d8e6e254e36 = addy9206e0720a14bfd86a2d6d8e6e254e36 + 'sc&#97;cr' + '&#46;' + '&#111;rg';
				var addy_text9206e0720a14bfd86a2d6d8e6e254e36 = 's&#101;c-w&#101;st' + '&#64;' + 'sc&#97;cr' + '&#46;' + '&#111;rg';document.getElementById('cloak9206e0720a14bfd86a2d6d8e6e254e36').innerHTML += '<a ' + path + '\'' + prefix + ':' + addy9206e0720a14bfd86a2d6d8e6e254e36 + '\'>'+addy_text9206e0720a14bfd86a2d6d8e6e254e36+'';
		
DTSTAMP:20260421T044048
DTSTART;TZID=Europe/London:20230909T140000
DTEND;TZID=Europe/London:20230909T171500
SEQUENCE:0
TRANSP:OPAQUE
END:VEVENT
END:VCALENDAR