BEGIN:VCALENDAR
VERSION:2.0
PRODID:-//jEvents 2.0 for Joomla//EN
CALSCALE:GREGORIAN
METHOD:PUBLISH
BEGIN:VTIMEZONE
TZID:Europe/London
BEGIN:STANDARD
DTSTART:20221030T010000
RDATE:20230326T020000
TZOFFSETFROM:+0100
TZOFFSETTO:+0000
TZNAME:Europe/London GMT
END:STANDARD
BEGIN:STANDARD
DTSTART:20231029T010000
RDATE:20240331T020000
TZOFFSETFROM:+0100
TZOFFSETTO:+0000
TZNAME:Europe/London GMT
END:STANDARD
BEGIN:STANDARD
DTSTART:20241027T010000
RDATE:20250330T020000
TZOFFSETFROM:+0100
TZOFFSETTO:+0000
TZNAME:Europe/London GMT
END:STANDARD
BEGIN:STANDARD
DTSTART:20251026T010000
RDATE:20260329T020000
TZOFFSETFROM:+0100
TZOFFSETTO:+0000
TZNAME:Europe/London GMT
END:STANDARD
BEGIN:STANDARD
DTSTART:20261025T010000
RDATE:20270328T020000
TZOFFSETFROM:+0100
TZOFFSETTO:+0000
TZNAME:Europe/London GMT
END:STANDARD
BEGIN:STANDARD
DTSTART:20271031T010000
RDATE:20280326T020000
TZOFFSETFROM:+0100
TZOFFSETTO:+0000
TZNAME:Europe/London GMT
END:STANDARD
BEGIN:STANDARD
DTSTART:20281029T010000
RDATE:20290325T020000
TZOFFSETFROM:+0100
TZOFFSETTO:+0000
TZNAME:Europe/London GMT
END:STANDARD
BEGIN:STANDARD
DTSTART:20291028T010000
RDATE:20300331T020000
TZOFFSETFROM:+0100
TZOFFSETTO:+0000
TZNAME:Europe/London GMT
END:STANDARD
BEGIN:STANDARD
DTSTART:20301027T010000
RDATE:20310330T020000
TZOFFSETFROM:+0100
TZOFFSETTO:+0000
TZNAME:Europe/London GMT
END:STANDARD
BEGIN:DAYLIGHT
DTSTART:20220804T103000
RDATE:20221030T010000
TZOFFSETFROM:+0000
TZOFFSETTO:+0100
TZNAME:Europe/London BST
END:DAYLIGHT
BEGIN:DAYLIGHT
DTSTART:20230326T020000
RDATE:20231029T010000
TZOFFSETFROM:+0000
TZOFFSETTO:+0100
TZNAME:Europe/London BST
END:DAYLIGHT
BEGIN:DAYLIGHT
DTSTART:20240331T020000
RDATE:20241027T010000
TZOFFSETFROM:+0000
TZOFFSETTO:+0100
TZNAME:Europe/London BST
END:DAYLIGHT
BEGIN:DAYLIGHT
DTSTART:20250330T020000
RDATE:20251026T010000
TZOFFSETFROM:+0000
TZOFFSETTO:+0100
TZNAME:Europe/London BST
END:DAYLIGHT
BEGIN:DAYLIGHT
DTSTART:20260329T020000
RDATE:20261025T010000
TZOFFSETFROM:+0000
TZOFFSETTO:+0100
TZNAME:Europe/London BST
END:DAYLIGHT
BEGIN:DAYLIGHT
DTSTART:20270328T020000
RDATE:20271031T010000
TZOFFSETFROM:+0000
TZOFFSETTO:+0100
TZNAME:Europe/London BST
END:DAYLIGHT
BEGIN:DAYLIGHT
DTSTART:20280326T020000
RDATE:20281029T010000
TZOFFSETFROM:+0000
TZOFFSETTO:+0100
TZNAME:Europe/London BST
END:DAYLIGHT
BEGIN:DAYLIGHT
DTSTART:20290325T020000
RDATE:20291028T010000
TZOFFSETFROM:+0000
TZOFFSETTO:+0100
TZNAME:Europe/London BST
END:DAYLIGHT
BEGIN:DAYLIGHT
DTSTART:20300331T020000
RDATE:20301027T010000
TZOFFSETFROM:+0000
TZOFFSETTO:+0100
TZNAME:Europe/London BST
END:DAYLIGHT
END:VTIMEZONE
BEGIN:VEVENT
UID:2ab3c47929c7fb2ab347e0067e81b956
CATEGORIES:North
CREATED:20230620T222608
SUMMARY:Ringing with walk to lunch
LOCATION:Bolney
URL;VALUE=URI:https://www.scacr.org/news-events/calendar/1155/ringing-with-walk-to-lunch?
 tmpl=component
DESCRIPTION:Join us for ringing at Bolney in the morning, followed by a short walk (or 
 drive or cycle) to Bolney Wine Estate (https://bolneywineestate.com/visit-u
 s) for lunch and a vineyard tour (please book your own table for lunch and 
 place on the tour). \n10.30-12.30 - ringing at St Mary Magdelene, Bolney (t
 owers/districts/north/152-bolney-st-mary-magdalene) (8, 13 cwt, ground floo
 r, toilet available)\n12.30 - walk to Bolney Wine Estate (Foxhole Lane, RH1
 7 5NB), approx 1 mile\nfrom approx 1 pm - lunch at the vineyard cafe\nRingi
 ng will be rounds onwards - all welcome! If you haven't had much experience
  ringing at other towers, you might like to come with your teacher/helper. 
  \nParking for the church is next to the cricket field, accessed via Church
  Lane, off the A272.\nThanks to Julie for organising this event.\n \n This 
 event was imported from: https://www.scacr.org/news-events/calendar/1155/ri
 nging-with-walk-to-lunch?tmpl=component (https://www.scacr.org/news-events/
 calendar/1155/ringing-with-walk-to-lunch?tmpl=component)
X-ALT-DESC;FMTTYPE=text/html:<p>Join us for ringing at Bolney in the morning, followed by a short walk (
 or drive or cycle) to <a href="https://bolneywineestate.com/visit-us">Bolne
 y Wine Estate</a> for lunch and a vineyard tour (please book your own table
  for lunch and place on the tour).&nbsp;</p><p>10.30-12.30 - ringing at <a 
 href="https://www.scacr.org/towers/districts/north/152-bolney-st-mary-magda
 lene">St Mary Magdelene, Bolney</a> (8, 13 cwt, ground floor, toilet availa
 ble)<br />12.30 - walk to Bolney Wine Estate (Foxhole Lane, RH17 5NB), appr
 ox 1 mile<br />from approx 1 pm - lunch at the vineyard cafe</p><p>Ringing 
 will be rounds onwards - all welcome! If you haven't had much experience ri
 nging at other towers, you might like to come with your teacher/helper.&nbs
 p;&nbsp;</p><p>Parking for the church is next to the cricket field, accesse
 d via Church Lane, off the A272.</p><p>Thanks to Julie for organising this 
 event.</p><p>&nbsp;</p> <a href="https://www.scacr.org/news-events/calendar
 /1155/ringing-with-walk-to-lunch?tmpl=component">This event was imported fr
 om: https://www.scacr.org/news-events/calendar/1155/ringing-with-walk-to-lu
 nch?tmpl=component</a>CONTACT:This email address is being protected from spambots. You need JavaScript enabled to view it.
				document.getElementById('cloak47f9d6bdd960f6d1a3064b926b678d94').innerHTML = '';
				var prefix = '&#109;a' + 'i&#108;' + '&#116;o';
				var path = 'hr' + 'ef' + '=';
				var addy47f9d6bdd960f6d1a3064b926b678d94 = 's&#101;c-n&#111;rth' + '&#64;';
				addy47f9d6bdd960f6d1a3064b926b678d94 = addy47f9d6bdd960f6d1a3064b926b678d94 + 'sc&#97;cr' + '&#46;' + '&#111;rg';
				var addy_text47f9d6bdd960f6d1a3064b926b678d94 = 's&#101;c-n&#111;rth' + '&#64;' + 'sc&#97;cr' + '&#46;' + '&#111;rg';document.getElementById('cloak47f9d6bdd960f6d1a3064b926b678d94').innerHTML += '<a ' + path + '\'' + prefix + ':' + addy47f9d6bdd960f6d1a3064b926b678d94 + '\'>'+addy_text47f9d6bdd960f6d1a3064b926b678d94+'';
		
DTSTAMP:20260420T065131
DTSTART;TZID=Europe/London:20230805T103000
DTEND;TZID=Europe/London:20230805T140000
SEQUENCE:0
TRANSP:OPAQUE
END:VEVENT
END:VCALENDAR