BEGIN:VCALENDAR
VERSION:2.0
PRODID:-//jEvents 2.0 for Joomla//EN
CALSCALE:GREGORIAN
METHOD:PUBLISH
BEGIN:VTIMEZONE
TZID:Europe/London
BEGIN:STANDARD
DTSTART:20231029T010000
RDATE:20240331T020000
TZOFFSETFROM:+0100
TZOFFSETTO:+0000
TZNAME:Europe/London GMT
END:STANDARD
BEGIN:STANDARD
DTSTART:20241027T010000
RDATE:20250330T020000
TZOFFSETFROM:+0100
TZOFFSETTO:+0000
TZNAME:Europe/London GMT
END:STANDARD
BEGIN:STANDARD
DTSTART:20251026T010000
RDATE:20260329T020000
TZOFFSETFROM:+0100
TZOFFSETTO:+0000
TZNAME:Europe/London GMT
END:STANDARD
BEGIN:STANDARD
DTSTART:20261025T010000
RDATE:20270328T020000
TZOFFSETFROM:+0100
TZOFFSETTO:+0000
TZNAME:Europe/London GMT
END:STANDARD
BEGIN:STANDARD
DTSTART:20271031T010000
RDATE:20280326T020000
TZOFFSETFROM:+0100
TZOFFSETTO:+0000
TZNAME:Europe/London GMT
END:STANDARD
BEGIN:STANDARD
DTSTART:20281029T010000
RDATE:20290325T020000
TZOFFSETFROM:+0100
TZOFFSETTO:+0000
TZNAME:Europe/London GMT
END:STANDARD
BEGIN:STANDARD
DTSTART:20291028T010000
RDATE:20300331T020000
TZOFFSETFROM:+0100
TZOFFSETTO:+0000
TZNAME:Europe/London GMT
END:STANDARD
BEGIN:STANDARD
DTSTART:20301027T010000
RDATE:20310330T020000
TZOFFSETFROM:+0100
TZOFFSETTO:+0000
TZNAME:Europe/London GMT
END:STANDARD
BEGIN:DAYLIGHT
DTSTART:20230512T000000
RDATE:20231029T010000
TZOFFSETFROM:+0000
TZOFFSETTO:+0100
TZNAME:Europe/London BST
END:DAYLIGHT
BEGIN:DAYLIGHT
DTSTART:20240331T020000
RDATE:20241027T010000
TZOFFSETFROM:+0000
TZOFFSETTO:+0100
TZNAME:Europe/London BST
END:DAYLIGHT
BEGIN:DAYLIGHT
DTSTART:20250330T020000
RDATE:20251026T010000
TZOFFSETFROM:+0000
TZOFFSETTO:+0100
TZNAME:Europe/London BST
END:DAYLIGHT
BEGIN:DAYLIGHT
DTSTART:20260329T020000
RDATE:20261025T010000
TZOFFSETFROM:+0000
TZOFFSETTO:+0100
TZNAME:Europe/London BST
END:DAYLIGHT
BEGIN:DAYLIGHT
DTSTART:20270328T020000
RDATE:20271031T010000
TZOFFSETFROM:+0000
TZOFFSETTO:+0100
TZNAME:Europe/London BST
END:DAYLIGHT
BEGIN:DAYLIGHT
DTSTART:20280326T020000
RDATE:20281029T010000
TZOFFSETFROM:+0000
TZOFFSETTO:+0100
TZNAME:Europe/London BST
END:DAYLIGHT
BEGIN:DAYLIGHT
DTSTART:20290325T020000
RDATE:20291028T010000
TZOFFSETFROM:+0000
TZOFFSETTO:+0100
TZNAME:Europe/London BST
END:DAYLIGHT
BEGIN:DAYLIGHT
DTSTART:20300331T020000
RDATE:20301027T010000
TZOFFSETFROM:+0000
TZOFFSETTO:+0100
TZNAME:Europe/London BST
END:DAYLIGHT
END:VTIMEZONE
BEGIN:VEVENT
UID:97eea3ccea42854972ba06cf75d3d4f5
CATEGORIES:Other Event
CREATED:20230611T204659
SUMMARY:Bell Sunday
LOCATION:Anywhere!
URL;VALUE=URI:https://www.scacr.org/news-events/calendar/1152/bell-sunday?tmpl=component
DESCRIPTION:<p>A day where the contribution of bells and bellringers to the life of the
  church is recognised. A wealth of supporting resources, including hymns / 
 songs / music, Bible readings, general readings and poetry, is available fr
 om <a href="https://www.bellsunday.org">www.bellsunday.org</a>. You can als
 o add your church to the map of those participating.&nbsp;</p><p>Have a cha
 t with your clergy in advance to plan the day! Previously, some ringers hav
 e ring handbells as part of the service, contributed readings, etc.</p> <a 
 href="https://www.scacr.org/news-events/calendar/1152/bell-sunday?tmpl=comp
 onent">This event was imported from: https://www.scacr.org/news-events/cale
 ndar/1152/bell-sunday?tmpl=component</a>CONTACT:This email address is being protected from spambots. You need JavaScript enabled to view it.
				document.getElementById('cloakcb8891febee401db8e824dd5037ae1d8').innerHTML = '';
				var prefix = '&#109;a' + 'i&#108;' + '&#116;o';
				var path = 'hr' + 'ef' + '=';
				var addycb8891febee401db8e824dd5037ae1d8 = 'pr&#111;' + '&#64;';
				addycb8891febee401db8e824dd5037ae1d8 = addycb8891febee401db8e824dd5037ae1d8 + 'cccbr' + '&#46;' + '&#111;rg' + '&#46;' + '&#117;k';
				var addy_textcb8891febee401db8e824dd5037ae1d8 = 'pr&#111;' + '&#64;' + 'cccbr' + '&#46;' + '&#111;rg' + '&#46;' + '&#117;k';document.getElementById('cloakcb8891febee401db8e824dd5037ae1d8').innerHTML += '<a ' + path + '\'' + prefix + ':' + addycb8891febee401db8e824dd5037ae1d8 + '\'>'+addy_textcb8891febee401db8e824dd5037ae1d8+'';
		
DTSTAMP:20260422T113711
DTSTART;TZID=Europe/London;VALUE=DATE:20240512
DTEND;TZID=Europe/London;VALUE=DATE:20240513
SEQUENCE:0
TRANSP:OPAQUE
END:VEVENT
END:VCALENDAR