BEGIN:VCALENDAR
VERSION:2.0
PRODID:-//jEvents 2.0 for Joomla//EN
CALSCALE:GREGORIAN
METHOD:PUBLISH
BEGIN:VTIMEZONE
TZID:Europe/London
BEGIN:STANDARD
DTSTART:20221030T010000
RDATE:20230326T020000
TZOFFSETFROM:+0100
TZOFFSETTO:+0000
TZNAME:Europe/London GMT
END:STANDARD
BEGIN:STANDARD
DTSTART:20231029T010000
RDATE:20240331T020000
TZOFFSETFROM:+0100
TZOFFSETTO:+0000
TZNAME:Europe/London GMT
END:STANDARD
BEGIN:STANDARD
DTSTART:20241027T010000
RDATE:20250330T020000
TZOFFSETFROM:+0100
TZOFFSETTO:+0000
TZNAME:Europe/London GMT
END:STANDARD
BEGIN:STANDARD
DTSTART:20251026T010000
RDATE:20260329T020000
TZOFFSETFROM:+0100
TZOFFSETTO:+0000
TZNAME:Europe/London GMT
END:STANDARD
BEGIN:STANDARD
DTSTART:20261025T010000
RDATE:20270328T020000
TZOFFSETFROM:+0100
TZOFFSETTO:+0000
TZNAME:Europe/London GMT
END:STANDARD
BEGIN:STANDARD
DTSTART:20271031T010000
RDATE:20280326T020000
TZOFFSETFROM:+0100
TZOFFSETTO:+0000
TZNAME:Europe/London GMT
END:STANDARD
BEGIN:STANDARD
DTSTART:20281029T010000
RDATE:20290325T020000
TZOFFSETFROM:+0100
TZOFFSETTO:+0000
TZNAME:Europe/London GMT
END:STANDARD
BEGIN:STANDARD
DTSTART:20291028T010000
RDATE:20300331T020000
TZOFFSETFROM:+0100
TZOFFSETTO:+0000
TZNAME:Europe/London GMT
END:STANDARD
BEGIN:STANDARD
DTSTART:20301027T010000
RDATE:20310330T020000
TZOFFSETFROM:+0100
TZOFFSETTO:+0000
TZNAME:Europe/London GMT
END:STANDARD
BEGIN:DAYLIGHT
DTSTART:20220825T101500
RDATE:20221030T010000
TZOFFSETFROM:+0000
TZOFFSETTO:+0100
TZNAME:Europe/London BST
END:DAYLIGHT
BEGIN:DAYLIGHT
DTSTART:20230326T020000
RDATE:20231029T010000
TZOFFSETFROM:+0000
TZOFFSETTO:+0100
TZNAME:Europe/London BST
END:DAYLIGHT
BEGIN:DAYLIGHT
DTSTART:20240331T020000
RDATE:20241027T010000
TZOFFSETFROM:+0000
TZOFFSETTO:+0100
TZNAME:Europe/London BST
END:DAYLIGHT
BEGIN:DAYLIGHT
DTSTART:20250330T020000
RDATE:20251026T010000
TZOFFSETFROM:+0000
TZOFFSETTO:+0100
TZNAME:Europe/London BST
END:DAYLIGHT
BEGIN:DAYLIGHT
DTSTART:20260329T020000
RDATE:20261025T010000
TZOFFSETFROM:+0000
TZOFFSETTO:+0100
TZNAME:Europe/London BST
END:DAYLIGHT
BEGIN:DAYLIGHT
DTSTART:20270328T020000
RDATE:20271031T010000
TZOFFSETFROM:+0000
TZOFFSETTO:+0100
TZNAME:Europe/London BST
END:DAYLIGHT
BEGIN:DAYLIGHT
DTSTART:20280326T020000
RDATE:20281029T010000
TZOFFSETFROM:+0000
TZOFFSETTO:+0100
TZNAME:Europe/London BST
END:DAYLIGHT
BEGIN:DAYLIGHT
DTSTART:20290325T020000
RDATE:20291028T010000
TZOFFSETFROM:+0000
TZOFFSETTO:+0100
TZNAME:Europe/London BST
END:DAYLIGHT
BEGIN:DAYLIGHT
DTSTART:20300331T020000
RDATE:20301027T010000
TZOFFSETFROM:+0000
TZOFFSETTO:+0100
TZNAME:Europe/London BST
END:DAYLIGHT
END:VTIMEZONE
BEGIN:VEVENT
UID:7ddae5236e49efbd31adfeca20a5a1e1
CATEGORIES:West
CREATED:20230610T114042
SUMMARY:Surprise Minor Practice
LOCATION:St Mary's Church\, Walberton
URL;VALUE=URI:https://www.scacr.org/news-events/calendar/1145/surprise-minor-practice?tmp
 l=component
DESCRIPTION:<p>This is a regular monthly event giving ringers the opportunity to ring&n
 bsp; methods such as Plain courses and touches of Cambridge and Norwich and
  Plain courses of Beverley, London, Carlisle and Pure Treble Bob Hunt!!&nbs
 p; &nbsp;Refreshments are provided.&nbsp; Please contact <span id="cloak70f
 f64ab9e5496733764b310ea5d91dc">This email address is being protected from s
 pambots. You need JavaScript enabled to view it.</span><script type='text/j
 avascript'>
				document.getElementById('cloak70ff64ab9e5496733764b310ea5d9
 1dc').innerHTML = '';
				var prefix = '&#109;a' + 'i&#108;' + '&#116;o';
	
 			var path = 'hr' + 'ef' + '=';
				var addy70ff64ab9e5496733764b310ea5d91
 dc = 's&#101;c-w&#101;st' + '&#64;';
				addy70ff64ab9e5496733764b310ea5d91
 dc = addy70ff64ab9e5496733764b310ea5d91dc + 'sc&#97;cr' + '&#46;' + '&#111;
 rg';
				var addy_text70ff64ab9e5496733764b310ea5d91dc = 's&#101;c-w&#101;s
 t' + '&#64;' + 'sc&#97;cr' + '&#46;' + '&#111;rg';document.getElementById('
 cloak70ff64ab9e5496733764b310ea5d91dc').innerHTML += '<a ' + path + '\'' + 
 prefix + ':' + addy70ff64ab9e5496733764b310ea5d91dc + '\'>'+addy_text70ff64
 ab9e5496733764b310ea5d91dc+'<\/a>';
		</script>&nbsp;if you would like refr
 eshments.</p><p>The 'method of the month' for July and August will be 'York
  Surprise Minor'.&nbsp; Copies of the blue line will be available a the pra
 ctice should you not have the opportunity to look up beforehand!</p> <a hre
 f="https://www.scacr.org/news-events/calendar/1145/surprise-minor-practice?
 tmpl=component">This event was imported from: https://www.scacr.org/news-ev
 ents/calendar/1145/surprise-minor-practice?tmpl=component</a>CONTACT:This email address is being protected from spambots. You need JavaScript enabled to view it.
				document.getElementById('cloak931b83eec4ccd02688f95abe0fa967aa').innerHTML = '';
				var prefix = '&#109;a' + 'i&#108;' + '&#116;o';
				var path = 'hr' + 'ef' + '=';
				var addy931b83eec4ccd02688f95abe0fa967aa = 's&#101;c-w&#101;st' + '&#64;';
				addy931b83eec4ccd02688f95abe0fa967aa = addy931b83eec4ccd02688f95abe0fa967aa + 'sc&#97;cr' + '&#46;' + '&#111;rg';
				var addy_text931b83eec4ccd02688f95abe0fa967aa = 's&#101;c-w&#101;st' + '&#64;' + 'sc&#97;cr' + '&#46;' + '&#111;rg';document.getElementById('cloak931b83eec4ccd02688f95abe0fa967aa').innerHTML += '<a ' + path + '\'' + prefix + ':' + addy931b83eec4ccd02688f95abe0fa967aa + '\'>'+addy_text931b83eec4ccd02688f95abe0fa967aa+'';
		
DTSTAMP:20260421T192849
DTSTART;TZID=Europe/London:20230826T101500
DTEND;TZID=Europe/London:20230826T120000
SEQUENCE:0
TRANSP:OPAQUE
END:VEVENT
END:VCALENDAR