BEGIN:VCALENDAR
VERSION:2.0
PRODID:-//jEvents 2.0 for Joomla//EN
CALSCALE:GREGORIAN
METHOD:PUBLISH
BEGIN:VTIMEZONE
TZID:Europe/London
BEGIN:STANDARD
DTSTART:20221030T010000
RDATE:20230326T020000
TZOFFSETFROM:+0100
TZOFFSETTO:+0000
TZNAME:Europe/London GMT
END:STANDARD
BEGIN:STANDARD
DTSTART:20231029T010000
RDATE:20240331T020000
TZOFFSETFROM:+0100
TZOFFSETTO:+0000
TZNAME:Europe/London GMT
END:STANDARD
BEGIN:STANDARD
DTSTART:20241027T010000
RDATE:20250330T020000
TZOFFSETFROM:+0100
TZOFFSETTO:+0000
TZNAME:Europe/London GMT
END:STANDARD
BEGIN:STANDARD
DTSTART:20251026T010000
RDATE:20260329T020000
TZOFFSETFROM:+0100
TZOFFSETTO:+0000
TZNAME:Europe/London GMT
END:STANDARD
BEGIN:STANDARD
DTSTART:20261025T010000
RDATE:20270328T020000
TZOFFSETFROM:+0100
TZOFFSETTO:+0000
TZNAME:Europe/London GMT
END:STANDARD
BEGIN:STANDARD
DTSTART:20271031T010000
RDATE:20280326T020000
TZOFFSETFROM:+0100
TZOFFSETTO:+0000
TZNAME:Europe/London GMT
END:STANDARD
BEGIN:STANDARD
DTSTART:20281029T010000
RDATE:20290325T020000
TZOFFSETFROM:+0100
TZOFFSETTO:+0000
TZNAME:Europe/London GMT
END:STANDARD
BEGIN:STANDARD
DTSTART:20291028T010000
RDATE:20300331T020000
TZOFFSETFROM:+0100
TZOFFSETTO:+0000
TZNAME:Europe/London GMT
END:STANDARD
BEGIN:STANDARD
DTSTART:20301027T010000
RDATE:20310330T020000
TZOFFSETFROM:+0100
TZOFFSETTO:+0000
TZNAME:Europe/London GMT
END:STANDARD
BEGIN:DAYLIGHT
DTSTART:20220915T093000
RDATE:20221030T010000
TZOFFSETFROM:+0000
TZOFFSETTO:+0100
TZNAME:Europe/London BST
END:DAYLIGHT
BEGIN:DAYLIGHT
DTSTART:20230326T020000
RDATE:20231029T010000
TZOFFSETFROM:+0000
TZOFFSETTO:+0100
TZNAME:Europe/London BST
END:DAYLIGHT
BEGIN:DAYLIGHT
DTSTART:20240331T020000
RDATE:20241027T010000
TZOFFSETFROM:+0000
TZOFFSETTO:+0100
TZNAME:Europe/London BST
END:DAYLIGHT
BEGIN:DAYLIGHT
DTSTART:20250330T020000
RDATE:20251026T010000
TZOFFSETFROM:+0000
TZOFFSETTO:+0100
TZNAME:Europe/London BST
END:DAYLIGHT
BEGIN:DAYLIGHT
DTSTART:20260329T020000
RDATE:20261025T010000
TZOFFSETFROM:+0000
TZOFFSETTO:+0100
TZNAME:Europe/London BST
END:DAYLIGHT
BEGIN:DAYLIGHT
DTSTART:20270328T020000
RDATE:20271031T010000
TZOFFSETFROM:+0000
TZOFFSETTO:+0100
TZNAME:Europe/London BST
END:DAYLIGHT
BEGIN:DAYLIGHT
DTSTART:20280326T020000
RDATE:20281029T010000
TZOFFSETFROM:+0000
TZOFFSETTO:+0100
TZNAME:Europe/London BST
END:DAYLIGHT
BEGIN:DAYLIGHT
DTSTART:20290325T020000
RDATE:20291028T010000
TZOFFSETFROM:+0000
TZOFFSETTO:+0100
TZNAME:Europe/London BST
END:DAYLIGHT
BEGIN:DAYLIGHT
DTSTART:20300331T020000
RDATE:20301027T010000
TZOFFSETFROM:+0000
TZOFFSETTO:+0100
TZNAME:Europe/London BST
END:DAYLIGHT
END:VTIMEZONE
BEGIN:VEVENT
UID:1139f3f292ddfd0cba7c3e548d72cec6
CATEGORIES:South
CREATED:20230530T105612
SUMMARY:Bell Maintenance
LOCATION:St Peters Brighton
URL;VALUE=URI:https://www.scacr.org/news-events/calendar/1141/bell-maintenance?tmpl=compo
 nent
DESCRIPTION:The details are as follows:\n\nBell Maintenance Course\n0930 - 1230 pm.\nSa
 turday 16th September 2023\nSt Peter's, York Place, Brighton\nMust bring ov
 eralls, steel toe cap boots and a bump cap\nPlease contact Rob Lane, This e
 mail address is being protected from spambots. You need JavaScript enabled 
 to view it.
				document.getElementById('cloakb766a5fca5cbd6a136b5e63432c1f
 459').innerHTML = '';
				var prefix = '&#109;a' + 'i&#108;' + '&#116;o';
	
 			var path = 'hr' + 'ef' + '=';
				var addyb766a5fca5cbd6a136b5e63432c1f4
 59 = 'r&#111;b' + '&#64;';
				addyb766a5fca5cbd6a136b5e63432c1f459 = addyb
 766a5fca5cbd6a136b5e63432c1f459 + 'rjl&#97;n&#101;' + '&#46;' + 'c&#111;' +
  '&#46;' + '&#117;k';
				var addy_textb766a5fca5cbd6a136b5e63432c1f459 = '
 r&#111;b' + '&#64;' + 'rjl&#97;n&#101;' + '&#46;' + 'c&#111;' + '&#46;' + '
 &#117;k';document.getElementById('cloakb766a5fca5cbd6a136b5e63432c1f459').i
 nnerHTML += '<a ' + path + '\'' + prefix + ':' + addyb766a5fca5cbd6a136b5e6
 3432c1f459 + '\'>'+addy_textb766a5fca5cbd6a136b5e63432c1f459+'';
		, if you
  are wishing to attend or you need further information\n \n This event was 
 imported from: https://www.scacr.org/news-events/calendar/1141/bell-mainten
 ance?tmpl=component (https://www.scacr.org/news-events/calendar/1141/bell-m
 aintenance?tmpl=component)
X-ALT-DESC;FMTTYPE=text/html:<p>The details are as follows:<br /><br />Bell Maintenance Course</p><p>093
 0 - 1230 pm.</p><p>Saturday 16th September 2023</p><p>St Peter's, York Plac
 e, Brighton</p><p>Must bring overalls, steel toe cap boots and a bump cap</
 p><p>Please contact Rob Lane,&nbsp;<span id="cloakb766a5fca5cbd6a136b5e6343
 2c1f459">This email address is being protected from spambots. You need Java
 Script enabled to view it.</span><script type='text/javascript'>
				docume
 nt.getElementById('cloakb766a5fca5cbd6a136b5e63432c1f459').innerHTML = '';

 				var prefix = '&#109;a' + 'i&#108;' + '&#116;o';
				var path = 'hr' + '
 ef' + '=';
				var addyb766a5fca5cbd6a136b5e63432c1f459 = 'r&#111;b' + '&#6
 4;';
				addyb766a5fca5cbd6a136b5e63432c1f459 = addyb766a5fca5cbd6a136b5e63
 432c1f459 + 'rjl&#97;n&#101;' + '&#46;' + 'c&#111;' + '&#46;' + '&#117;k';

 				var addy_textb766a5fca5cbd6a136b5e63432c1f459 = 'r&#111;b' + '&#64;' + 
 'rjl&#97;n&#101;' + '&#46;' + 'c&#111;' + '&#46;' + '&#117;k';document.getE
 lementById('cloakb766a5fca5cbd6a136b5e63432c1f459').innerHTML += '<a ' + pa
 th + '\'' + prefix + ':' + addyb766a5fca5cbd6a136b5e63432c1f459 + '\'>'+add
 y_textb766a5fca5cbd6a136b5e63432c1f459+'<\/a>';
		</script>, if you are wis
 hing to attend or you need further information</p><p>&nbsp;</p> <a href="ht
 tps://www.scacr.org/news-events/calendar/1141/bell-maintenance?tmpl=compone
 nt">This event was imported from: https://www.scacr.org/news-events/calenda
 r/1141/bell-maintenance?tmpl=component</a>CONTACT:Rob Lane, This email address is being protected from spambots. You need JavaScript enabled to view it.
				document.getElementById('cloak9b12c868c3e42370ac582a2ffeb261c3').innerHTML = '';
				var prefix = '&#109;a' + 'i&#108;' + '&#116;o';
				var path = 'hr' + 'ef' + '=';
				var addy9b12c868c3e42370ac582a2ffeb261c3 = 'r&#111;b' + '&#64;';
				addy9b12c868c3e42370ac582a2ffeb261c3 = addy9b12c868c3e42370ac582a2ffeb261c3 + 'rjl&#97;n&#101;' + '&#46;' + 'c&#111;' + '&#46;' + '&#117;k';
				var addy_text9b12c868c3e42370ac582a2ffeb261c3 = 'r&#111;b' + '&#64;' + 'rjl&#97;n&#101;' + '&#46;' + 'c&#111;' + '&#46;' + '&#117;k';document.getElementById('cloak9b12c868c3e42370ac582a2ffeb261c3').innerHTML += '<a ' + path + '\'' + prefix + ':' + addy9b12c868c3e42370ac582a2ffeb261c3 + '\'>'+addy_text9b12c868c3e42370ac582a2ffeb261c3+'';
		, BRF Secretary and CC Rep
DTSTAMP:20260421T004109
DTSTART;TZID=Europe/London:20230916T093000
DTEND;TZID=Europe/London:20230916T123000
SEQUENCE:0
TRANSP:OPAQUE
END:VEVENT
END:VCALENDAR