BEGIN:VCALENDAR
VERSION:2.0
PRODID:-//jEvents 2.0 for Joomla//EN
CALSCALE:GREGORIAN
METHOD:PUBLISH
BEGIN:VTIMEZONE
TZID:Europe/London
BEGIN:STANDARD
DTSTART:20221030T010000
RDATE:20230326T020000
TZOFFSETFROM:+0100
TZOFFSETTO:+0000
TZNAME:Europe/London GMT
END:STANDARD
BEGIN:STANDARD
DTSTART:20231029T010000
RDATE:20240331T020000
TZOFFSETFROM:+0100
TZOFFSETTO:+0000
TZNAME:Europe/London GMT
END:STANDARD
BEGIN:STANDARD
DTSTART:20241027T010000
RDATE:20250330T020000
TZOFFSETFROM:+0100
TZOFFSETTO:+0000
TZNAME:Europe/London GMT
END:STANDARD
BEGIN:STANDARD
DTSTART:20251026T010000
RDATE:20260329T020000
TZOFFSETFROM:+0100
TZOFFSETTO:+0000
TZNAME:Europe/London GMT
END:STANDARD
BEGIN:STANDARD
DTSTART:20261025T010000
RDATE:20270328T020000
TZOFFSETFROM:+0100
TZOFFSETTO:+0000
TZNAME:Europe/London GMT
END:STANDARD
BEGIN:STANDARD
DTSTART:20271031T010000
RDATE:20280326T020000
TZOFFSETFROM:+0100
TZOFFSETTO:+0000
TZNAME:Europe/London GMT
END:STANDARD
BEGIN:STANDARD
DTSTART:20281029T010000
RDATE:20290325T020000
TZOFFSETFROM:+0100
TZOFFSETTO:+0000
TZNAME:Europe/London GMT
END:STANDARD
BEGIN:STANDARD
DTSTART:20291028T010000
RDATE:20300331T020000
TZOFFSETFROM:+0100
TZOFFSETTO:+0000
TZNAME:Europe/London GMT
END:STANDARD
BEGIN:STANDARD
DTSTART:20301027T010000
RDATE:20310330T020000
TZOFFSETFROM:+0100
TZOFFSETTO:+0000
TZNAME:Europe/London GMT
END:STANDARD
BEGIN:DAYLIGHT
DTSTART:20220601T103000
RDATE:20221030T010000
TZOFFSETFROM:+0000
TZOFFSETTO:+0100
TZNAME:Europe/London BST
END:DAYLIGHT
BEGIN:DAYLIGHT
DTSTART:20230326T020000
RDATE:20231029T010000
TZOFFSETFROM:+0000
TZOFFSETTO:+0100
TZNAME:Europe/London BST
END:DAYLIGHT
BEGIN:DAYLIGHT
DTSTART:20240331T020000
RDATE:20241027T010000
TZOFFSETFROM:+0000
TZOFFSETTO:+0100
TZNAME:Europe/London BST
END:DAYLIGHT
BEGIN:DAYLIGHT
DTSTART:20250330T020000
RDATE:20251026T010000
TZOFFSETFROM:+0000
TZOFFSETTO:+0100
TZNAME:Europe/London BST
END:DAYLIGHT
BEGIN:DAYLIGHT
DTSTART:20260329T020000
RDATE:20261025T010000
TZOFFSETFROM:+0000
TZOFFSETTO:+0100
TZNAME:Europe/London BST
END:DAYLIGHT
BEGIN:DAYLIGHT
DTSTART:20270328T020000
RDATE:20271031T010000
TZOFFSETFROM:+0000
TZOFFSETTO:+0100
TZNAME:Europe/London BST
END:DAYLIGHT
BEGIN:DAYLIGHT
DTSTART:20280326T020000
RDATE:20281029T010000
TZOFFSETFROM:+0000
TZOFFSETTO:+0100
TZNAME:Europe/London BST
END:DAYLIGHT
BEGIN:DAYLIGHT
DTSTART:20290325T020000
RDATE:20291028T010000
TZOFFSETFROM:+0000
TZOFFSETTO:+0100
TZNAME:Europe/London BST
END:DAYLIGHT
BEGIN:DAYLIGHT
DTSTART:20300331T020000
RDATE:20301027T010000
TZOFFSETFROM:+0000
TZOFFSETTO:+0100
TZNAME:Europe/London BST
END:DAYLIGHT
END:VTIMEZONE
BEGIN:VEVENT
UID:98013cbc54ceebe70f48b07241dd6a5e
CATEGORIES:Young Ringers Event
CREATED:20230524T172903
SUMMARY:Young Ringers outing to Eastbourne
LOCATION:Eastbourne
URL;VALUE=URI:https://www.scacr.org/news-events/calendar/1136/young-ringers-outing-to-eas
 tbourne?tmpl=component
DESCRIPTION:A chance for young ringers of all ages and abilities to come together for r
 inging and cake! We'd be particularly happy to see the Sussex Alumni and an
 y ringers who haven't been able to join us recently. \nPlanned to be a simp
 le walk between towers: We meet at Eastbourne Train Station at 10.30 * Trai
 n strikes have slightly scuppered this but you get the idea!\nConfirmed tow
 ers: \nSt Mary's Old Town (8) 11-11.45\nAll Saints (8)  12.15-13.00\nLunch 
 (BYO)\nSt Saviours (10) 14.00-15.00\nChristchurch (8) 15.30-16.30 \nWe look
  forward to seeing you  - let us know if you can make it for all or part of
  the day - we need to supply sufficient cake and bring money for an ice cre
 am!\nTransport to and from Eastbourne may be available - Please email This 
 email address is being protected from spambots. You need JavaScript enabled
  to view it.
				document.getElementById('cloakc799bd15ded292c5cea1af1e932d
 71b6').innerHTML = '';
				var prefix = '&#109;a' + 'i&#108;' + '&#116;o';

 				var path = 'hr' + 'ef' + '=';
				var addyc799bd15ded292c5cea1af1e932d7
 1b6 = 'm&#97;r&#105;s&#97;' + '&#64;';
				addyc799bd15ded292c5cea1af1e932d
 71b6 = addyc799bd15ded292c5cea1af1e932d71b6 + 'h&#97;ppym&#111;&#117;fl&#11
 1;n' + '&#46;' + 'c&#111;m';
				var addy_textc799bd15ded292c5cea1af1e932d7
 1b6 = 'm&#97;r&#105;s&#97;' + '&#64;' + 'h&#97;ppym&#111;&#117;fl&#111;n' +
  '&#46;' + 'c&#111;m';document.getElementById('cloakc799bd15ded292c5cea1af1
 e932d71b6').innerHTML += '<a ' + path + '\'' + prefix + ':' + addyc799bd15d
 ed292c5cea1af1e932d71b6 + '\'>'+addy_textc799bd15ded292c5cea1af1e932d71b6+'
 ';
		 or  text 07796 145464 \n \n This event was imported from: https://www
 .scacr.org/news-events/calendar/1136/young-ringers-outing-to-eastbourne?tmp
 l=component (https://www.scacr.org/news-events/calendar/1136/young-ringers-
 outing-to-eastbourne?tmpl=component)
X-ALT-DESC;FMTTYPE=text/html:<p>A chance for young ringers of all ages and abilities to come together fo
 r ringing and cake! We'd be particularly happy to see the Sussex Alumni and
  any ringers who haven't been able to join us recently.&nbsp;</p><p>Planned
  to be a simple walk between towers: We meet at Eastbourne Train Station at
  10.30 * Train strikes have slightly scuppered this but you get the idea!</
 p><p>Confirmed towers:&nbsp;</p><p>St Mary's Old Town (8) 11-11.45</p><p>Al
 l Saints (8)&nbsp; 12.15-13.00</p><p>Lunch (BYO)</p><p>St Saviours (10) 14.
 00-15.00</p><p>Christchurch (8) 15.30-16.30&nbsp;</p><p>We look forward to 
 seeing you&nbsp; - let us know if you can make it for all or part of the da
 y - we need to supply sufficient cake and bring money for an ice cream!</p>
 <p>Transport to and from Eastbourne may be available - Please email <span i
 d="cloakc799bd15ded292c5cea1af1e932d71b6">This email address is being prote
 cted from spambots. You need JavaScript enabled to view it.</span><script t
 ype='text/javascript'>
				document.getElementById('cloakc799bd15ded292c5ce
 a1af1e932d71b6').innerHTML = '';
				var prefix = '&#109;a' + 'i&#108;' + '
 &#116;o';
				var path = 'hr' + 'ef' + '=';
				var addyc799bd15ded292c5cea
 1af1e932d71b6 = 'm&#97;r&#105;s&#97;' + '&#64;';
				addyc799bd15ded292c5ce
 a1af1e932d71b6 = addyc799bd15ded292c5cea1af1e932d71b6 + 'h&#97;ppym&#111;&#
 117;fl&#111;n' + '&#46;' + 'c&#111;m';
				var addy_textc799bd15ded292c5cea
 1af1e932d71b6 = 'm&#97;r&#105;s&#97;' + '&#64;' + 'h&#97;ppym&#111;&#117;fl
 &#111;n' + '&#46;' + 'c&#111;m';document.getElementById('cloakc799bd15ded29
 2c5cea1af1e932d71b6').innerHTML += '<a ' + path + '\'' + prefix + ':' + add
 yc799bd15ded292c5cea1af1e932d71b6 + '\'>'+addy_textc799bd15ded292c5cea1af1e
 932d71b6+'<\/a>';
		</script>&nbsp;or&nbsp; text 07796 145464&nbsp;</p><p>&
 nbsp;</p> <a href="https://www.scacr.org/news-events/calendar/1136/young-ri
 ngers-outing-to-eastbourne?tmpl=component">This event was imported from: ht
 tps://www.scacr.org/news-events/calendar/1136/young-ringers-outing-to-eastb
 ourne?tmpl=component</a>CONTACT:Marisa Hayes
DTSTAMP:20260419T200939
DTSTART;TZID=Europe/London:20230602T103000
DTEND;TZID=Europe/London:20230602T163000
SEQUENCE:0
TRANSP:OPAQUE
END:VEVENT
END:VCALENDAR