BEGIN:VCALENDAR
VERSION:2.0
PRODID:-//jEvents 2.0 for Joomla//EN
CALSCALE:GREGORIAN
METHOD:PUBLISH
BEGIN:VTIMEZONE
TZID:Europe/London
BEGIN:STANDARD
DTSTART:20221030T010000
RDATE:20230326T020000
TZOFFSETFROM:+0100
TZOFFSETTO:+0000
TZNAME:Europe/London GMT
END:STANDARD
BEGIN:STANDARD
DTSTART:20231029T010000
RDATE:20240331T020000
TZOFFSETFROM:+0100
TZOFFSETTO:+0000
TZNAME:Europe/London GMT
END:STANDARD
BEGIN:STANDARD
DTSTART:20241027T010000
RDATE:20250330T020000
TZOFFSETFROM:+0100
TZOFFSETTO:+0000
TZNAME:Europe/London GMT
END:STANDARD
BEGIN:STANDARD
DTSTART:20251026T010000
RDATE:20260329T020000
TZOFFSETFROM:+0100
TZOFFSETTO:+0000
TZNAME:Europe/London GMT
END:STANDARD
BEGIN:STANDARD
DTSTART:20261025T010000
RDATE:20270328T020000
TZOFFSETFROM:+0100
TZOFFSETTO:+0000
TZNAME:Europe/London GMT
END:STANDARD
BEGIN:STANDARD
DTSTART:20271031T010000
RDATE:20280326T020000
TZOFFSETFROM:+0100
TZOFFSETTO:+0000
TZNAME:Europe/London GMT
END:STANDARD
BEGIN:STANDARD
DTSTART:20281029T010000
RDATE:20290325T020000
TZOFFSETFROM:+0100
TZOFFSETTO:+0000
TZNAME:Europe/London GMT
END:STANDARD
BEGIN:STANDARD
DTSTART:20291028T010000
RDATE:20300331T020000
TZOFFSETFROM:+0100
TZOFFSETTO:+0000
TZNAME:Europe/London GMT
END:STANDARD
BEGIN:STANDARD
DTSTART:20301027T010000
RDATE:20310330T020000
TZOFFSETFROM:+0100
TZOFFSETTO:+0000
TZNAME:Europe/London GMT
END:STANDARD
BEGIN:DAYLIGHT
DTSTART:20220602T110000
RDATE:20221030T010000
TZOFFSETFROM:+0000
TZOFFSETTO:+0100
TZNAME:Europe/London BST
END:DAYLIGHT
BEGIN:DAYLIGHT
DTSTART:20230326T020000
RDATE:20231029T010000
TZOFFSETFROM:+0000
TZOFFSETTO:+0100
TZNAME:Europe/London BST
END:DAYLIGHT
BEGIN:DAYLIGHT
DTSTART:20240331T020000
RDATE:20241027T010000
TZOFFSETFROM:+0000
TZOFFSETTO:+0100
TZNAME:Europe/London BST
END:DAYLIGHT
BEGIN:DAYLIGHT
DTSTART:20250330T020000
RDATE:20251026T010000
TZOFFSETFROM:+0000
TZOFFSETTO:+0100
TZNAME:Europe/London BST
END:DAYLIGHT
BEGIN:DAYLIGHT
DTSTART:20260329T020000
RDATE:20261025T010000
TZOFFSETFROM:+0000
TZOFFSETTO:+0100
TZNAME:Europe/London BST
END:DAYLIGHT
BEGIN:DAYLIGHT
DTSTART:20270328T020000
RDATE:20271031T010000
TZOFFSETFROM:+0000
TZOFFSETTO:+0100
TZNAME:Europe/London BST
END:DAYLIGHT
BEGIN:DAYLIGHT
DTSTART:20280326T020000
RDATE:20281029T010000
TZOFFSETFROM:+0000
TZOFFSETTO:+0100
TZNAME:Europe/London BST
END:DAYLIGHT
BEGIN:DAYLIGHT
DTSTART:20290325T020000
RDATE:20291028T010000
TZOFFSETFROM:+0000
TZOFFSETTO:+0100
TZNAME:Europe/London BST
END:DAYLIGHT
BEGIN:DAYLIGHT
DTSTART:20300331T020000
RDATE:20301027T010000
TZOFFSETFROM:+0000
TZOFFSETTO:+0100
TZNAME:Europe/London BST
END:DAYLIGHT
END:VTIMEZONE
BEGIN:VEVENT
UID:4eb8eb5a5d224ae187ad7408dba2d4fa
CATEGORIES:North
CREATED:20230326T181419
SUMMARY:Mini-outing with pub lunch (or picnic)
LOCATION:Withyham\, Fairwarp &amp; Fletching
URL;VALUE=URI:https://www.scacr.org/news-events/calendar/1113/mini-outing-with-pub-lunch-
 or-picnic?tmpl=component
DESCRIPTION:<p>Mini-outing not too far from home, in the beautiful Ashdown Forest area.
 ..&nbsp; Ringing will be rounds onwards, all welcome!&nbsp; If you are a no
 vice ringer and haven't had much experience of ringing at other towers, you
  might like to come with your teacher/helper.</p><ul><li>11.00-11.45 am - r
 inging at <a href="towers/districts/north/147-withyham-st-michael-all-angel
 s">Withyham St Michael &amp; All Angels</a> (ground floor, 8 bells, 15 cwt;
  toilet available)</li><li>12.15-13.00 - ringing at <a href="towers/distric
 ts/north/54-fairwarp-christ-church">Fairwarp Christ Church</a> (8 bells, 15
  cwt; toilet available)</li><li>lunch break - picnic or pub or tea room (e.
 g&nbsp;the <a href="https://www.theforestersfairwarp.com/">Forester's Arms,
  Fairwarp </a>or <a href="https://www.duddleswelltearooms.co.uk/">Duddleswe
 ll Tea Rooms</a> - please book your own table)&nbsp;</li><li>14.45-15.30 - 
 ringing at <a href="towers/districts/north/59-fletching-st-andrew-and-st-ma
 ry-the-virgin">Fletching St Andrew &amp; St Mary the Virgin</a> (ground flo
 or, 8 bells, 10 cwt)</li></ul><p>Many thanks to Kye and Catherine for organ
 ising this event.</p> <a href="https://www.scacr.org/news-events/calendar/1
 113/mini-outing-with-pub-lunch-or-picnic?tmpl=component">This event was imp
 orted from: https://www.scacr.org/news-events/calendar/1113/mini-outing-wit
 h-pub-lunch-or-picnic?tmpl=component</a>
X-ALT-DESC;FMTTYPE=text/html:<p>Mini-outing not too far from home, in the beautiful Ashdown Forest area.
 ..&nbsp; Ringing will be rounds onwards, all welcome!&nbsp; If you are a no
 vice ringer and haven't had much experience of ringing at other towers, you
  might like to come with your teacher/helper.</p><ul><li>11.00-11.45 am - r
 inging at <a href="https://www.scacr.org/towers/districts/north/147-withyha
 m-st-michael-all-angels">Withyham St Michael &amp; All Angels</a> (ground f
 loor, 8 bells, 15 cwt; toilet available)</li><li>12.15-13.00 - ringing at <
 a href="https://www.scacr.org/towers/districts/north/54-fairwarp-christ-chu
 rch">Fairwarp Christ Church</a> (8 bells, 15 cwt; toilet available)</li><li
 >lunch break - picnic or pub or tea room (e.g&nbsp;the <a href="https://www
 .theforestersfairwarp.com/">Forester's Arms, Fairwarp </a>or <a href="https
 ://www.duddleswelltearooms.co.uk/">Duddleswell Tea Rooms</a> - please book 
 your own table)&nbsp;</li><li>14.45-15.30 - ringing at <a href="https://www
 .scacr.org/towers/districts/north/59-fletching-st-andrew-and-st-mary-the-vi
 rgin">Fletching St Andrew &amp; St Mary the Virgin</a> (ground floor, 8 bel
 ls, 10 cwt)</li></ul><p>Many thanks to Kye and Catherine for organising thi
 s event.</p> <a href="https://www.scacr.org/news-events/calendar/1113/mini-
 outing-with-pub-lunch-or-picnic?tmpl=component">This event was imported fro
 m: https://www.scacr.org/news-events/calendar/1113/mini-outing-with-pub-lun
 ch-or-picnic?tmpl=component</a>CONTACT:This email address is being protected from spambots. You need JavaScript enabled to view it.
				document.getElementById('cloakb9d1315df329215e52e22824ecb1ffb5').innerHTML = '';
				var prefix = '&#109;a' + 'i&#108;' + '&#116;o';
				var path = 'hr' + 'ef' + '=';
				var addyb9d1315df329215e52e22824ecb1ffb5 = 'n&#101;ws-n&#111;rth' + '&#64;';
				addyb9d1315df329215e52e22824ecb1ffb5 = addyb9d1315df329215e52e22824ecb1ffb5 + 'sc&#97;cr' + '&#46;' + '&#111;rg';
				var addy_textb9d1315df329215e52e22824ecb1ffb5 = 'n&#101;ws-n&#111;rth' + '&#64;' + 'sc&#97;cr' + '&#46;' + '&#111;rg';document.getElementById('cloakb9d1315df329215e52e22824ecb1ffb5').innerHTML += '<a ' + path + '\'' + prefix + ':' + addyb9d1315df329215e52e22824ecb1ffb5 + '\'>'+addy_textb9d1315df329215e52e22824ecb1ffb5+'';
		
DTSTAMP:20260419T165620
DTSTART;TZID=Europe/London:20230603T110000
DTEND;TZID=Europe/London:20230603T153000
SEQUENCE:0
TRANSP:OPAQUE
END:VEVENT
END:VCALENDAR