BEGIN:VCALENDAR
VERSION:2.0
PRODID:-//jEvents 2.0 for Joomla//EN
CALSCALE:GREGORIAN
METHOD:PUBLISH
BEGIN:VTIMEZONE
TZID:Europe/London
BEGIN:STANDARD
DTSTART:20221030T010000
RDATE:20230326T020000
TZOFFSETFROM:+0100
TZOFFSETTO:+0000
TZNAME:Europe/London GMT
END:STANDARD
BEGIN:STANDARD
DTSTART:20231029T010000
RDATE:20240331T020000
TZOFFSETFROM:+0100
TZOFFSETTO:+0000
TZNAME:Europe/London GMT
END:STANDARD
BEGIN:STANDARD
DTSTART:20241027T010000
RDATE:20250330T020000
TZOFFSETFROM:+0100
TZOFFSETTO:+0000
TZNAME:Europe/London GMT
END:STANDARD
BEGIN:STANDARD
DTSTART:20251026T010000
RDATE:20260329T020000
TZOFFSETFROM:+0100
TZOFFSETTO:+0000
TZNAME:Europe/London GMT
END:STANDARD
BEGIN:STANDARD
DTSTART:20261025T010000
RDATE:20270328T020000
TZOFFSETFROM:+0100
TZOFFSETTO:+0000
TZNAME:Europe/London GMT
END:STANDARD
BEGIN:STANDARD
DTSTART:20271031T010000
RDATE:20280326T020000
TZOFFSETFROM:+0100
TZOFFSETTO:+0000
TZNAME:Europe/London GMT
END:STANDARD
BEGIN:STANDARD
DTSTART:20281029T010000
RDATE:20290325T020000
TZOFFSETFROM:+0100
TZOFFSETTO:+0000
TZNAME:Europe/London GMT
END:STANDARD
BEGIN:STANDARD
DTSTART:20291028T010000
RDATE:20300331T020000
TZOFFSETFROM:+0100
TZOFFSETTO:+0000
TZNAME:Europe/London GMT
END:STANDARD
BEGIN:STANDARD
DTSTART:20301027T010000
RDATE:20310330T020000
TZOFFSETFROM:+0100
TZOFFSETTO:+0000
TZNAME:Europe/London GMT
END:STANDARD
BEGIN:DAYLIGHT
DTSTART:20220509T190000
RDATE:20221030T010000
TZOFFSETFROM:+0000
TZOFFSETTO:+0100
TZNAME:Europe/London BST
END:DAYLIGHT
BEGIN:DAYLIGHT
DTSTART:20230326T020000
RDATE:20231029T010000
TZOFFSETFROM:+0000
TZOFFSETTO:+0100
TZNAME:Europe/London BST
END:DAYLIGHT
BEGIN:DAYLIGHT
DTSTART:20240331T020000
RDATE:20241027T010000
TZOFFSETFROM:+0000
TZOFFSETTO:+0100
TZNAME:Europe/London BST
END:DAYLIGHT
BEGIN:DAYLIGHT
DTSTART:20250330T020000
RDATE:20251026T010000
TZOFFSETFROM:+0000
TZOFFSETTO:+0100
TZNAME:Europe/London BST
END:DAYLIGHT
BEGIN:DAYLIGHT
DTSTART:20260329T020000
RDATE:20261025T010000
TZOFFSETFROM:+0000
TZOFFSETTO:+0100
TZNAME:Europe/London BST
END:DAYLIGHT
BEGIN:DAYLIGHT
DTSTART:20270328T020000
RDATE:20271031T010000
TZOFFSETFROM:+0000
TZOFFSETTO:+0100
TZNAME:Europe/London BST
END:DAYLIGHT
BEGIN:DAYLIGHT
DTSTART:20280326T020000
RDATE:20281029T010000
TZOFFSETFROM:+0000
TZOFFSETTO:+0100
TZNAME:Europe/London BST
END:DAYLIGHT
BEGIN:DAYLIGHT
DTSTART:20290325T020000
RDATE:20291028T010000
TZOFFSETFROM:+0000
TZOFFSETTO:+0100
TZNAME:Europe/London BST
END:DAYLIGHT
BEGIN:DAYLIGHT
DTSTART:20300331T020000
RDATE:20301027T010000
TZOFFSETFROM:+0000
TZOFFSETTO:+0100
TZNAME:Europe/London BST
END:DAYLIGHT
END:VTIMEZONE
BEGIN:VEVENT
UID:7c0cf9d12dd3ca6a8414e2a5908a7cc4
CATEGORIES:East
CREATED:20230321T151654
SUMMARY:Doubles practice CANCELLED
LOCATION:Westham
URL;VALUE=URI:https://www.scacr.org/news-events/calendar/1111/doubles-practice-cancelled?
 tmpl=component
DESCRIPTION:Eastern district doubles practice. \nUNFORTNATELY CANCELLED DUE TO A BROKEN
  STAY   \nPlain hunting on 5 bells and doubles methods available, to suit t
 hose attending.\n This event was imported from: https://www.scacr.org/news-
 events/calendar/1111/doubles-practice-cancelled?tmpl=component (https://www
 .scacr.org/news-events/calendar/1111/doubles-practice-cancelled?tmpl=compon
 ent)
X-ALT-DESC;FMTTYPE=text/html:<p>Eastern district doubles practice.&nbsp;</p><p>UNFORTNATELY CANCELLED DU
 E TO A BROKEN STAY&nbsp; &nbsp;</p><p>Plain hunting on 5 bells and doubles 
 methods available, to suit those attending.</p> <a href="https://www.scacr.
 org/news-events/calendar/1111/doubles-practice-cancelled?tmpl=component">Th
 is event was imported from: https://www.scacr.org/news-events/calendar/1111
 /doubles-practice-cancelled?tmpl=component</a>CONTACT:This email address is being protected from spambots. You need JavaScript enabled to view it.
				document.getElementById('cloakf23084cdb3a6adf1de594e6d13db0cec').innerHTML = '';
				var prefix = '&#109;a' + 'i&#108;' + '&#116;o';
				var path = 'hr' + 'ef' + '=';
				var addyf23084cdb3a6adf1de594e6d13db0cec = 's&#101;c-&#101;&#97;st' + '&#64;';
				addyf23084cdb3a6adf1de594e6d13db0cec = addyf23084cdb3a6adf1de594e6d13db0cec + 'sc&#97;cr' + '&#46;' + '&#111;rg';
				var addy_textf23084cdb3a6adf1de594e6d13db0cec = 's&#101;c-&#101;&#97;st' + '&#64;' + 'sc&#97;cr' + '&#46;' + '&#111;rg';document.getElementById('cloakf23084cdb3a6adf1de594e6d13db0cec').innerHTML += '<a ' + path + '\'' + prefix + ':' + addyf23084cdb3a6adf1de594e6d13db0cec + '\'>'+addy_textf23084cdb3a6adf1de594e6d13db0cec+'';
		
DTSTAMP:20260419T131326
DTSTART;TZID=Europe/London:20230510T190000
DTEND;TZID=Europe/London:20230510T203000
SEQUENCE:0
TRANSP:OPAQUE
END:VEVENT
END:VCALENDAR