BEGIN:VCALENDAR
VERSION:2.0
PRODID:-//jEvents 2.0 for Joomla//EN
CALSCALE:GREGORIAN
METHOD:PUBLISH
BEGIN:VTIMEZONE
TZID:Europe/London
BEGIN:STANDARD
DTSTART:20221030T010000
RDATE:20230326T020000
TZOFFSETFROM:+0100
TZOFFSETTO:+0000
TZNAME:Europe/London GMT
END:STANDARD
BEGIN:STANDARD
DTSTART:20231029T010000
RDATE:20240331T020000
TZOFFSETFROM:+0100
TZOFFSETTO:+0000
TZNAME:Europe/London GMT
END:STANDARD
BEGIN:STANDARD
DTSTART:20241027T010000
RDATE:20250330T020000
TZOFFSETFROM:+0100
TZOFFSETTO:+0000
TZNAME:Europe/London GMT
END:STANDARD
BEGIN:STANDARD
DTSTART:20251026T010000
RDATE:20260329T020000
TZOFFSETFROM:+0100
TZOFFSETTO:+0000
TZNAME:Europe/London GMT
END:STANDARD
BEGIN:STANDARD
DTSTART:20261025T010000
RDATE:20270328T020000
TZOFFSETFROM:+0100
TZOFFSETTO:+0000
TZNAME:Europe/London GMT
END:STANDARD
BEGIN:STANDARD
DTSTART:20271031T010000
RDATE:20280326T020000
TZOFFSETFROM:+0100
TZOFFSETTO:+0000
TZNAME:Europe/London GMT
END:STANDARD
BEGIN:STANDARD
DTSTART:20281029T010000
RDATE:20290325T020000
TZOFFSETFROM:+0100
TZOFFSETTO:+0000
TZNAME:Europe/London GMT
END:STANDARD
BEGIN:STANDARD
DTSTART:20291028T010000
RDATE:20300331T020000
TZOFFSETFROM:+0100
TZOFFSETTO:+0000
TZNAME:Europe/London GMT
END:STANDARD
BEGIN:STANDARD
DTSTART:20301027T010000
RDATE:20310330T020000
TZOFFSETFROM:+0100
TZOFFSETTO:+0000
TZNAME:Europe/London GMT
END:STANDARD
BEGIN:DAYLIGHT
DTSTART:20220512T130000
RDATE:20221030T010000
TZOFFSETFROM:+0000
TZOFFSETTO:+0100
TZNAME:Europe/London BST
END:DAYLIGHT
BEGIN:DAYLIGHT
DTSTART:20230326T020000
RDATE:20231029T010000
TZOFFSETFROM:+0000
TZOFFSETTO:+0100
TZNAME:Europe/London BST
END:DAYLIGHT
BEGIN:DAYLIGHT
DTSTART:20240331T020000
RDATE:20241027T010000
TZOFFSETFROM:+0000
TZOFFSETTO:+0100
TZNAME:Europe/London BST
END:DAYLIGHT
BEGIN:DAYLIGHT
DTSTART:20250330T020000
RDATE:20251026T010000
TZOFFSETFROM:+0000
TZOFFSETTO:+0100
TZNAME:Europe/London BST
END:DAYLIGHT
BEGIN:DAYLIGHT
DTSTART:20260329T020000
RDATE:20261025T010000
TZOFFSETFROM:+0000
TZOFFSETTO:+0100
TZNAME:Europe/London BST
END:DAYLIGHT
BEGIN:DAYLIGHT
DTSTART:20270328T020000
RDATE:20271031T010000
TZOFFSETFROM:+0000
TZOFFSETTO:+0100
TZNAME:Europe/London BST
END:DAYLIGHT
BEGIN:DAYLIGHT
DTSTART:20280326T020000
RDATE:20281029T010000
TZOFFSETFROM:+0000
TZOFFSETTO:+0100
TZNAME:Europe/London BST
END:DAYLIGHT
BEGIN:DAYLIGHT
DTSTART:20290325T020000
RDATE:20291028T010000
TZOFFSETFROM:+0000
TZOFFSETTO:+0100
TZNAME:Europe/London BST
END:DAYLIGHT
BEGIN:DAYLIGHT
DTSTART:20300331T020000
RDATE:20301027T010000
TZOFFSETFROM:+0000
TZOFFSETTO:+0100
TZNAME:Europe/London BST
END:DAYLIGHT
END:VTIMEZONE
BEGIN:VEVENT
UID:23fc2b4c67cbf4ba4c750b90ec1cf04e
CATEGORIES:Association Event
CREATED:20230302T184620
SUMMARY:SCACR AGM
LOCATION:See below and attached poster
URL;VALUE=URI:https://www.scacr.org/news-events/calendar/1101/scacr-agm?tmpl=component
DESCRIPTION:<p>Everyone is welcome to join us in the West for the AGM!&nbsp; There will
  be the opportunity to ring at 3 towers, attend a service and then enjoy te
 a followed by the meeting.&nbsp; Please see poster attached for full detail
 s.</p><p>Ringing:</p><p>13.00 - 13.45 - St. Andrew's Tarring -&nbsp; 6 bell
 </p><p>13.45 - 14.30 - St Botolph's, Heene - 8 bell</p><p>14.30 15.30 - St 
 Mary's, Goring - 6 bell</p><p>Followed by a short church service at St Mary
 's and then tea and then the&nbsp; AGM in the hall next door to St. Mary's.
 </p><p>There will also be a raffle in aid of BRF and any prize donations wo
 uld be greatly appreciated.&nbsp; (just bring on the day!)</p><p>WATCH THIS
  SPACE for more details - the agenda and 2022 minutes will be uploaded!</p>
 <p>Look forward to seeing you there!</p><p>If you fancy a pub lunch prior t
 o the first ring - the George and Dragon is in Tarring (BN14 7NN) - look th
 em up on the website and it may be worth pre booking!</p><p><a href="/media
 /com_acymailing/upload/ANNUAL%20GENERAL%20MEETING%20poster%202023.pdf">[ Do
 wnload Poster ]</a></p> <a href="https://www.scacr.org/news-events/calendar
 /1101/scacr-agm?tmpl=component">This event was imported from: https://www.s
 cacr.org/news-events/calendar/1101/scacr-agm?tmpl=component</a>
X-ALT-DESC;FMTTYPE=text/html:<p>Everyone is welcome to join us in the West for the AGM!&nbsp; There will
  be the opportunity to ring at 3 towers, attend a service and then enjoy te
 a followed by the meeting.&nbsp; Please see poster attached for full detail
 s.</p><p>Ringing:</p><p>13.00 - 13.45 - St. Andrew's Tarring -&nbsp; 6 bell
 </p><p>13.45 - 14.30 - St Botolph's, Heene - 8 bell</p><p>14.30 15.30 - St 
 Mary's, Goring - 6 bell</p><p>Followed by a short church service at St Mary
 's and then tea and then the&nbsp; AGM in the hall next door to St. Mary's.
 </p><p>There will also be a raffle in aid of BRF and any prize donations wo
 uld be greatly appreciated.&nbsp; (just bring on the day!)</p><p>WATCH THIS
  SPACE for more details - the agenda and 2022 minutes will be uploaded!</p>
 <p>Look forward to seeing you there!</p><p>If you fancy a pub lunch prior t
 o the first ring - the George and Dragon is in Tarring (BN14 7NN) - look th
 em up on the website and it may be worth pre booking!</p><p><a href="https:
 //www.scacr.org/media/com_acymailing/upload/ANNUAL%20GENERAL%20MEETING%20po
 ster%202023.pdf">[ Download Poster ]</a></p> <a href="https://www.scacr.org
 /news-events/calendar/1101/scacr-agm?tmpl=component">This event was importe
 d from: https://www.scacr.org/news-events/calendar/1101/scacr-agm?tmpl=comp
 onent</a>CONTACT:This email address is being protected from spambots. You need JavaScript enabled to view it.
				document.getElementById('cloak60628ad865b350ad917f1052173649f9').innerHTML = '';
				var prefix = '&#109;a' + 'i&#108;' + '&#116;o';
				var path = 'hr' + 'ef' + '=';
				var addy60628ad865b350ad917f1052173649f9 = 's&#101;c-w&#101;st' + '&#64;';
				addy60628ad865b350ad917f1052173649f9 = addy60628ad865b350ad917f1052173649f9 + 'sc&#97;cr' + '&#46;' + '&#111;rg';
				var addy_text60628ad865b350ad917f1052173649f9 = 's&#101;c-w&#101;st' + '&#64;' + 'sc&#97;cr' + '&#46;' + '&#111;rg';document.getElementById('cloak60628ad865b350ad917f1052173649f9').innerHTML += '<a ' + path + '\'' + prefix + ':' + addy60628ad865b350ad917f1052173649f9 + '\'>'+addy_text60628ad865b350ad917f1052173649f9+'';
		
X-EXTRAINFO:Please contact Janice on 07890804339 by the end of day on the 10th May if y
 ou require tea! or e mail on This email address is being protected from spa
 mbots. You need JavaScript enabled to view it.
				document.getElementById(
 'cloakd6f3865cce7752854f114c2a30e7a2af').innerHTML = '';
				var prefix = '
 &#109;a' + 'i&#108;' + '&#116;o';
				var path = 'hr' + 'ef' + '=';
				var
  addyd6f3865cce7752854f114c2a30e7a2af = 's&#101;c-w&#101;st' + '&#64;';
			
 	addyd6f3865cce7752854f114c2a30e7a2af = addyd6f3865cce7752854f114c2a30e7a2a
 f + 'sc&#97;cr' + '&#46;' + '&#111;rg';
				var addy_textd6f3865cce7752854f
 114c2a30e7a2af = 's&#101;c-w&#101;st' + '&#64;' + 'sc&#97;cr' + '&#46;' + '
 &#111;rg';document.getElementById('cloakd6f3865cce7752854f114c2a30e7a2af').
 innerHTML += '<a ' + path + '\'' + prefix + ':' + addyd6f3865cce7752854f114
 c2a30e7a2af + '\'>'+addy_textd6f3865cce7752854f114c2a30e7a2af+'';
		
DTSTAMP:20260419T192948
DTSTART;TZID=Europe/London:20230513T130000
SEQUENCE:0
TRANSP:OPAQUE
END:VEVENT
END:VCALENDAR