BEGIN:VCALENDAR
VERSION:2.0
PRODID:-//jEvents 2.0 for Joomla//EN
CALSCALE:GREGORIAN
METHOD:PUBLISH
BEGIN:VTIMEZONE
TZID:Europe/London
BEGIN:STANDARD
DTSTART:20221030T010000
RDATE:20230326T020000
TZOFFSETFROM:+0100
TZOFFSETTO:+0000
TZNAME:Europe/London GMT
END:STANDARD
BEGIN:STANDARD
DTSTART:20231029T010000
RDATE:20240331T020000
TZOFFSETFROM:+0100
TZOFFSETTO:+0000
TZNAME:Europe/London GMT
END:STANDARD
BEGIN:STANDARD
DTSTART:20241027T010000
RDATE:20250330T020000
TZOFFSETFROM:+0100
TZOFFSETTO:+0000
TZNAME:Europe/London GMT
END:STANDARD
BEGIN:STANDARD
DTSTART:20251026T010000
RDATE:20260329T020000
TZOFFSETFROM:+0100
TZOFFSETTO:+0000
TZNAME:Europe/London GMT
END:STANDARD
BEGIN:STANDARD
DTSTART:20261025T010000
RDATE:20270328T020000
TZOFFSETFROM:+0100
TZOFFSETTO:+0000
TZNAME:Europe/London GMT
END:STANDARD
BEGIN:STANDARD
DTSTART:20271031T010000
RDATE:20280326T020000
TZOFFSETFROM:+0100
TZOFFSETTO:+0000
TZNAME:Europe/London GMT
END:STANDARD
BEGIN:STANDARD
DTSTART:20281029T010000
RDATE:20290325T020000
TZOFFSETFROM:+0100
TZOFFSETTO:+0000
TZNAME:Europe/London GMT
END:STANDARD
BEGIN:STANDARD
DTSTART:20291028T010000
RDATE:20300331T020000
TZOFFSETFROM:+0100
TZOFFSETTO:+0000
TZNAME:Europe/London GMT
END:STANDARD
BEGIN:STANDARD
DTSTART:20301027T010000
RDATE:20310330T020000
TZOFFSETFROM:+0100
TZOFFSETTO:+0000
TZNAME:Europe/London GMT
END:STANDARD
BEGIN:DAYLIGHT
DTSTART:20220421T101500
RDATE:20221030T010000
TZOFFSETFROM:+0000
TZOFFSETTO:+0100
TZNAME:Europe/London BST
END:DAYLIGHT
BEGIN:DAYLIGHT
DTSTART:20230326T020000
RDATE:20231029T010000
TZOFFSETFROM:+0000
TZOFFSETTO:+0100
TZNAME:Europe/London BST
END:DAYLIGHT
BEGIN:DAYLIGHT
DTSTART:20240331T020000
RDATE:20241027T010000
TZOFFSETFROM:+0000
TZOFFSETTO:+0100
TZNAME:Europe/London BST
END:DAYLIGHT
BEGIN:DAYLIGHT
DTSTART:20250330T020000
RDATE:20251026T010000
TZOFFSETFROM:+0000
TZOFFSETTO:+0100
TZNAME:Europe/London BST
END:DAYLIGHT
BEGIN:DAYLIGHT
DTSTART:20260329T020000
RDATE:20261025T010000
TZOFFSETFROM:+0000
TZOFFSETTO:+0100
TZNAME:Europe/London BST
END:DAYLIGHT
BEGIN:DAYLIGHT
DTSTART:20270328T020000
RDATE:20271031T010000
TZOFFSETFROM:+0000
TZOFFSETTO:+0100
TZNAME:Europe/London BST
END:DAYLIGHT
BEGIN:DAYLIGHT
DTSTART:20280326T020000
RDATE:20281029T010000
TZOFFSETFROM:+0000
TZOFFSETTO:+0100
TZNAME:Europe/London BST
END:DAYLIGHT
BEGIN:DAYLIGHT
DTSTART:20290325T020000
RDATE:20291028T010000
TZOFFSETFROM:+0000
TZOFFSETTO:+0100
TZNAME:Europe/London BST
END:DAYLIGHT
BEGIN:DAYLIGHT
DTSTART:20300331T020000
RDATE:20301027T010000
TZOFFSETFROM:+0000
TZOFFSETTO:+0100
TZNAME:Europe/London BST
END:DAYLIGHT
END:VTIMEZONE
BEGIN:VEVENT
UID:e1f36562491966f755ee17be01865efe
CATEGORIES:West
CREATED:20230219T132736
SUMMARY:Surprise Minor Practice
LOCATION:St Mary's Church\, Walberton
URL;VALUE=URI:https://www.scacr.org/news-events/calendar/1096/surprise-minor-practice?tmp
 l=component
DESCRIPTION:This is a regular monthly event giving ringers the opportunity to ring  met
 hods such as Plain courses and touches of Cambridge and Norwich and Plain c
 ourses of Beverley, London, Carlisle and Pure Treble Bob Hunt!!   Refreshme
 nts are provided.  Please contact This email address is being protected fro
 m spambots. You need JavaScript enabled to view it.
				document.getElement
 ById('cloakf523d2af7d1a4f597e1600baad9cbf97').innerHTML = '';
				var prefi
 x = '&#109;a' + 'i&#108;' + '&#116;o';
				var path = 'hr' + 'ef' + '=';
		
 		var addyf523d2af7d1a4f597e1600baad9cbf97 = 's&#101;c-w&#101;st' + '&#64;'
 ;
				addyf523d2af7d1a4f597e1600baad9cbf97 = addyf523d2af7d1a4f597e1600baad
 9cbf97 + 'sc&#97;cr' + '&#46;' + '&#111;rg';
				var addy_textf523d2af7d1a4
 f597e1600baad9cbf97 = 's&#101;c-w&#101;st' + '&#64;' + 'sc&#97;cr' + '&#46;
 ' + '&#111;rg';document.getElementById('cloakf523d2af7d1a4f597e1600baad9cbf
 97').innerHTML += '<a ' + path + '\'' + prefix + ':' + addyf523d2af7d1a4f59
 7e1600baad9cbf97 + '\'>'+addy_textf523d2af7d1a4f597e1600baad9cbf97+'';
		 i
 f you would like refreshments.\nThe 'method' this month will be 'Warkworth 
 Surprise Minor' - a copy of the blue line is attached to aid a little 'home
 work' beforehand if anyone woud like to give it a try!\n \n This event was 
 imported from: https://www.scacr.org/news-events/calendar/1096/surprise-min
 or-practice?tmpl=component (https://www.scacr.org/news-events/calendar/1096
 /surprise-minor-practice?tmpl=component)
X-ALT-DESC;FMTTYPE=text/html:<p>This is a regular monthly event giving ringers the opportunity to ring&n
 bsp; methods such as Plain courses and touches of Cambridge and Norwich and
  Plain courses of Beverley, London, Carlisle and Pure Treble Bob Hunt!!&nbs
 p; &nbsp;Refreshments are provided.&nbsp; Please contact <span id="cloakf52
 3d2af7d1a4f597e1600baad9cbf97">This email address is being protected from s
 pambots. You need JavaScript enabled to view it.</span><script type='text/j
 avascript'>
				document.getElementById('cloakf523d2af7d1a4f597e1600baad9cb
 f97').innerHTML = '';
				var prefix = '&#109;a' + 'i&#108;' + '&#116;o';
	
 			var path = 'hr' + 'ef' + '=';
				var addyf523d2af7d1a4f597e1600baad9cbf
 97 = 's&#101;c-w&#101;st' + '&#64;';
				addyf523d2af7d1a4f597e1600baad9cbf
 97 = addyf523d2af7d1a4f597e1600baad9cbf97 + 'sc&#97;cr' + '&#46;' + '&#111;
 rg';
				var addy_textf523d2af7d1a4f597e1600baad9cbf97 = 's&#101;c-w&#101;s
 t' + '&#64;' + 'sc&#97;cr' + '&#46;' + '&#111;rg';document.getElementById('
 cloakf523d2af7d1a4f597e1600baad9cbf97').innerHTML += '<a ' + path + '\'' + 
 prefix + ':' + addyf523d2af7d1a4f597e1600baad9cbf97 + '\'>'+addy_textf523d2
 af7d1a4f597e1600baad9cbf97+'<\/a>';
		</script>&nbsp;if you would like refr
 eshments.</p><p>The 'method' this month will be 'Warkworth Surprise Minor' 
 - a copy of the blue line is attached to aid a little 'homework' beforehand
  if anyone woud like to give it a try!</p><p>&nbsp;</p> <a href="https://ww
 w.scacr.org/news-events/calendar/1096/surprise-minor-practice?tmpl=componen
 t">This event was imported from: https://www.scacr.org/news-events/calendar
 /1096/surprise-minor-practice?tmpl=component</a>CONTACT:This email address is being protected from spambots. You need JavaScript enabled to view it.
				document.getElementById('cloak4e9b869209914e2fae5755696a42d483').innerHTML = '';
				var prefix = '&#109;a' + 'i&#108;' + '&#116;o';
				var path = 'hr' + 'ef' + '=';
				var addy4e9b869209914e2fae5755696a42d483 = 's&#101;c-w&#101;st' + '&#64;';
				addy4e9b869209914e2fae5755696a42d483 = addy4e9b869209914e2fae5755696a42d483 + 'sc&#97;cr' + '&#46;' + '&#111;rg';
				var addy_text4e9b869209914e2fae5755696a42d483 = 's&#101;c-w&#101;st' + '&#64;' + 'sc&#97;cr' + '&#46;' + '&#111;rg';document.getElementById('cloak4e9b869209914e2fae5755696a42d483').innerHTML += '<a ' + path + '\'' + prefix + ':' + addy4e9b869209914e2fae5755696a42d483 + '\'>'+addy_text4e9b869209914e2fae5755696a42d483+'';
		
DTSTAMP:20260419T161240
DTSTART;TZID=Europe/London:20230422T101500
DTEND;TZID=Europe/London:20230422T120000
SEQUENCE:0
TRANSP:OPAQUE
END:VEVENT
END:VCALENDAR